BEGIN:VCALENDAR
VERSION:2.0
PRODID:-//Casa do Consolador - ECPv6.15.17.1//NONSGML v1.0//EN
CALSCALE:GREGORIAN
METHOD:PUBLISH
X-ORIGINAL-URL:https://casadoconsolador.com.br
X-WR-CALDESC:Eventos para Casa do Consolador
REFRESH-INTERVAL;VALUE=DURATION:PT1H
X-Robots-Tag:noindex
X-PUBLISHED-TTL:PT1H
BEGIN:VTIMEZONE
TZID:America/Sao_Paulo
BEGIN:STANDARD
TZOFFSETFROM:-0300
TZOFFSETTO:-0300
TZNAME:-03
DTSTART:20240101T000000
END:STANDARD
END:VTIMEZONE
BEGIN:VEVENT
DTSTART;VALUE=DATE:20250421
DTEND;VALUE=DATE:20250422
DTSTAMP:20260424T044347
CREATED:20250420T232027Z
LAST-MODIFIED:20250424T163138Z
UID:3193-1745193600-1745279999@casadoconsolador.com.br
SUMMARY:FERIADO: Não haverá atendimento.
DESCRIPTION:Atenção: Devido ao feriado\, a Casa do Consolador estará fechada para atendimento. Fique atento para não perder a viagem. Voltamos na terça- feira com a programação normal.
URL:https://casadoconsolador.com.br/evento/feriado-nao-havera-atendimento/
END:VEVENT
END:VCALENDAR