BEGIN:VCALENDAR
VERSION:2.0
PRODID:-//Casa do Consolador - ECPv6.15.17.1//NONSGML v1.0//EN
CALSCALE:GREGORIAN
METHOD:PUBLISH
X-WR-CALNAME:Casa do Consolador
X-ORIGINAL-URL:https://casadoconsolador.com.br
X-WR-CALDESC:Eventos para Casa do Consolador
REFRESH-INTERVAL;VALUE=DURATION:PT1H
X-Robots-Tag:noindex
X-PUBLISHED-TTL:PT1H
BEGIN:VTIMEZONE
TZID:America/Sao_Paulo
BEGIN:STANDARD
TZOFFSETFROM:-0300
TZOFFSETTO:-0300
TZNAME:-03
DTSTART:20240101T000000
END:STANDARD
END:VTIMEZONE
BEGIN:VEVENT
DTSTART;TZID=America/Sao_Paulo:20250428T170000
DTEND;TZID=America/Sao_Paulo:20250428T200000
DTSTAMP:20260424T030811
CREATED:20250424T230216Z
LAST-MODIFIED:20250424T233217Z
UID:3208-1745859600-1745870400@casadoconsolador.com.br
SUMMARY:CONSULTA COM MESTRES ORIENTAIS E REIKI
DESCRIPTION:Consulta com os Mestres Orientais: Para uma pessoa por agendamento (Shell y Ann não ministra as consultas) – Pré agendamento é obrigatório. \n\n\n\n\n\n\n\n\n\n\n\n\nReiki: Atendimento por ordem de chegada\, sem agendamento. \n\n\n\nNo momento não estamos com trabalhos durante a tarde. Dia 05 de maio retornaremos os trabalhos nas tardes na segunda e terça feira.
URL:https://casadoconsolador.com.br/evento/consulta-com-mestres-orientais-e-reiki/
END:VEVENT
END:VCALENDAR