BEGIN:VCALENDAR
VERSION:2.0
PRODID:-//Casa do Consolador - ECPv6.15.17.1//NONSGML v1.0//EN
CALSCALE:GREGORIAN
METHOD:PUBLISH
X-WR-CALNAME:Casa do Consolador
X-ORIGINAL-URL:https://casadoconsolador.com.br
X-WR-CALDESC:Eventos para Casa do Consolador
REFRESH-INTERVAL;VALUE=DURATION:PT1H
X-Robots-Tag:noindex
X-PUBLISHED-TTL:PT1H
BEGIN:VTIMEZONE
TZID:America/Sao_Paulo
BEGIN:STANDARD
TZOFFSETFROM:-0300
TZOFFSETTO:-0300
TZNAME:-03
DTSTART:20240101T000000
END:STANDARD
END:VTIMEZONE
BEGIN:VEVENT
DTSTART;TZID=America/Sao_Paulo:20250503T130000
DTEND;TZID=America/Sao_Paulo:20250503T170000
DTSTAMP:20260424T030821
CREATED:20250425T215930Z
LAST-MODIFIED:20250425T215930Z
UID:3301-1746277200-1746291600@casadoconsolador.com.br
SUMMARY:CURSO APRENDIZES DA NOVA TERRA - PRESENCIAL
DESCRIPTION:CURSO SOMENTE PARA ALUNOS JÁ INSCRITOS – APRENDIZES DA NOVA TERRA \nO portão abre 13h e fecha as 14h para começo das aulas.
URL:https://casadoconsolador.com.br/evento/curso-aprendizes-da-nova-terra-presencial/
END:VEVENT
END:VCALENDAR