BEGIN:VCALENDAR
VERSION:2.0
PRODID:-//Casa do Consolador - ECPv6.15.17.1//NONSGML v1.0//EN
CALSCALE:GREGORIAN
METHOD:PUBLISH
X-ORIGINAL-URL:https://casadoconsolador.com.br
X-WR-CALDESC:Eventos para Casa do Consolador
REFRESH-INTERVAL;VALUE=DURATION:PT1H
X-Robots-Tag:noindex
X-PUBLISHED-TTL:PT1H
BEGIN:VTIMEZONE
TZID:America/Sao_Paulo
BEGIN:STANDARD
TZOFFSETFROM:-0300
TZOFFSETTO:-0300
TZNAME:-03
DTSTART:20240101T000000
END:STANDARD
END:VTIMEZONE
BEGIN:VEVENT
DTSTART;TZID=America/Sao_Paulo:20250929T140000
DTEND;TZID=America/Sao_Paulo:20250929T140000
DTSTAMP:20260423T201157
CREATED:20250426T010150Z
LAST-MODIFIED:20250930T003212Z
UID:3441-1759154400-1759154400@casadoconsolador.com.br
SUMMARY:Consulta para cirurgia com os ETs - CTD (equipe da Shell) E REIKI- TARDE E NOITE
DESCRIPTION:ATIVIDADES DE 2a FEIRA – REIKI – período da TARDE: \n14HS – REIKI DISTRIBUIÇÃO DE FICHAS\n15HS – INÍCIO EVANGELHO\n15:30 HS – REIKI \nATIVIDADES DE 2a FEIRA – CTD com ETs – período da NOITE: \n17HS – DISTRIBUIÇÃO DE FICHAS PARA OS ATENDIMENTOS. \n19HS – (QUINZENAL) CONSULTAS AGENDADAS CTD – questões de saúde \n19:30HS – INÍCIO DO EVANGELHO 20HS – CTD (QUINZENAL)\, FEIXE QUÂNTICO (QUINZENAL) e REIKI (SEMANAL) \n20:30HS – FEIXE QUÂNTICO (QUINZENAL) \nReiki: Atendimento por ordem de chegada\, sem agendamento.
URL:https://casadoconsolador.com.br/evento/consulta-com-mestres-orientais-e-reiki-tarde-e-noite-11/
END:VEVENT
END:VCALENDAR