BEGIN:VCALENDAR
VERSION:2.0
PRODID:-//Casa do Consolador - ECPv6.15.17.1//NONSGML v1.0//EN
CALSCALE:GREGORIAN
METHOD:PUBLISH
X-WR-CALNAME:Casa do Consolador
X-ORIGINAL-URL:https://casadoconsolador.com.br
X-WR-CALDESC:Eventos para Casa do Consolador
REFRESH-INTERVAL;VALUE=DURATION:PT1H
X-Robots-Tag:noindex
X-PUBLISHED-TTL:PT1H
BEGIN:VTIMEZONE
TZID:America/Sao_Paulo
BEGIN:STANDARD
TZOFFSETFROM:-0300
TZOFFSETTO:-0300
TZNAME:-03
DTSTART:20240101T000000
END:STANDARD
END:VTIMEZONE
BEGIN:VEVENT
DTSTART;TZID=America/Sao_Paulo:20250930T140000
DTEND;TZID=America/Sao_Paulo:20250930T140000
DTSTAMP:20260423T201046
CREATED:20250426T010008Z
LAST-MODIFIED:20250715T142909Z
UID:3433-1759240800-1759240800@casadoconsolador.com.br
SUMMARY:CORRENTE DO DR. ESPANHOL E CROMOTERAPIA - TARDE E NOITE
DESCRIPTION:ATIVIDADES DE 3a FEIRA – CROMOTERAPIA – período da tarde:\n14HS – DISTRIBUIÇÃO DE FICHAS\n15HS – INÍCIO EVANGELHO\n15:30 HS – PASSE\n15:30 HS – APLICAÇÃO DE CROMOTERAPIA (só para quem já tem o tratamento prescrito) \nATIVIDADES DE 3a FEIRA – DR. ESPANHOL e CROMOTERAPIA – período da NOITE: \n17 HS – DISTRIBUIÇÃO DE FICHAS PARA A NOITE \n18:30 HS – ATENDIMENTO ESPANHOL PCDs \n19:30 HS – INÍCIO DO EVANGELHO \n19:30 HS – INÍCIO DAS CIRURGIAS PRESENCIAIS COM DR. ESPANHOL\n20 HS – PASSE \n20 HS – ATENDIMENTO CROMOTERAPIA (somente para quem já tem o tratamento prescrito ou já recebeu a devolução da consulta PCD) \nPré agendamento é obrigatório para consultas. \nCromoterapia: APENAS para as pessoas que receberam um encaminhamento pelos Guias da Casa.\nPara residentes da cidade de São Paulo – Sem agendamento.
URL:https://casadoconsolador.com.br/evento/corrente-do-dr-espanhol-e-cromoterapia-tarde-e-noite-11/
END:VEVENT
END:VCALENDAR