BEGIN:VCALENDAR
VERSION:2.0
PRODID:-//Casa do Consolador - ECPv6.15.17.1//NONSGML v1.0//EN
CALSCALE:GREGORIAN
METHOD:PUBLISH
X-WR-CALNAME:Casa do Consolador
X-ORIGINAL-URL:https://casadoconsolador.com.br
X-WR-CALDESC:Eventos para Casa do Consolador
REFRESH-INTERVAL;VALUE=DURATION:PT1H
X-Robots-Tag:noindex
X-PUBLISHED-TTL:PT1H
BEGIN:VTIMEZONE
TZID:America/Sao_Paulo
BEGIN:STANDARD
TZOFFSETFROM:-0300
TZOFFSETTO:-0300
TZNAME:-03
DTSTART:20240101T000000
END:STANDARD
END:VTIMEZONE
BEGIN:VEVENT
DTSTART;TZID=America/Sao_Paulo:20251006T140000
DTEND;TZID=America/Sao_Paulo:20251006T140000
DTSTAMP:20260423T201026
CREATED:20250426T020415Z
LAST-MODIFIED:20251005T000646Z
UID:3479-1759759200-1759759200@casadoconsolador.com.br
SUMMARY:CONSULTA COM MESTRES ORIENTAIS - NOITE / REIKI - NOITE E TARDE
DESCRIPTION:ATIVIDADES DE 2a FEIRA – REIKI(Apenas quem já passou em consulta) – período da TARDE: \n14HS – REIKI DISTRIBUIÇÃO DE FICHAS\n15HS – INÍCIO EVANGELHO\n15:30 HS – REIKI \nATIVIDADES DE 2a FEIRA  CONSULTA COM OS MESTRES ORIENTAIS – período da NOITE: \n17HS – DISTRIBUIÇÃO DE FICHAS PARA OS ATENDIMENTOS. FICHAS PARA CONSULTA ATÉ ÁS 19:30HS \n19:30HS – INÍCIO DO EVANGELHO. \n20HS – (QUINZENAL) CONSULTA COM MESTRES ORIENTAIS – questões emocionais \n20:00HS – FEIXE QUÂNTICO (QUINZENAL)\n20:00HS – REIKI (SEMANAL) \nConsulta com os Mestres Orientais: Não é necessário  pré agendamento. \nReiki: Atendimento por ordem de chegada\, sem agendamento.
URL:https://casadoconsolador.com.br/evento/consulta-com-mestres-orientais-e-reiki-tarde-e-noite-12/
END:VEVENT
END:VCALENDAR