BEGIN:VCALENDAR
VERSION:2.0
PRODID:-//Casa do Consolador - ECPv6.15.17.1//NONSGML v1.0//EN
CALSCALE:GREGORIAN
METHOD:PUBLISH
X-ORIGINAL-URL:https://casadoconsolador.com.br
X-WR-CALDESC:Eventos para Casa do Consolador
REFRESH-INTERVAL;VALUE=DURATION:PT1H
X-Robots-Tag:noindex
X-PUBLISHED-TTL:PT1H
BEGIN:VTIMEZONE
TZID:America/Sao_Paulo
BEGIN:STANDARD
TZOFFSETFROM:-0300
TZOFFSETTO:-0300
TZNAME:-03
DTSTART:20240101T000000
END:STANDARD
END:VTIMEZONE
BEGIN:VEVENT
DTSTART;TZID=America/Sao_Paulo:20251013T140000
DTEND;TZID=America/Sao_Paulo:20251013T140000
DTSTAMP:20260423T201157
CREATED:20250426T020439Z
LAST-MODIFIED:20251005T011021Z
UID:3481-1760364000-1760364000@casadoconsolador.com.br
SUMMARY:CONSULTA COM OS ETS (EQUIPE DA SHELL Y ANN- CTD) - SAÚDE FÍSICA E EMOCIONAL (Apenas quem mora na Grande São Paulo)- NOITE | REIKI - TARDE E NOITE
DESCRIPTION:ATIVIDADES DE 2a FEIRA – REIKI – período da TARDE: \n14h – REIKI DISTRIBUIÇÃO DE FICHAS\n15h – INÍCIO EVANGELHO\n15h30 – REIKI \nATIVIDADES DE 2a FEIRA – CONSULTA EQUIPE DA SHELL Y ANN(QUINZENAL) – CTD(QUINZENAL) – REIKI (SEMANAL)  – período da NOITE: \n17h – DISTRIBUIÇÃO DE FICHAS PARA OS ATENDIMENTOS. (Entrega das fichas para consulta até ás 18h15) \n18h30 – CONSULTA COM OS ETS (EQUIPE DA SHELL Y ANN-CTD ) ( QUINZENAL) -questões de saúde. \n19h00 -CTD (QUINZENAL) \n19h30 – INÍCIO DO EVANGELHO. \n20h –  FEIXE QUÂNTICO (QUINZENAL) \n20h – REIKI (SEMANAL) \n20h30 – FEIXE QUÂNTICO (QUINZENAL) \nConsulta: EQUIPE DA SHELL Y ANN – CTD (quinzenal) Atendimento por ordem de chegada\, sem agendamento até as 18:15. \nReiki: Atendimento por ordem de chegada\, sem agendamento.
URL:https://casadoconsolador.com.br/evento/consulta-com-mestres-orientais-e-reiki-tarde-e-noite-13/
END:VEVENT
END:VCALENDAR