BEGIN:VCALENDAR
VERSION:2.0
PRODID:-//Casa do Consolador - ECPv6.15.17.1//NONSGML v1.0//EN
CALSCALE:GREGORIAN
METHOD:PUBLISH
X-ORIGINAL-URL:https://casadoconsolador.com.br
X-WR-CALDESC:Eventos para Casa do Consolador
REFRESH-INTERVAL;VALUE=DURATION:PT1H
X-Robots-Tag:noindex
X-PUBLISHED-TTL:PT1H
BEGIN:VTIMEZONE
TZID:America/Sao_Paulo
BEGIN:STANDARD
TZOFFSETFROM:-0300
TZOFFSETTO:-0300
TZNAME:-03
DTSTART:20240101T000000
END:STANDARD
END:VTIMEZONE
BEGIN:VEVENT
DTSTART;TZID=America/Sao_Paulo:20251125T140000
DTEND;TZID=America/Sao_Paulo:20251125T140000
DTSTAMP:20260423T185813
CREATED:20250426T022131Z
LAST-MODIFIED:20251121T213702Z
UID:3526-1764079200-1764079200@casadoconsolador.com.br
SUMMARY:CORRENTE DO DR. ESPANHOL (NOITE)  / CROMOTERAPIA – (TARDE E NOITE)
DESCRIPTION:ATIVIDADES DE 3a FEIRA – CROMOTERAPIA – período da tarde: \n14:00 – DISTRIBUIÇÃO DE FICHAS\n15:00 – INÍCIO EVANGELHO\n15:30 – PASSE\n15:30  – APLICAÇÃO DE CROMOTERAPIA (somente para quem já tem o tratamento prescrito) \nATIVIDADES DE 3a FEIRA – DR. ESPANHOL e CROMOTERAPIA – período da NOITE: \n• DAS 17:00 ÀS 18:00hrs – Distribuição de Fichas – Consulta com o Dr. Espanhol                                                                                  CIRURGIA DR ESPANHOL – Estar na Casa até às 19:30hrs (SOMENTE PARA QUEM JÁ PASSOU EM CONSULTA) \n• DAS 17:00 ÀS 18:00hrs – Distribuição de Fichas – Consulta com o Dr. Espanhol                                                                           CIRURGIA DR ESPANHOL – Estar na Casa até às 19:30hrs (SOMENTE PARA QUEM JÁ PASSOU EM CONSULTA) \n17:00  –ABERTURA DA CASA E  DISTRIBUIÇÃO DE FICHAS \n17:00 ÀS 18:00 – ATENDIMENTO DR. ESPANHOL PCDs (NÃO É NECESSÁRIO AGENDAMENTO) \n19:30  – INÍCIO DO EVANGELHO \n20:00  – PASSE \n20:00 – ATENDIMENTO CROMOTERAPIA (somente para quem já tem o tratamento prescrito) \n20:00 – CIRURGIAS COM EQUIPE DO DR. ESPANHOL – ENTREGA DE FICHAS ATÉ 19:30 (somente para quem já passou em consulta e tem a cirurgia presencial) \n 
URL:https://casadoconsolador.com.br/evento/corrente-do-dr-espanhol-e-cromoterapia-tarde-e-noite-19/
END:VEVENT
END:VCALENDAR