BEGIN:VCALENDAR
VERSION:2.0
PRODID:-//Casa do Consolador - ECPv6.15.17.1//NONSGML v1.0//EN
CALSCALE:GREGORIAN
METHOD:PUBLISH
X-WR-CALNAME:Casa do Consolador
X-ORIGINAL-URL:https://casadoconsolador.com.br
X-WR-CALDESC:Eventos para Casa do Consolador
REFRESH-INTERVAL;VALUE=DURATION:PT1H
X-Robots-Tag:noindex
X-PUBLISHED-TTL:PT1H
BEGIN:VTIMEZONE
TZID:America/Sao_Paulo
BEGIN:STANDARD
TZOFFSETFROM:-0300
TZOFFSETTO:-0300
TZNAME:-03
DTSTART:20240101T000000
END:STANDARD
END:VTIMEZONE
BEGIN:VEVENT
DTSTART;TZID=America/Sao_Paulo:20251208T170000
DTEND;TZID=America/Sao_Paulo:20251208T200000
DTSTAMP:20260423T173821
CREATED:20250426T023228Z
LAST-MODIFIED:20251121T215151Z
UID:3554-1765213200-1765224000@casadoconsolador.com.br
SUMMARY:SEMANA ESPÍRITA- PALESTRA SHELL Y ANN
DESCRIPTION:Semana Consolador 2025 \nDe 08 a 11 de dezembro\, a Casa do Consolador abre suas portas para uma semana de palestras mais que especial\, conduzida pelos principais mentores da casa. Será o grande fechamento dos trabalhos de 2025\, um momento de aprendizado\, inspiração e conexão. \nAs inscrições já estão abertas\, mas atenção: são vagas limitadas! \nDias: 08 a 11 de dezembro\nLocal: Casa do Consolador\nHorário: a partir das 17:00\, sendo a abertura as 19:30 e a palestra às 20:00 \nDia 08/12 – Shell Y Ann\nDia 09/12 – Dr Espanhol\nDia 10/12 – Veludo\nDia 11/12 – Tupã \nGaranta já sua participação e venha compartilhar conosco esse encontro especial.\nMas corre porque as vagas são limitadas\, inscreva-se e reserve logo o seu lugar! \nInscrições – Semana Casa do Consolador \n \nCaso não consiga abrir o link nesta postagem\, você encontrará o link na BIO ou no Site da Casa do Consolador.
URL:https://casadoconsolador.com.br/evento/consulta-com-mestres-orientais-e-reiki-tarde-e-noite-21/
END:VEVENT
END:VCALENDAR