BEGIN:VCALENDAR
VERSION:2.0
PRODID:-//Casa do Consolador - ECPv6.15.17.1//NONSGML v1.0//EN
CALSCALE:GREGORIAN
METHOD:PUBLISH
X-WR-CALNAME:Casa do Consolador
X-ORIGINAL-URL:https://casadoconsolador.com.br
X-WR-CALDESC:Eventos para Casa do Consolador
REFRESH-INTERVAL;VALUE=DURATION:PT1H
X-Robots-Tag:noindex
X-PUBLISHED-TTL:PT1H
BEGIN:VTIMEZONE
TZID:America/Sao_Paulo
BEGIN:STANDARD
TZOFFSETFROM:-0300
TZOFFSETTO:-0300
TZNAME:-03
DTSTART:20250101T000000
END:STANDARD
END:VTIMEZONE
BEGIN:VEVENT
DTSTART;VALUE=DATE:20260217
DTEND;VALUE=DATE:20260218
DTSTAMP:20260423T143951
CREATED:20260103T014650Z
LAST-MODIFIED:20260129T160724Z
UID:4147-1771286400-1771372799@casadoconsolador.com.br
SUMMARY:NÃO HAVERÁ ATENDIMENTOS - FERIADO
DESCRIPTION:NÃO HAVERÁ ATENDIMENTOS – FERIADO
URL:https://casadoconsolador.com.br/evento/corrente-do-dr-espanhol-e-cromoterapia-tarde-e-noite-26/
END:VEVENT
END:VCALENDAR