BEGIN:VCALENDAR
VERSION:2.0
PRODID:-//Casa do Consolador - ECPv6.15.17.1//NONSGML v1.0//EN
CALSCALE:GREGORIAN
METHOD:PUBLISH
X-WR-CALNAME:Casa do Consolador
X-ORIGINAL-URL:https://casadoconsolador.com.br
X-WR-CALDESC:Eventos para Casa do Consolador
REFRESH-INTERVAL;VALUE=DURATION:PT1H
X-Robots-Tag:noindex
X-PUBLISHED-TTL:PT1H
BEGIN:VTIMEZONE
TZID:America/Sao_Paulo
BEGIN:STANDARD
TZOFFSETFROM:-0300
TZOFFSETTO:-0300
TZNAME:-03
DTSTART:20250101T000000
END:STANDARD
END:VTIMEZONE
BEGIN:VEVENT
DTSTART;TZID=America/Sao_Paulo:20260323T140000
DTEND;TZID=America/Sao_Paulo:20260323T200000
DTSTAMP:20260423T131938
CREATED:20260103T023211Z
LAST-MODIFIED:20260227T005319Z
UID:4200-1774274400-1774296000@casadoconsolador.com.br
SUMMARY:CONSULTA COM MESTRES ORIENTAIS – (NOITE)  / REIKI – (TARDE E NOITE) (Apenas quem mora na Grande São Paulo)
DESCRIPTION:  \nATIVIDADES DE 2a FEIRA – REIKI (Apenas quem já passou em consulta) – período da TARDE: \n14:00 – REIKI DISTRIBUIÇÃO DE FICHAS\n14:30 – INÍCIO EVANGELHO\n15:00  – REIKI \nATIVIDADES DE 2a FEIRA  CONSULTA COM OS MESTRES ORIENTAIS – período da NOITE: \n17:00 – ABERTURA DA CASA E DISTRIBUIÇÃO DE FICHAS \n17:00 ÁS 19:30 – ENTREGA DE FICHAS -CONSULTA COM OS MESTRES ORIENTAIS – QUESTÕES SAUDE EMOCIONAL. (NÃO PRECISA DE AGENDAMENTO)CONSULTA COM MESTRES ORIENTAIS – (NOITE) / REIKI – (TARDE E NOITE) (Apenas quem mora na Grande São Paulo) \n19:30 – INÍCIO DO EVANGELHO. \n20:00 – FEIXE QUÂNTICO (QUINZENAL)\n20:00 – REIKI (SEMANAL) \n 
URL:https://casadoconsolador.com.br/evento/consulta-com-mestres-orientais-noite-reiki-tarde-e-noite-apenas-quem-mora-na-grande-sao-paulo-10/
END:VEVENT
END:VCALENDAR