BEGIN:VCALENDAR
VERSION:2.0
PRODID:-//Casa do Consolador - ECPv6.15.17.1//NONSGML v1.0//EN
CALSCALE:GREGORIAN
METHOD:PUBLISH
X-WR-CALNAME:Casa do Consolador
X-ORIGINAL-URL:https://casadoconsolador.com.br
X-WR-CALDESC:Eventos para Casa do Consolador
REFRESH-INTERVAL;VALUE=DURATION:PT1H
X-Robots-Tag:noindex
X-PUBLISHED-TTL:PT1H
BEGIN:VTIMEZONE
TZID:America/Sao_Paulo
BEGIN:STANDARD
TZOFFSETFROM:-0300
TZOFFSETTO:-0300
TZNAME:-03
DTSTART:20250101T000000
END:STANDARD
END:VTIMEZONE
BEGIN:VEVENT
DTSTART;TZID=America/Sao_Paulo:20260202T140000
DTEND;TZID=America/Sao_Paulo:20260202T200000
DTSTAMP:20260423T160953
CREATED:20260103T003928Z
LAST-MODIFIED:20260119T203447Z
UID:4099-1770040800-1770062400@casadoconsolador.com.br
SUMMARY:CONSULTA COM EQUIPE SHELL Y ANN – (NOITE)  / REIKI – (TARDE E NOITE) (Apenas quem mora na Grande São Paulo)
DESCRIPTION:ATIVIDADES DE 2a FEIRA – REIKI (Apenas quem já passou em consulta) – período da TARDE: \n14:00 – REIKI DISTRIBUIÇÃO DE FICHAS\n15:00 – INÍCIO EVANGELHO\n15:30  – REIKI \nATIVIDADES DE 2a FEIRA  CONSULTA COM EQUIPE SHELL Y ANN– período da NOITE: \n17:00 – ABERTURA DA CASA E DISTRIBUIÇÃO DE FICHAS \n19:30 – INÍCIO DO EVANGELHO. \n20:00 – FEIXE QUÂNTICO (QUINZENAL)\n20:00 – REIKI (SEMANAL) \n  \n. DAS 17:00 ÀS 18:30hr – Distribuição de Fichas – Consulta com Equipe Shell y Ann:  –  Questões Física e Emocional \n. Cirurgia com os Ets – Equipe Shell y Ann (CTD): Estar na Casa até às 19:00hr (SOMENTE PARA QUEM JÁ PASSOU EM CONSULTA) \n  \n 
URL:https://casadoconsolador.com.br/evento/consulta-com-mestres-orientais-noite-reiki-tarde-e-noite-apenas-quem-mora-na-grande-sao-paulo-3/
END:VEVENT
BEGIN:VEVENT
DTSTART;TZID=America/Sao_Paulo:20260203T140000
DTEND;TZID=America/Sao_Paulo:20260203T200000
DTSTAMP:20260423T160953
CREATED:20260103T004113Z
LAST-MODIFIED:20260103T004113Z
UID:4103-1770127200-1770148800@casadoconsolador.com.br
SUMMARY:CORRENTE DO DR. ESPANHOL E CROMOTERAPIA - TARDE E NOITE
DESCRIPTION:Corrente do Dr. Espanhol: Chegar às 17h00 para o preparo antes do evangelho – Pré agendamento é obrigatório. \n\nDAS 17:00 ÀS 18:00hrs – Distribuição de Fichas – Consulta com o Dr. Espanhol\nCIRURGIA DR ESPANHOL – Estar na Casa até às 19:30hrs (SOMENTE PARA QUEM JÁ PASSOU EM CONSULTA)\n\nCromoterapia: APENAS para as pessoas que receberam um encaminhamento pelos Guias da Casa.\nPara residentes da cidade de São Paulo. Período da tarde  (14H)  e período noturno (17H)  para Cromoterapia\, sem agendamento. \n 
URL:https://casadoconsolador.com.br/evento/corrente-do-dr-espanhol-e-cromoterapia-tarde-e-noite-24/
END:VEVENT
BEGIN:VEVENT
DTSTART;TZID=America/Sao_Paulo:20260204T170000
DTEND;TZID=America/Sao_Paulo:20260204T200000
DTSTAMP:20260423T160953
CREATED:20260103T004245Z
LAST-MODIFIED:20260103T004245Z
UID:4105-1770224400-1770235200@casadoconsolador.com.br
SUMMARY:XAMANISMO
DESCRIPTION:Quartas-feiras das 17h00 até 20h\, com palestra às 19h. Atendimento individual por ordem de chegada\, sem agendamento.\nRoda de cura: Acontece na 4ª quarta-feira de cada mês. Para a Roda de cura\, trazer colchonete ou algo confortável para sentar. \n 
URL:https://casadoconsolador.com.br/evento/xamanismo-36/
END:VEVENT
BEGIN:VEVENT
DTSTART;TZID=America/Sao_Paulo:20260205T170000
DTEND;TZID=America/Sao_Paulo:20260205T200000
DTSTAMP:20260423T160953
CREATED:20260103T004332Z
LAST-MODIFIED:20260103T004332Z
UID:4107-1770310800-1770321600@casadoconsolador.com.br
SUMMARY:UMBANDA
DESCRIPTION:ATIVIDADES DE 5a FEIRA – UMBANDA – período da NOITE:\n17 HS – ABERTURA DA CASA E DISTRIBUIÇÃO DE FICHAS PARA A NOITE – a distribuição será por ordem de chegada até às 20 HS \n19:30 HS – RITUAL DE ABERTURA \nQuintas-feiras das 17h. Para tomar passe e consulta com os guias – Por ordem de chegada\, sem agendamento.
URL:https://casadoconsolador.com.br/evento/umbanda-34/
END:VEVENT
BEGIN:VEVENT
DTSTART;TZID=America/Sao_Paulo:20260207T130000
DTEND;TZID=America/Sao_Paulo:20260207T170000
DTSTAMP:20260423T160953
CREATED:20260103T004639Z
LAST-MODIFIED:20260103T004639Z
UID:4109-1770469200-1770483600@casadoconsolador.com.br
SUMMARY:CURSO APRENDIZES DA NOVA TERRA – PRESENCIAL
DESCRIPTION:CURSO SOMENTE PARA ALUNOS JÁ INSCRITOS – APRENDIZES DA NOVA TERRA \nO portão abre 13h e fecha as 14h para começo das aulas. \n1º E 3º SÁBADO \n 
URL:https://casadoconsolador.com.br/evento/curso-aprendizes-da-nova-terra-presencial-16/
END:VEVENT
BEGIN:VEVENT
DTSTART;TZID=America/Sao_Paulo:20260209T140000
DTEND;TZID=America/Sao_Paulo:20260209T200000
DTSTAMP:20260423T160953
CREATED:20260103T010151Z
LAST-MODIFIED:20260103T010151Z
UID:4111-1770645600-1770667200@casadoconsolador.com.br
SUMMARY:CONSULTA COM MESTRES ORIENTAIS – (NOITE)  / REIKI – (TARDE E NOITE) (Apenas quem mora na Grande São Paulo)
DESCRIPTION:ATIVIDADES DE 2a FEIRA – REIKI (Apenas quem já passou em consulta) – período da TARDE: \n14:00 – REIKI DISTRIBUIÇÃO DE FICHAS\n15:00 – INÍCIO EVANGELHO\n15:30  – REIKI \nATIVIDADES DE 2a FEIRA  CONSULTA COM OS MESTRES ORIENTAIS – período da NOITE: \n17:00 – ABERTURA DA CASA E DISTRIBUIÇÃO DE FICHAS \n17:00 ÁS 19:30 – ENTREGA DE FICHAS -CONSULTA COM OS MESTRES ORIENTAIS – QUESTÕES SAUDE EMOCIONAL. (NÃO PRECISA DE AGENDAMENTO)CONSULTA COM MESTRES ORIENTAIS – (NOITE) / REIKI – (TARDE E NOITE) (Apenas quem mora na Grande São Paulo) \n19:30 – INÍCIO DO EVANGELHO. \n20:00 – FEIXE QUÂNTICO (QUINZENAL)\n20:00 – REIKI (SEMANAL)
URL:https://casadoconsolador.com.br/evento/consulta-com-mestres-orientais-noite-reiki-tarde-e-noite-apenas-quem-mora-na-grande-sao-paulo-4/
END:VEVENT
BEGIN:VEVENT
DTSTART;TZID=America/Sao_Paulo:20260210T140000
DTEND;TZID=America/Sao_Paulo:20260210T200000
DTSTAMP:20260423T160953
CREATED:20260103T010236Z
LAST-MODIFIED:20260103T010236Z
UID:4114-1770732000-1770753600@casadoconsolador.com.br
SUMMARY:CORRENTE DO DR. ESPANHOL E CROMOTERAPIA - TARDE E NOITE
DESCRIPTION:Corrente do Dr. Espanhol: Chegar às 17h00 para o preparo antes do evangelho – Pré agendamento é obrigatório. \n\nDAS 17:00 ÀS 18:00hrs – Distribuição de Fichas – Consulta com o Dr. Espanhol\nCIRURGIA DR ESPANHOL – Estar na Casa até às 19:30hrs (SOMENTE PARA QUEM JÁ PASSOU EM CONSULTA)\n\nCromoterapia: APENAS para as pessoas que receberam um encaminhamento pelos Guias da Casa.\nPara residentes da cidade de São Paulo. Período da tarde  (14H)  e período noturno (17H)  para Cromoterapia\, sem agendamento.
URL:https://casadoconsolador.com.br/evento/corrente-do-dr-espanhol-e-cromoterapia-tarde-e-noite-25/
END:VEVENT
BEGIN:VEVENT
DTSTART;TZID=America/Sao_Paulo:20260211T170000
DTEND;TZID=America/Sao_Paulo:20260211T200000
DTSTAMP:20260423T160953
CREATED:20260103T010412Z
LAST-MODIFIED:20260103T010412Z
UID:4116-1770829200-1770840000@casadoconsolador.com.br
SUMMARY:XAMANISMO
DESCRIPTION:Quartas-feiras das 17h00 até 20h\, com palestra às 19h. Atendimento individual por ordem de chegada\, sem agendamento.\nRoda de cura: Acontece na 4ª quarta-feira de cada mês. Para a Roda de cura\, trazer colchonete ou algo confortável para sentar.
URL:https://casadoconsolador.com.br/evento/xamanismo-37/
END:VEVENT
BEGIN:VEVENT
DTSTART;TZID=America/Sao_Paulo:20260212T170000
DTEND;TZID=America/Sao_Paulo:20260212T200000
DTSTAMP:20260423T160953
CREATED:20260103T010508Z
LAST-MODIFIED:20260103T010508Z
UID:4118-1770915600-1770926400@casadoconsolador.com.br
SUMMARY:UMBANDA
DESCRIPTION:ATIVIDADES DE 5a FEIRA – UMBANDA – período da NOITE:\n17 HS – ABERTURA DA CASA E DISTRIBUIÇÃO DE FICHAS PARA A NOITE – a distribuição será por ordem de chegada até às 20 HS \n19:30 HS – RITUAL DE ABERTURA \nQuintas-feiras das 17h. Para tomar passe e consulta com os guias – Por ordem de chegada\, sem agendamento. \n 
URL:https://casadoconsolador.com.br/evento/umbanda-35/
END:VEVENT
BEGIN:VEVENT
DTSTART;VALUE=DATE:20260214
DTEND;VALUE=DATE:20260215
DTSTAMP:20260423T160953
CREATED:20260103T013014Z
LAST-MODIFIED:20260202T212439Z
UID:4142-1771027200-1771113599@casadoconsolador.com.br
SUMMARY:NÃO HAVERÁ ATENDIMENTOS – FERIADO
DESCRIPTION:NÃO HAVERÁ ATENDIMENTOS – FERIADO
URL:https://casadoconsolador.com.br/evento/desobsessao-17/
END:VEVENT
BEGIN:VEVENT
DTSTART;VALUE=DATE:20260216
DTEND;VALUE=DATE:20260217
DTSTAMP:20260423T160953
CREATED:20260103T014429Z
LAST-MODIFIED:20260129T160715Z
UID:4145-1771200000-1771286399@casadoconsolador.com.br
SUMMARY:NÃO HAVERÁ ATENDIMENTOS - FERIADO
DESCRIPTION:NÃO HAVERÁ ATENDIMENTOS – FERIADO \n 
URL:https://casadoconsolador.com.br/evento/consulta-com-mestres-orientais-noite-reiki-tarde-e-noite-apenas-quem-mora-na-grande-sao-paulo-5/
END:VEVENT
BEGIN:VEVENT
DTSTART;VALUE=DATE:20260217
DTEND;VALUE=DATE:20260218
DTSTAMP:20260423T160953
CREATED:20260103T014650Z
LAST-MODIFIED:20260129T160724Z
UID:4147-1771286400-1771372799@casadoconsolador.com.br
SUMMARY:NÃO HAVERÁ ATENDIMENTOS - FERIADO
DESCRIPTION:NÃO HAVERÁ ATENDIMENTOS – FERIADO
URL:https://casadoconsolador.com.br/evento/corrente-do-dr-espanhol-e-cromoterapia-tarde-e-noite-26/
END:VEVENT
BEGIN:VEVENT
DTSTART;TZID=America/Sao_Paulo:20260218T170000
DTEND;TZID=America/Sao_Paulo:20260218T200000
DTSTAMP:20260423T160953
CREATED:20260103T014801Z
LAST-MODIFIED:20260103T014801Z
UID:4149-1771434000-1771444800@casadoconsolador.com.br
SUMMARY:XAMANISMO
DESCRIPTION:Quartas-feiras das 17h00 até 20h\, com palestra às 19h. Atendimento individual por ordem de chegada\, sem agendamento.\nRoda de cura: Acontece na 4ª quarta-feira de cada mês. Para a Roda de cura\, trazer colchonete ou algo confortável para sentar. \n 
URL:https://casadoconsolador.com.br/evento/xamanismo-38/
END:VEVENT
BEGIN:VEVENT
DTSTART;TZID=America/Sao_Paulo:20260219T170000
DTEND;TZID=America/Sao_Paulo:20260219T200000
DTSTAMP:20260423T160953
CREATED:20260103T014859Z
LAST-MODIFIED:20260103T014859Z
UID:4151-1771520400-1771531200@casadoconsolador.com.br
SUMMARY:UMBANDA
DESCRIPTION:ATIVIDADES DE 5a FEIRA – UMBANDA – período da NOITE:\n17 HS – ABERTURA DA CASA E DISTRIBUIÇÃO DE FICHAS PARA A NOITE – a distribuição será por ordem de chegada até às 20 HS \n19:30 HS – RITUAL DE ABERTURA \nQuintas-feiras das 17h. Para tomar passe e consulta com os guias – Por ordem de chegada\, sem agendamento.
URL:https://casadoconsolador.com.br/evento/umbanda-36/
END:VEVENT
BEGIN:VEVENT
DTSTART;TZID=America/Sao_Paulo:20260221T130000
DTEND;TZID=America/Sao_Paulo:20260221T170000
DTSTAMP:20260423T160953
CREATED:20260103T015217Z
LAST-MODIFIED:20260103T015217Z
UID:4154-1771678800-1771693200@casadoconsolador.com.br
SUMMARY:CURSO APRENDIZES DA NOVA TERRA – PRESENCIAL
DESCRIPTION:CURSO SOMENTE PARA ALUNOS JÁ INSCRITOS – APRENDIZES DA NOVA TERRA \nO portão abre 13h e fecha as 14h para começo das aulas. \n1º E 3º SÁBADO
URL:https://casadoconsolador.com.br/evento/curso-aprendizes-da-nova-terra-presencial-17/
END:VEVENT
BEGIN:VEVENT
DTSTART;TZID=America/Sao_Paulo:20260223T140000
DTEND;TZID=America/Sao_Paulo:20260223T200000
DTSTAMP:20260423T160953
CREATED:20260103T015441Z
LAST-MODIFIED:20260103T015441Z
UID:4156-1771855200-1771876800@casadoconsolador.com.br
SUMMARY:CONSULTA COM MESTRES ORIENTAIS – (NOITE)  / REIKI – (TARDE E NOITE) (Apenas quem mora na Grande São Paulo)
DESCRIPTION:ATIVIDADES DE 2a FEIRA – REIKI (Apenas quem já passou em consulta) – período da TARDE: \n14:00 – REIKI DISTRIBUIÇÃO DE FICHAS\n15:00 – INÍCIO EVANGELHO\n15:30  – REIKI \nATIVIDADES DE 2a FEIRA  CONSULTA COM OS MESTRES ORIENTAIS – período da NOITE: \n17:00 – ABERTURA DA CASA E DISTRIBUIÇÃO DE FICHAS \n17:00 ÁS 19:30 – ENTREGA DE FICHAS -CONSULTA COM OS MESTRES ORIENTAIS – QUESTÕES SAUDE EMOCIONAL. (NÃO PRECISA DE AGENDAMENTO)CONSULTA COM MESTRES ORIENTAIS – (NOITE) / REIKI – (TARDE E NOITE) (Apenas quem mora na Grande São Paulo) \n19:30 – INÍCIO DO EVANGELHO. \n20:00 – FEIXE QUÂNTICO (QUINZENAL)\n20:00 – REIKI (SEMANAL) \n 
URL:https://casadoconsolador.com.br/evento/consulta-com-mestres-orientais-noite-reiki-tarde-e-noite-apenas-quem-mora-na-grande-sao-paulo-6/
END:VEVENT
BEGIN:VEVENT
DTSTART;TZID=America/Sao_Paulo:20260224T140000
DTEND;TZID=America/Sao_Paulo:20260224T200000
DTSTAMP:20260423T160953
CREATED:20260103T015626Z
LAST-MODIFIED:20260103T015626Z
UID:4158-1771941600-1771963200@casadoconsolador.com.br
SUMMARY:CORRENTE DO DR. ESPANHOL E CROMOTERAPIA - TARDE E NOITE
DESCRIPTION:Corrente do Dr. Espanhol: Chegar às 17h00 para o preparo antes do evangelho – Pré agendamento é obrigatório. \n\nDAS 17:00 ÀS 18:00hrs – Distribuição de Fichas – Consulta com o Dr. Espanhol\nCIRURGIA DR ESPANHOL – Estar na Casa até às 19:30hrs (SOMENTE PARA QUEM JÁ PASSOU EM CONSULTA)\n\nCromoterapia: APENAS para as pessoas que receberam um encaminhamento pelos Guias da Casa.\nPara residentes da cidade de São Paulo. Período da tarde  (14H)  e período noturno (17H)  para Cromoterapia\, sem agendamento.
URL:https://casadoconsolador.com.br/evento/corrente-do-dr-espanhol-e-cromoterapia-tarde-e-noite-27/
END:VEVENT
BEGIN:VEVENT
DTSTART;TZID=America/Sao_Paulo:20260225T170000
DTEND;TZID=America/Sao_Paulo:20260225T200000
DTSTAMP:20260423T160953
CREATED:20260103T015709Z
LAST-MODIFIED:20260103T015709Z
UID:4160-1772038800-1772049600@casadoconsolador.com.br
SUMMARY:XAMANISMO
DESCRIPTION:Quartas-feiras das 17h00 até 20h\, com palestra às 19h. Atendimento individual por ordem de chegada\, sem agendamento.\nRoda de cura: Acontece na 4ª quarta-feira de cada mês. Para a Roda de cura\, trazer colchonete ou algo confortável para sentar.
URL:https://casadoconsolador.com.br/evento/xamanismo-39/
END:VEVENT
BEGIN:VEVENT
DTSTART;TZID=America/Sao_Paulo:20260226T170000
DTEND;TZID=America/Sao_Paulo:20260226T200000
DTSTAMP:20260423T160953
CREATED:20260103T015803Z
LAST-MODIFIED:20260103T015803Z
UID:4162-1772125200-1772136000@casadoconsolador.com.br
SUMMARY:UMBANDA
DESCRIPTION:ATIVIDADES DE 5a FEIRA – UMBANDA – período da NOITE:\n17 HS – ABERTURA DA CASA E DISTRIBUIÇÃO DE FICHAS PARA A NOITE – a distribuição será por ordem de chegada até às 20 HS \n19:30 HS – RITUAL DE ABERTURA \nQuintas-feiras das 17h. Para tomar passe e consulta com os guias – Por ordem de chegada\, sem agendamento.
URL:https://casadoconsolador.com.br/evento/umbanda-37/
END:VEVENT
BEGIN:VEVENT
DTSTART;TZID=America/Sao_Paulo:20260228T120000
DTEND;TZID=America/Sao_Paulo:20260228T163000
DTSTAMP:20260423T160953
CREATED:20260103T015920Z
LAST-MODIFIED:20260103T015920Z
UID:4164-1772280000-1772296200@casadoconsolador.com.br
SUMMARY:DESOBSESSÃO
DESCRIPTION:APENAS para as pessoas que receberam um encaminhamento pelos Guias da Casa.\nSábado\, sem agendamento. \nO portão abre 12h para quem quiser apreciar nosso delicioso almoço na cantina e se acomodar com calma. \nOs assistidos devem chegar até as 13h30 e o portão será fechado às 13h50\, para darmos início aos trabalhos. \n2º  E 4º SÁBADO
URL:https://casadoconsolador.com.br/evento/desobsessao-18/
END:VEVENT
BEGIN:VEVENT
DTSTART;TZID=America/Sao_Paulo:20260302T140000
DTEND;TZID=America/Sao_Paulo:20260302T200000
DTSTAMP:20260423T160953
CREATED:20260103T020417Z
LAST-MODIFIED:20260227T003753Z
UID:4166-1772460000-1772481600@casadoconsolador.com.br
SUMMARY:CONSULTA COM EQUIPE SHELL Y ANN – (NOITE)  / REIKI – (TARDE E NOITE) (Apenas quem mora na Grande São Paulo)
DESCRIPTION:CONSULTA COM EQUIPE SHELL Y ANN – (NOITE)  / REIKI – (TARDE E NOITE) (Apenas quem mora na Grande São Paulo) \nATIVIDADES DE 2a FEIRA – REIKI (Apenas quem já passou em consulta) – período da TARDE: \n14:00 – ABERTURA DA CASA E DISTRIBUIÇÃO DE FICHAS (PARA QUEM JÁ PASSOU NA CONSULTA)\n14:30 – INÍCIO EVANGELHO\n15:00  – INÍCIO DO TRATAMENTO – REIKI \nATIVIDADES DE 2a FEIRA  CONSULTA COM EQUIPE SHELL Y ANN – período da NOITE: \n17:00 – ABERTURA DA CASA E DISTRIBUIÇÃO DE FICHAS \n17:00 ÀS 18:30hr – Distribuição de Fichas – Consulta com Equipe Shell y Ann:  –  Questões Física e Emocional \n19:30 – INÍCIO DO EVANGELHO. \n20:00 – FEIXE QUÂNTICO (QUINZENAL)\n20:00 – REIKI (SEMANAL) \n. Cirurgia com os Ets – Equipe Shell y Ann (CTD): Estar na Casa até às 19:00hr (SOMENTE PARA QUEM JÁ PASSOU EM CONSULTA)
URL:https://casadoconsolador.com.br/evento/consulta-com-mestres-orientais-noite-reiki-tarde-e-noite-apenas-quem-mora-na-grande-sao-paulo-7/
END:VEVENT
BEGIN:VEVENT
DTSTART;TZID=America/Sao_Paulo:20260303T140000
DTEND;TZID=America/Sao_Paulo:20260303T200000
DTSTAMP:20260423T160953
CREATED:20260103T020502Z
LAST-MODIFIED:20260227T004441Z
UID:4168-1772546400-1772568000@casadoconsolador.com.br
SUMMARY:CORRENTE DO DR. ESPANHOL E CROMOTERAPIA - TARDE E NOITE
DESCRIPTION:Corrente do Dr. Espanhol: Chegar às 14H para o preparo antes do evangelho \nATIVIDADES DE 3a FEIRA – CROMOTERAPIA (Apenas quem já passou em consulta) – período da TARDE: \n14:00 – ABERTURA DA CASA E DISTRIBUIÇÃO DE FICHAS (PARA QUEM JÁ PASSOU NA CONSULTA)\n14:30 – INÍCIO EVANGELHO\n15:00  – INÍCIO DO TRATAMENTO – CROMOTERAPIA \nATIVIDADES DE 3a FEIRA  – período da NOITE: \n17:00 ÀS 18:00hrs – Distribuição de Fichas – Consulta com o Dr. Espanhol \n\nCIRURGIA DR ESPANHOL – Estar na Casa até às 19:30hrs (SOMENTE PARA QUEM JÁ PASSOU EM CONSULTA)\n\nCromoterapia: APENAS para as pessoas que receberam um encaminhamento pelos Guias da Casa.\nPara residentes da cidade de São Paulo. Período da tarde  (14H)  e período noturno (17H)  para Cromoterapia\, sem agendamento.
URL:https://casadoconsolador.com.br/evento/corrente-do-dr-espanhol-e-cromoterapia-tarde-e-noite-28/
END:VEVENT
BEGIN:VEVENT
DTSTART;TZID=America/Sao_Paulo:20260304T170000
DTEND;TZID=America/Sao_Paulo:20260304T200000
DTSTAMP:20260423T160953
CREATED:20260103T020536Z
LAST-MODIFIED:20260103T020536Z
UID:4170-1772643600-1772654400@casadoconsolador.com.br
SUMMARY:XAMANISMO
DESCRIPTION:Quartas-feiras das 17h00 até 20h\, com palestra às 19h. Atendimento individual por ordem de chegada\, sem agendamento.\nRoda de cura: Acontece na 4ª quarta-feira de cada mês. Para a Roda de cura\, trazer colchonete ou algo confortável para sentar. \n 
URL:https://casadoconsolador.com.br/evento/xamanismo-40/
END:VEVENT
BEGIN:VEVENT
DTSTART;TZID=America/Sao_Paulo:20260305T170000
DTEND;TZID=America/Sao_Paulo:20260305T200000
DTSTAMP:20260423T160953
CREATED:20260103T020630Z
LAST-MODIFIED:20260103T020630Z
UID:4172-1772730000-1772740800@casadoconsolador.com.br
SUMMARY:UMBANDA
DESCRIPTION:ATIVIDADES DE 5a FEIRA – UMBANDA – período da NOITE:\n17 HS – ABERTURA DA CASA E DISTRIBUIÇÃO DE FICHAS PARA A NOITE – a distribuição será por ordem de chegada até às 20 HS \n19:30 HS – RITUAL DE ABERTURA \nQuintas-feiras das 17h. Para tomar passe e consulta com os guias – Por ordem de chegada\, sem agendamento.
URL:https://casadoconsolador.com.br/evento/umbanda-38/
END:VEVENT
BEGIN:VEVENT
DTSTART;TZID=America/Sao_Paulo:20260307T130000
DTEND;TZID=America/Sao_Paulo:20260307T170000
DTSTAMP:20260423T160953
CREATED:20260103T020722Z
LAST-MODIFIED:20260103T020722Z
UID:4174-1772888400-1772902800@casadoconsolador.com.br
SUMMARY:CURSO APRENDIZES DA NOVA TERRA – PRESENCIAL
DESCRIPTION:CURSO SOMENTE PARA ALUNOS JÁ INSCRITOS – APRENDIZES DA NOVA TERRA \nO portão abre 13h e fecha as 14h para começo das aulas. \n1º E 3º SÁBADO
URL:https://casadoconsolador.com.br/evento/curso-aprendizes-da-nova-terra-presencial-18/
END:VEVENT
BEGIN:VEVENT
DTSTART;TZID=America/Sao_Paulo:20260309T140000
DTEND;TZID=America/Sao_Paulo:20260309T200000
DTSTAMP:20260423T160953
CREATED:20260103T022253Z
LAST-MODIFIED:20260227T004749Z
UID:4178-1773064800-1773086400@casadoconsolador.com.br
SUMMARY:CONSULTA COM MESTRES ORIENTAIS – (NOITE)  / REIKI – (TARDE E NOITE) (Apenas quem mora na Grande São Paulo)
DESCRIPTION:ATIVIDADES DE 2a FEIRA – REIKI (Apenas quem já passou em consulta) – período da TARDE: \n14:00 – REIKI DISTRIBUIÇÃO DE FICHAS\n14:30 – INÍCIO EVANGELHO\n15:00  – REIKI \nATIVIDADES DE 2a FEIRA  CONSULTA COM OS MESTRES ORIENTAIS – período da NOITE: \n17:00 – ABERTURA DA CASA E DISTRIBUIÇÃO DE FICHAS \n17:00 ÁS 19:30 – ENTREGA DE FICHAS -CONSULTA COM OS MESTRES ORIENTAIS – QUESTÕES SAUDE EMOCIONAL. (NÃO PRECISA DE AGENDAMENTO)CONSULTA COM MESTRES ORIENTAIS – (NOITE) / REIKI – (TARDE E NOITE) (Apenas quem mora na Grande São Paulo) \n19:30 – INÍCIO DO EVANGELHO. \n20:00 – FEIXE QUÂNTICO (QUINZENAL)\n20:00 – REIKI (SEMANAL) \n 
URL:https://casadoconsolador.com.br/evento/consulta-com-mestres-orientais-noite-reiki-tarde-e-noite-apenas-quem-mora-na-grande-sao-paulo-8/
END:VEVENT
BEGIN:VEVENT
DTSTART;TZID=America/Sao_Paulo:20260310T140000
DTEND;TZID=America/Sao_Paulo:20260310T200000
DTSTAMP:20260423T160953
CREATED:20260103T022329Z
LAST-MODIFIED:20260227T005046Z
UID:4180-1773151200-1773172800@casadoconsolador.com.br
SUMMARY:CORRENTE DO DR. ESPANHOL E CROMOTERAPIA - TARDE E NOITE
DESCRIPTION:Corrente do Dr. Espanhol: Chegar às 14H para o preparo antes do evangelho \nATIVIDADES DE 3a FEIRA – CROMOTERAPIA (Apenas quem já passou em consulta) – período da TARDE: \n14:00 – ABERTURA DA CASA E DISTRIBUIÇÃO DE FICHAS (PARA QUEM JÁ PASSOU NA CONSULTA)\n14:30 – INÍCIO EVANGELHO\n15:00  – INÍCIO DO TRATAMENTO – CROMOTERAPIA \nATIVIDADES DE 3a FEIRA  – período da NOITE: \n17:00 ÀS 18:00hrs – Distribuição de Fichas – Consulta com o Dr. Espanhol \n\nCIRURGIA DR ESPANHOL – Estar na Casa até às 19:30hrs (SOMENTE PARA QUEM JÁ PASSOU EM CONSULTA)\n\nCromoterapia: APENAS para as pessoas que receberam um encaminhamento pelos Guias da Casa.\nPara residentes da cidade de São Paulo. Período da tarde  (14H)  e período noturno (17H)  para Cromoterapia\, sem agendamento.
URL:https://casadoconsolador.com.br/evento/corrente-do-dr-espanhol-e-cromoterapia-tarde-e-noite-29/
END:VEVENT
BEGIN:VEVENT
DTSTART;TZID=America/Sao_Paulo:20260311T170000
DTEND;TZID=America/Sao_Paulo:20260311T200000
DTSTAMP:20260423T160953
CREATED:20260103T022405Z
LAST-MODIFIED:20260103T022405Z
UID:4182-1773248400-1773259200@casadoconsolador.com.br
SUMMARY:XAMANISMO
DESCRIPTION:Quartas-feiras das 17h00 até 20h\, com palestra às 19h. Atendimento individual por ordem de chegada\, sem agendamento.\nRoda de cura: Acontece na 4ª quarta-feira de cada mês. Para a Roda de cura\, trazer colchonete ou algo confortável para sentar.
URL:https://casadoconsolador.com.br/evento/xamanismo-41/
END:VEVENT
BEGIN:VEVENT
DTSTART;TZID=America/Sao_Paulo:20260312T170000
DTEND;TZID=America/Sao_Paulo:20260312T200000
DTSTAMP:20260423T160953
CREATED:20260103T022441Z
LAST-MODIFIED:20260103T022441Z
UID:4184-1773334800-1773345600@casadoconsolador.com.br
SUMMARY:UMBANDA
DESCRIPTION:ATIVIDADES DE 5a FEIRA – UMBANDA – período da NOITE:\n17 HS – ABERTURA DA CASA E DISTRIBUIÇÃO DE FICHAS PARA A NOITE – a distribuição será por ordem de chegada até às 20 HS \n19:30 HS – RITUAL DE ABERTURA \nQuintas-feiras das 17h. Para tomar passe e consulta com os guias – Por ordem de chegada\, sem agendamento.
URL:https://casadoconsolador.com.br/evento/umbanda-39/
END:VEVENT
BEGIN:VEVENT
DTSTART;TZID=America/Sao_Paulo:20260314T000000
DTEND;TZID=America/Sao_Paulo:20260314T000000
DTSTAMP:20260423T160953
CREATED:20260103T010921Z
LAST-MODIFIED:20260103T010921Z
UID:4122-1773446400-1773446400@casadoconsolador.com.br
SUMMARY:PALESTRA VELUDO & TRONQUEIRA
DESCRIPTION:Mais informações em breve.
URL:https://casadoconsolador.com.br/evento/palestra-veludo-tronqueira/
END:VEVENT
END:VCALENDAR