BEGIN:VCALENDAR
VERSION:2.0
PRODID:-//Casa do Consolador - ECPv6.15.17.1//NONSGML v1.0//EN
CALSCALE:GREGORIAN
METHOD:PUBLISH
X-ORIGINAL-URL:https://casadoconsolador.com.br
X-WR-CALDESC:Eventos para Casa do Consolador
REFRESH-INTERVAL;VALUE=DURATION:PT1H
X-Robots-Tag:noindex
X-PUBLISHED-TTL:PT1H
BEGIN:VTIMEZONE
TZID:America/Sao_Paulo
BEGIN:STANDARD
TZOFFSETFROM:-0300
TZOFFSETTO:-0300
TZNAME:-03
DTSTART:20250101T000000
END:STANDARD
END:VTIMEZONE
BEGIN:VEVENT
DTSTART;TZID=America/Sao_Paulo:20260423T170000
DTEND;TZID=America/Sao_Paulo:20260423T200000
DTSTAMP:20260423T115109
CREATED:20260330T023700Z
LAST-MODIFIED:20260330T023700Z
UID:4404-1776963600-1776974400@casadoconsolador.com.br
SUMMARY:UMBANDA
DESCRIPTION:ATIVIDADES DE 5a FEIRA – UMBANDA – período da NOITE:\n17 HS – ABERTURA DA CASA E DISTRIBUIÇÃO DE FICHAS PARA A NOITE – a distribuição será por ordem de chegada até às 20 HS \n19:30 HS – RITUAL DE ABERTURA \nQuintas-feiras das 17h. Para tomar passe e consulta com os guias – Por ordem de chegada\, sem agendamento.
URL:https://casadoconsolador.com.br/evento/umbanda-44/
END:VEVENT
BEGIN:VEVENT
DTSTART;TZID=America/Sao_Paulo:20260425T120000
DTEND;TZID=America/Sao_Paulo:20260425T163000
DTSTAMP:20260423T115109
CREATED:20260330T024416Z
LAST-MODIFIED:20260330T024416Z
UID:4406-1777118400-1777134600@casadoconsolador.com.br
SUMMARY:DESOBSESSÃO
DESCRIPTION:APENAS para as pessoas que receberam um encaminhamento pelos Guias da Casa.\nSábado\, sem agendamento. \nO portão abre 12h para quem quiser apreciar nosso delicioso almoço na cantina e se acomodar com calma. \nOs assistidos devem chegar até as 13h30 e o portão será fechado às 13h50\, para darmos início aos trabalhos. \n2º  E 4º SÁBADO
URL:https://casadoconsolador.com.br/evento/desobsessao-19/
END:VEVENT
BEGIN:VEVENT
DTSTART;TZID=America/Sao_Paulo:20260427T140000
DTEND;TZID=America/Sao_Paulo:20260427T200000
DTSTAMP:20260423T115109
CREATED:20260330T024914Z
LAST-MODIFIED:20260330T024914Z
UID:4408-1777298400-1777320000@casadoconsolador.com.br
SUMMARY:CONSULTA COM EQUIPE SHELL Y ANN – (NOITE)  / REIKI – (TARDE E NOITE) (Apenas quem mora na Grande São Paulo)
DESCRIPTION:ATIVIDADES DE 2a FEIRA – REIKI (Apenas quem já passou em consulta) – período da TARDE: \n14:00 – ABERTURA DA CASA E DISTRIBUIÇÃO DE FICHAS (PARA QUEM JÁ PASSOU NA CONSULTA)\n14:30 – INÍCIO EVANGELHO\n15:00  – INÍCIO DO TRATAMENTO – REIKI \nATIVIDADES DE 2a FEIRA  CONSULTA COM EQUIPE SHELL Y ANN – período da NOITE: \n17:00 – ABERTURA DA CASA E DISTRIBUIÇÃO DE FICHAS \n17:00 ÀS 18:30hr – Distribuição de Fichas – Consulta com Equipe Shell y Ann:  –  Questões Física e Emocional \n19:30 – INÍCIO DO EVANGELHO. \n20:00 – FEIXE QUÂNTICO (QUINZENAL)\n20:00 – REIKI (SEMANAL) \n. Cirurgia com os Ets – Equipe Shell y Ann (CTD): Estar na Casa até às 19:00hr (SOMENTE PARA QUEM JÁ PASSOU EM CONSULTA) \n 
URL:https://casadoconsolador.com.br/evento/consulta-com-equipe-shell-y-ann-noite-reiki-tarde-e-noite-apenas-quem-mora-na-grande-sao-paulo-2/
END:VEVENT
BEGIN:VEVENT
DTSTART;TZID=America/Sao_Paulo:20260428T140000
DTEND;TZID=America/Sao_Paulo:20260428T200000
DTSTAMP:20260423T115109
CREATED:20260330T024957Z
LAST-MODIFIED:20260330T024957Z
UID:4410-1777384800-1777406400@casadoconsolador.com.br
SUMMARY:CORRENTE DO DR. ESPANHOL E CROMOTERAPIA - TARDE E NOITE
DESCRIPTION:Corrente do Dr. Espanhol: Chegar às 14H para o preparo antes do evangelho \nATIVIDADES DE 3a FEIRA – CROMOTERAPIA (Apenas quem já passou em consulta) – período da TARDE: \n14:00 – ABERTURA DA CASA E DISTRIBUIÇÃO DE FICHAS (PARA QUEM JÁ PASSOU NA CONSULTA)\n14:30 – INÍCIO EVANGELHO\n15:00  – INÍCIO DO TRATAMENTO – CROMOTERAPIA \nATIVIDADES DE 3a FEIRA  – período da NOITE: \n17:00 ÀS 18:00hrs – Distribuição de Fichas – Consulta com o Dr. Espanhol \n\nCIRURGIA DR ESPANHOL – Estar na Casa até às 19:30hrs (SOMENTE PARA QUEM JÁ PASSOU EM CONSULTA)\n\nCromoterapia: APENAS para as pessoas que receberam um encaminhamento pelos Guias da Casa.\nPara residentes da cidade de São Paulo. Período da tarde  (14H)  e período noturno (17H)  para Cromoterapia\, sem agendamento.
URL:https://casadoconsolador.com.br/evento/corrente-do-dr-espanhol-e-cromoterapia-tarde-e-noite-35/
END:VEVENT
BEGIN:VEVENT
DTSTART;TZID=America/Sao_Paulo:20260429T170000
DTEND;TZID=America/Sao_Paulo:20260429T200000
DTSTAMP:20260423T115109
CREATED:20260330T025038Z
LAST-MODIFIED:20260330T025038Z
UID:4412-1777482000-1777492800@casadoconsolador.com.br
SUMMARY:XAMANISMO
DESCRIPTION:Quartas-feiras das 17h00 até 20h\, com palestra às 19h. Atendimento individual por ordem de chegada\, sem agendamento.\nRoda de cura: Acontece na 4ª quarta-feira de cada mês. Para a Roda de cura\, trazer colchonete ou algo confortável para sentar. \n 
URL:https://casadoconsolador.com.br/evento/xamanismo-48/
END:VEVENT
BEGIN:VEVENT
DTSTART;TZID=America/Sao_Paulo:20260430T170000
DTEND;TZID=America/Sao_Paulo:20260430T200000
DTSTAMP:20260423T115109
CREATED:20260330T025124Z
LAST-MODIFIED:20260330T025124Z
UID:4414-1777568400-1777579200@casadoconsolador.com.br
SUMMARY:UMBANDA
DESCRIPTION:ATIVIDADES DE 5a FEIRA – UMBANDA – período da NOITE:\n17 HS – ABERTURA DA CASA E DISTRIBUIÇÃO DE FICHAS PARA A NOITE – a distribuição será por ordem de chegada até às 20 HS \n19:30 HS – RITUAL DE ABERTURA \nQuintas-feiras das 17h. Para tomar passe e consulta com os guias – Por ordem de chegada\, sem agendamento.
URL:https://casadoconsolador.com.br/evento/umbanda-45/
END:VEVENT
BEGIN:VEVENT
DTSTART;TZID=America/Sao_Paulo:20260502T130000
DTEND;TZID=America/Sao_Paulo:20260502T170000
DTSTAMP:20260423T115109
CREATED:20260330T025403Z
LAST-MODIFIED:20260330T025403Z
UID:4416-1777726800-1777741200@casadoconsolador.com.br
SUMMARY:CURSO APRENDIZES DA NOVA TERRA – PRESENCIAL
DESCRIPTION:CURSO SOMENTE PARA ALUNOS JÁ INSCRITOS – APRENDIZES DA NOVA TERRA \nO portão abre 13h e fecha as 14h para começo das aulas. \n1º E 3º SÁBADO
URL:https://casadoconsolador.com.br/evento/curso-aprendizes-da-nova-terra-presencial-20/
END:VEVENT
BEGIN:VEVENT
DTSTART;TZID=America/Sao_Paulo:20260504T140000
DTEND;TZID=America/Sao_Paulo:20260504T200000
DTSTAMP:20260423T115109
CREATED:20260330T025514Z
LAST-MODIFIED:20260330T025514Z
UID:4418-1777903200-1777924800@casadoconsolador.com.br
SUMMARY:CONSULTA COM MESTRES ORIENTAIS – (NOITE)  / REIKI – (TARDE E NOITE) (Apenas quem mora na Grande São Paulo)
DESCRIPTION:ATIVIDADES DE 2a FEIRA – REIKI (Apenas quem já passou em consulta) – período da TARDE: \n14:00 – REIKI DISTRIBUIÇÃO DE FICHAS\n14:30 – INÍCIO EVANGELHO\n15:00  – REIKI \nATIVIDADES DE 2a FEIRA  CONSULTA COM OS MESTRES ORIENTAIS – período da NOITE: \n17:00 – ABERTURA DA CASA E DISTRIBUIÇÃO DE FICHAS \n17:00 ÁS 19:30 – ENTREGA DE FICHAS -CONSULTA COM OS MESTRES ORIENTAIS – QUESTÕES SAUDE EMOCIONAL. (NÃO PRECISA DE AGENDAMENTO)CONSULTA COM MESTRES ORIENTAIS – (NOITE) / REIKI – (TARDE E NOITE) (Apenas quem mora na Grande São Paulo) \n19:30 – INÍCIO DO EVANGELHO. \n20:00 – FEIXE QUÂNTICO (QUINZENAL)\n20:00 – REIKI (SEMANAL)
URL:https://casadoconsolador.com.br/evento/consulta-com-mestres-orientais-noite-reiki-tarde-e-noite-apenas-quem-mora-na-grande-sao-paulo-13/
END:VEVENT
BEGIN:VEVENT
DTSTART;TZID=America/Sao_Paulo:20260505T140000
DTEND;TZID=America/Sao_Paulo:20260505T200000
DTSTAMP:20260423T115109
CREATED:20260330T025603Z
LAST-MODIFIED:20260330T025603Z
UID:4420-1777989600-1778011200@casadoconsolador.com.br
SUMMARY:CORRENTE DO DR. ESPANHOL E CROMOTERAPIA - TARDE E NOITE
DESCRIPTION:Corrente do Dr. Espanhol: Chegar às 14H para o preparo antes do evangelho \nATIVIDADES DE 3a FEIRA – CROMOTERAPIA (Apenas quem já passou em consulta) – período da TARDE: \n14:00 – ABERTURA DA CASA E DISTRIBUIÇÃO DE FICHAS (PARA QUEM JÁ PASSOU NA CONSULTA)\n14:30 – INÍCIO EVANGELHO\n15:00  – INÍCIO DO TRATAMENTO – CROMOTERAPIA \nATIVIDADES DE 3a FEIRA  – período da NOITE: \n17:00 ÀS 18:00hrs – Distribuição de Fichas – Consulta com o Dr. Espanhol \n\nCIRURGIA DR ESPANHOL – Estar na Casa até às 19:30hrs (SOMENTE PARA QUEM JÁ PASSOU EM CONSULTA)\n\nCromoterapia: APENAS para as pessoas que receberam um encaminhamento pelos Guias da Casa.\nPara residentes da cidade de São Paulo. Período da tarde  (14H)  e período noturno (17H)  para Cromoterapia\, sem agendamento. \n 
URL:https://casadoconsolador.com.br/evento/corrente-do-dr-espanhol-e-cromoterapia-tarde-e-noite-36/
END:VEVENT
BEGIN:VEVENT
DTSTART;TZID=America/Sao_Paulo:20260506T170000
DTEND;TZID=America/Sao_Paulo:20260506T200000
DTSTAMP:20260423T115109
CREATED:20260330T025657Z
LAST-MODIFIED:20260330T025657Z
UID:4422-1778086800-1778097600@casadoconsolador.com.br
SUMMARY:XAMANISMO
DESCRIPTION:Quartas-feiras das 17h00 até 20h\, com palestra às 19h. Atendimento individual por ordem de chegada\, sem agendamento.\nRoda de cura: Acontece na 4ª quarta-feira de cada mês. Para a Roda de cura\, trazer colchonete ou algo confortável para sentar.
URL:https://casadoconsolador.com.br/evento/xamanismo-49/
END:VEVENT
BEGIN:VEVENT
DTSTART;TZID=America/Sao_Paulo:20260507T170000
DTEND;TZID=America/Sao_Paulo:20260507T200000
DTSTAMP:20260423T115109
CREATED:20260330T030513Z
LAST-MODIFIED:20260330T030513Z
UID:4424-1778173200-1778184000@casadoconsolador.com.br
SUMMARY:UMBANDA
DESCRIPTION:ATIVIDADES DE 5a FEIRA – UMBANDA – período da NOITE:\n17 HS – ABERTURA DA CASA E DISTRIBUIÇÃO DE FICHAS PARA A NOITE – a distribuição será por ordem de chegada até às 20 HS \n19:30 HS – RITUAL DE ABERTURA \nQuintas-feiras das 17h. Para tomar passe e consulta com os guias – Por ordem de chegada\, sem agendamento. \n 
URL:https://casadoconsolador.com.br/evento/umbanda-46/
END:VEVENT
BEGIN:VEVENT
DTSTART;TZID=America/Sao_Paulo:20260509T120000
DTEND;TZID=America/Sao_Paulo:20260509T163000
DTSTAMP:20260423T115109
CREATED:20260330T030658Z
LAST-MODIFIED:20260330T030658Z
UID:4426-1778328000-1778344200@casadoconsolador.com.br
SUMMARY:DESOBSESSÃO
DESCRIPTION:APENAS para as pessoas que receberam um encaminhamento pelos Guias da Casa.\nSábado\, sem agendamento. \nO portão abre 12h para quem quiser apreciar nosso delicioso almoço na cantina e se acomodar com calma. \nOs assistidos devem chegar até as 13h30 e o portão será fechado às 13h50\, para darmos início aos trabalhos. \n2º  E 4º SÁBADO
URL:https://casadoconsolador.com.br/evento/desobsessao-21/
END:VEVENT
BEGIN:VEVENT
DTSTART;TZID=America/Sao_Paulo:20260511T140000
DTEND;TZID=America/Sao_Paulo:20260511T200000
DTSTAMP:20260423T115109
CREATED:20260330T030827Z
LAST-MODIFIED:20260330T030827Z
UID:4428-1778508000-1778529600@casadoconsolador.com.br
SUMMARY:CONSULTA COM EQUIPE SHELL Y ANN – (NOITE)  / REIKI – (TARDE E NOITE) (Apenas quem mora na Grande São Paulo)
DESCRIPTION:ATIVIDADES DE 2a FEIRA – REIKI (Apenas quem já passou em consulta) – período da TARDE: \n14:00 – ABERTURA DA CASA E DISTRIBUIÇÃO DE FICHAS (PARA QUEM JÁ PASSOU NA CONSULTA)\n14:30 – INÍCIO EVANGELHO\n15:00  – INÍCIO DO TRATAMENTO – REIKI \nATIVIDADES DE 2a FEIRA  CONSULTA COM EQUIPE SHELL Y ANN – período da NOITE: \n17:00 – ABERTURA DA CASA E DISTRIBUIÇÃO DE FICHAS \n17:00 ÀS 18:30hr – Distribuição de Fichas – Consulta com Equipe Shell y Ann:  –  Questões Física e Emocional \n19:30 – INÍCIO DO EVANGELHO. \n20:00 – FEIXE QUÂNTICO (QUINZENAL)\n20:00 – REIKI (SEMANAL) \n. Cirurgia com os Ets – Equipe Shell y Ann (CTD): Estar na Casa até às 19:00hr (SOMENTE PARA QUEM JÁ PASSOU EM CONSULTA)
URL:https://casadoconsolador.com.br/evento/consulta-com-equipe-shell-y-ann-noite-reiki-tarde-e-noite-apenas-quem-mora-na-grande-sao-paulo-3/
END:VEVENT
BEGIN:VEVENT
DTSTART;TZID=America/Sao_Paulo:20260512T140000
DTEND;TZID=America/Sao_Paulo:20260512T200000
DTSTAMP:20260423T115109
CREATED:20260330T030913Z
LAST-MODIFIED:20260330T030913Z
UID:4430-1778594400-1778616000@casadoconsolador.com.br
SUMMARY:CORRENTE DO DR. ESPANHOL E CROMOTERAPIA - TARDE E NOITE
DESCRIPTION:Corrente do Dr. Espanhol: Chegar às 14H para o preparo antes do evangelho \nATIVIDADES DE 3a FEIRA – CROMOTERAPIA (Apenas quem já passou em consulta) – período da TARDE: \n14:00 – ABERTURA DA CASA E DISTRIBUIÇÃO DE FICHAS (PARA QUEM JÁ PASSOU NA CONSULTA)\n14:30 – INÍCIO EVANGELHO\n15:00  – INÍCIO DO TRATAMENTO – CROMOTERAPIA \nATIVIDADES DE 3a FEIRA  – período da NOITE: \n17:00 ÀS 18:00hrs – Distribuição de Fichas – Consulta com o Dr. Espanhol \n\nCIRURGIA DR ESPANHOL – Estar na Casa até às 19:30hrs (SOMENTE PARA QUEM JÁ PASSOU EM CONSULTA)\n\nCromoterapia: APENAS para as pessoas que receberam um encaminhamento pelos Guias da Casa.\nPara residentes da cidade de São Paulo. Período da tarde  (14H)  e período noturno (17H)  para Cromoterapia\, sem agendamento. \n 
URL:https://casadoconsolador.com.br/evento/corrente-do-dr-espanhol-e-cromoterapia-tarde-e-noite-37/
END:VEVENT
BEGIN:VEVENT
DTSTART;TZID=America/Sao_Paulo:20260513T170000
DTEND;TZID=America/Sao_Paulo:20260513T200000
DTSTAMP:20260423T115109
CREATED:20260330T030959Z
LAST-MODIFIED:20260330T030959Z
UID:4432-1778691600-1778702400@casadoconsolador.com.br
SUMMARY:XAMANISMO
DESCRIPTION:Quartas-feiras das 17h00 até 20h\, com palestra às 19h. Atendimento individual por ordem de chegada\, sem agendamento.\nRoda de cura: Acontece na 4ª quarta-feira de cada mês. Para a Roda de cura\, trazer colchonete ou algo confortável para sentar.
URL:https://casadoconsolador.com.br/evento/xamanismo-50/
END:VEVENT
BEGIN:VEVENT
DTSTART;TZID=America/Sao_Paulo:20260514T170000
DTEND;TZID=America/Sao_Paulo:20260514T200000
DTSTAMP:20260423T115109
CREATED:20260330T031039Z
LAST-MODIFIED:20260330T031039Z
UID:4434-1778778000-1778788800@casadoconsolador.com.br
SUMMARY:UMBANDA
DESCRIPTION:ATIVIDADES DE 5a FEIRA – UMBANDA – período da NOITE:\n17 HS – ABERTURA DA CASA E DISTRIBUIÇÃO DE FICHAS PARA A NOITE – a distribuição será por ordem de chegada até às 20 HS \n19:30 HS – RITUAL DE ABERTURA \nQuintas-feiras das 17h. Para tomar passe e consulta com os guias – Por ordem de chegada\, sem agendamento.
URL:https://casadoconsolador.com.br/evento/umbanda-47/
END:VEVENT
BEGIN:VEVENT
DTSTART;TZID=America/Sao_Paulo:20260516T130000
DTEND;TZID=America/Sao_Paulo:20260516T170000
DTSTAMP:20260423T115109
CREATED:20260330T031158Z
LAST-MODIFIED:20260330T031158Z
UID:4436-1778936400-1778950800@casadoconsolador.com.br
SUMMARY:CURSO APRENDIZES DA NOVA TERRA – PRESENCIAL
DESCRIPTION:CURSO SOMENTE PARA ALUNOS JÁ INSCRITOS – APRENDIZES DA NOVA TERRA \nO portão abre 13h e fecha as 14h para começo das aulas. \n1º E 3º SÁBADO \n 
URL:https://casadoconsolador.com.br/evento/curso-aprendizes-da-nova-terra-presencial-21/
END:VEVENT
BEGIN:VEVENT
DTSTART;TZID=America/Sao_Paulo:20260518T140000
DTEND;TZID=America/Sao_Paulo:20260518T200000
DTSTAMP:20260423T115109
CREATED:20260330T031246Z
LAST-MODIFIED:20260330T031246Z
UID:4438-1779112800-1779134400@casadoconsolador.com.br
SUMMARY:CONSULTA COM MESTRES ORIENTAIS – (NOITE)  / REIKI – (TARDE E NOITE) (Apenas quem mora na Grande São Paulo)
DESCRIPTION:ATIVIDADES DE 2a FEIRA – REIKI (Apenas quem já passou em consulta) – período da TARDE: \n14:00 – REIKI DISTRIBUIÇÃO DE FICHAS\n14:30 – INÍCIO EVANGELHO\n15:00  – REIKI \nATIVIDADES DE 2a FEIRA  CONSULTA COM OS MESTRES ORIENTAIS – período da NOITE: \n17:00 – ABERTURA DA CASA E DISTRIBUIÇÃO DE FICHAS \n17:00 ÁS 19:30 – ENTREGA DE FICHAS -CONSULTA COM OS MESTRES ORIENTAIS – QUESTÕES SAUDE EMOCIONAL. (NÃO PRECISA DE AGENDAMENTO)CONSULTA COM MESTRES ORIENTAIS – (NOITE) / REIKI – (TARDE E NOITE) (Apenas quem mora na Grande São Paulo) \n19:30 – INÍCIO DO EVANGELHO. \n20:00 – FEIXE QUÂNTICO (QUINZENAL)\n20:00 – REIKI (SEMANAL)
URL:https://casadoconsolador.com.br/evento/consulta-com-mestres-orientais-noite-reiki-tarde-e-noite-apenas-quem-mora-na-grande-sao-paulo-14/
END:VEVENT
BEGIN:VEVENT
DTSTART;TZID=America/Sao_Paulo:20260519T140000
DTEND;TZID=America/Sao_Paulo:20260519T200000
DTSTAMP:20260423T115109
CREATED:20260330T031340Z
LAST-MODIFIED:20260330T031340Z
UID:4440-1779199200-1779220800@casadoconsolador.com.br
SUMMARY:CORRENTE DO DR. ESPANHOL E CROMOTERAPIA - TARDE E NOITE
DESCRIPTION:Corrente do Dr. Espanhol: Chegar às 14H para o preparo antes do evangelho \nATIVIDADES DE 3a FEIRA – CROMOTERAPIA (Apenas quem já passou em consulta) – período da TARDE: \n14:00 – ABERTURA DA CASA E DISTRIBUIÇÃO DE FICHAS (PARA QUEM JÁ PASSOU NA CONSULTA)\n14:30 – INÍCIO EVANGELHO\n15:00  – INÍCIO DO TRATAMENTO – CROMOTERAPIA \nATIVIDADES DE 3a FEIRA  – período da NOITE: \n17:00 ÀS 18:00hrs – Distribuição de Fichas – Consulta com o Dr. Espanhol \n\nCIRURGIA DR ESPANHOL – Estar na Casa até às 19:30hrs (SOMENTE PARA QUEM JÁ PASSOU EM CONSULTA)\n\nCromoterapia: APENAS para as pessoas que receberam um encaminhamento pelos Guias da Casa.\nPara residentes da cidade de São Paulo. Período da tarde  (14H)  e período noturno (17H)  para Cromoterapia\, sem agendamento. \n 
URL:https://casadoconsolador.com.br/evento/corrente-do-dr-espanhol-e-cromoterapia-tarde-e-noite-38/
END:VEVENT
BEGIN:VEVENT
DTSTART;TZID=America/Sao_Paulo:20260520T170000
DTEND;TZID=America/Sao_Paulo:20260520T200000
DTSTAMP:20260423T115109
CREATED:20260330T031407Z
LAST-MODIFIED:20260330T031407Z
UID:4442-1779296400-1779307200@casadoconsolador.com.br
SUMMARY:XAMANISMO
DESCRIPTION:Quartas-feiras das 17h00 até 20h\, com palestra às 19h. Atendimento individual por ordem de chegada\, sem agendamento.\nRoda de cura: Acontece na 4ª quarta-feira de cada mês. Para a Roda de cura\, trazer colchonete ou algo confortável para sentar. \n 
URL:https://casadoconsolador.com.br/evento/xamanismo-51/
END:VEVENT
BEGIN:VEVENT
DTSTART;TZID=America/Sao_Paulo:20260521T170000
DTEND;TZID=America/Sao_Paulo:20260521T200000
DTSTAMP:20260423T115109
CREATED:20260330T031444Z
LAST-MODIFIED:20260330T031444Z
UID:4444-1779382800-1779393600@casadoconsolador.com.br
SUMMARY:UMBANDA
DESCRIPTION:ATIVIDADES DE 5a FEIRA – UMBANDA – período da NOITE:\n17 HS – ABERTURA DA CASA E DISTRIBUIÇÃO DE FICHAS PARA A NOITE – a distribuição será por ordem de chegada até às 20 HS \n19:30 HS – RITUAL DE ABERTURA \nQuintas-feiras das 17h. Para tomar passe e consulta com os guias – Por ordem de chegada\, sem agendamento.
URL:https://casadoconsolador.com.br/evento/umbanda-48/
END:VEVENT
BEGIN:VEVENT
DTSTART;TZID=America/Sao_Paulo:20260523T120000
DTEND;TZID=America/Sao_Paulo:20260523T170000
DTSTAMP:20260423T115109
CREATED:20260330T031531Z
LAST-MODIFIED:20260330T031531Z
UID:4446-1779537600-1779555600@casadoconsolador.com.br
SUMMARY:DESOBSESSÃO
DESCRIPTION:APENAS para as pessoas que receberam um encaminhamento pelos Guias da Casa.\nSábado\, sem agendamento. \nO portão abre 12h para quem quiser apreciar nosso delicioso almoço na cantina e se acomodar com calma. \nOs assistidos devem chegar até as 13h30 e o portão será fechado às 13h50\, para darmos início aos trabalhos. \n2º  E 4º SÁBADO
URL:https://casadoconsolador.com.br/evento/desobsessao-22/
END:VEVENT
BEGIN:VEVENT
DTSTART;TZID=America/Sao_Paulo:20260525T140000
DTEND;TZID=America/Sao_Paulo:20260525T200000
DTSTAMP:20260423T115109
CREATED:20260330T031609Z
LAST-MODIFIED:20260330T031609Z
UID:4448-1779717600-1779739200@casadoconsolador.com.br
SUMMARY:CONSULTA COM EQUIPE SHELL Y ANN – (NOITE)  / REIKI – (TARDE E NOITE) (Apenas quem mora na Grande São Paulo)
DESCRIPTION:ATIVIDADES DE 2a FEIRA – REIKI (Apenas quem já passou em consulta) – período da TARDE: \n14:00 – ABERTURA DA CASA E DISTRIBUIÇÃO DE FICHAS (PARA QUEM JÁ PASSOU NA CONSULTA)\n14:30 – INÍCIO EVANGELHO\n15:00  – INÍCIO DO TRATAMENTO – REIKI \nATIVIDADES DE 2a FEIRA  CONSULTA COM EQUIPE SHELL Y ANN – período da NOITE: \n17:00 – ABERTURA DA CASA E DISTRIBUIÇÃO DE FICHAS \n17:00 ÀS 18:30hr – Distribuição de Fichas – Consulta com Equipe Shell y Ann:  –  Questões Física e Emocional \n19:30 – INÍCIO DO EVANGELHO. \n20:00 – FEIXE QUÂNTICO (QUINZENAL)\n20:00 – REIKI (SEMANAL) \n. Cirurgia com os Ets – Equipe Shell y Ann (CTD): Estar na Casa até às 19:00hr (SOMENTE PARA QUEM JÁ PASSOU EM CONSULTA) \n 
URL:https://casadoconsolador.com.br/evento/consulta-com-equipe-shell-y-ann-noite-reiki-tarde-e-noite-apenas-quem-mora-na-grande-sao-paulo-4/
END:VEVENT
BEGIN:VEVENT
DTSTART;TZID=America/Sao_Paulo:20260526T140000
DTEND;TZID=America/Sao_Paulo:20260526T200000
DTSTAMP:20260423T115109
CREATED:20260330T031634Z
LAST-MODIFIED:20260330T031634Z
UID:4450-1779804000-1779825600@casadoconsolador.com.br
SUMMARY:CORRENTE DO DR. ESPANHOL E CROMOTERAPIA - TARDE E NOITE
DESCRIPTION:Corrente do Dr. Espanhol: Chegar às 14H para o preparo antes do evangelho \nATIVIDADES DE 3a FEIRA – CROMOTERAPIA (Apenas quem já passou em consulta) – período da TARDE: \n14:00 – ABERTURA DA CASA E DISTRIBUIÇÃO DE FICHAS (PARA QUEM JÁ PASSOU NA CONSULTA)\n14:30 – INÍCIO EVANGELHO\n15:00  – INÍCIO DO TRATAMENTO – CROMOTERAPIA \nATIVIDADES DE 3a FEIRA  – período da NOITE: \n17:00 ÀS 18:00hrs – Distribuição de Fichas – Consulta com o Dr. Espanhol \n\nCIRURGIA DR ESPANHOL – Estar na Casa até às 19:30hrs (SOMENTE PARA QUEM JÁ PASSOU EM CONSULTA)\n\nCromoterapia: APENAS para as pessoas que receberam um encaminhamento pelos Guias da Casa.\nPara residentes da cidade de São Paulo. Período da tarde  (14H)  e período noturno (17H)  para Cromoterapia\, sem agendamento.
URL:https://casadoconsolador.com.br/evento/corrente-do-dr-espanhol-e-cromoterapia-tarde-e-noite-39/
END:VEVENT
BEGIN:VEVENT
DTSTART;TZID=America/Sao_Paulo:20260527T170000
DTEND;TZID=America/Sao_Paulo:20260527T200000
DTSTAMP:20260423T115109
CREATED:20260330T031659Z
LAST-MODIFIED:20260330T031659Z
UID:4452-1779901200-1779912000@casadoconsolador.com.br
SUMMARY:XAMANISMO
DESCRIPTION:Quartas-feiras das 17h00 até 20h\, com palestra às 19h. Atendimento individual por ordem de chegada\, sem agendamento.\nRoda de cura: Acontece na 4ª quarta-feira de cada mês. Para a Roda de cura\, trazer colchonete ou algo confortável para sentar. \n 
URL:https://casadoconsolador.com.br/evento/xamanismo-52/
END:VEVENT
BEGIN:VEVENT
DTSTART;TZID=America/Sao_Paulo:20260528T170000
DTEND;TZID=America/Sao_Paulo:20260528T200000
DTSTAMP:20260423T115109
CREATED:20260330T031752Z
LAST-MODIFIED:20260330T031752Z
UID:4454-1779987600-1779998400@casadoconsolador.com.br
SUMMARY:UMBANDA
DESCRIPTION:ATIVIDADES DE 5a FEIRA – UMBANDA – período da NOITE:\n17 HS – ABERTURA DA CASA E DISTRIBUIÇÃO DE FICHAS PARA A NOITE – a distribuição será por ordem de chegada até às 20 HS \n19:30 HS – RITUAL DE ABERTURA \nQuintas-feiras das 17h. Para tomar passe e consulta com os guias – Por ordem de chegada\, sem agendamento.
URL:https://casadoconsolador.com.br/evento/umbanda-49/
END:VEVENT
BEGIN:VEVENT
DTSTART;VALUE=DATE:20260530
DTEND;VALUE=DATE:20260601
DTSTAMP:20260423T115109
CREATED:20260103T011030Z
LAST-MODIFIED:20260407T182323Z
UID:4124-1780099200-1780271999@casadoconsolador.com.br
SUMMARY:XVII ENCONTRO DE UFOLOGIA E ESPIRITUALIDADE CASA DO CONSOLADOR
DESCRIPTION:LINK PARA INGRESSOS: https://www.sympla.com.br/evento/xvii-encontro-de-ufologia-e-espiritualidade/3362603?referrer=casadoconsolador.com.br&referrer=casadoconsolador.com.br\n\n\n\nProgramação\nSábado – 30/05/2026\n\nPalestras: Juliano e Juliana Pozati\, Francisco Fialho\, Thiago Avelino e Marco Antônio Petit.\nAtração musical: Margarete Áquila.\n\n \nDomingo – 31/05/2026\n\nPalestras: Margarete Áquila\, Fábio Dantas\, Wagner Borges\, Fernando Ramalho\, Margarete Áquila e Mônica de Medeiros.\nEncerramento especial: Mônica de Medeiros e Margarete Áquila.\n\nCardápio do almoço de sábado e domingo (todos os pratos oferecidos\, são veganos) \nSÁBADO\n– Entrada: salada verde e sunomono.\n– Prato principal:\n1-  Feijoada Vegana\, com arroz\, farofa crocante\, couve\, laranja ou\n2- Moqueca Vegana de banana da terra\, arroz\, batata rústica e farofa crocante.\n– Sobremesa: cocada cremosa \nDOMINGO\n– Entrada: Salada verde com palmito e tomate\n– Prato principal:\n1- Risoto de funghi com batata chips ou\n2- Fricassé de frango à base de soja e proteína de ervilha\, arroz\, batata palha.\n– Sobremesa: doce de abóbora com coco
URL:https://casadoconsolador.com.br/evento/xvii-encontro-de-ufologia-e-espiritualidade-casa-do-consolador/
END:VEVENT
BEGIN:VEVENT
DTSTART;VALUE=DATE:20260606
DTEND;VALUE=DATE:20260607
DTSTAMP:20260423T115109
CREATED:20260329T235021Z
LAST-MODIFIED:20260329T235021Z
UID:4378-1780704000-1780790399@casadoconsolador.com.br
SUMMARY:NÃO HAVERÁ AULA
DESCRIPTION:NÃO HAVERÁ AULA
URL:https://casadoconsolador.com.br/evento/nao-havera-aula-3/
END:VEVENT
BEGIN:VEVENT
DTSTART;VALUE=DATE:20260718
DTEND;VALUE=DATE:20260719
DTSTAMP:20260423T115109
CREATED:20260329T235047Z
LAST-MODIFIED:20260329T235047Z
UID:4380-1784332800-1784419199@casadoconsolador.com.br
SUMMARY:NÃO HAVERÁ AULA
DESCRIPTION:NÃO HAVERÁ AULA
URL:https://casadoconsolador.com.br/evento/nao-havera-aula-4/
END:VEVENT
BEGIN:VEVENT
DTSTART;TZID=America/Sao_Paulo:20260725T000000
DTEND;TZID=America/Sao_Paulo:20260725T000000
DTSTAMP:20260423T115109
CREATED:20260103T011205Z
LAST-MODIFIED:20260103T011205Z
UID:4126-1784937600-1784937600@casadoconsolador.com.br
SUMMARY:NOITE MEDIEVAL COM DR. ESPANHOL
DESCRIPTION:Mais informações em breve.
URL:https://casadoconsolador.com.br/evento/noite-medieval-com-dr-espanhol/
END:VEVENT
END:VCALENDAR