BEGIN:VCALENDAR
VERSION:2.0
PRODID:-//Casa do Consolador - ECPv6.15.17.1//NONSGML v1.0//EN
CALSCALE:GREGORIAN
METHOD:PUBLISH
X-ORIGINAL-URL:https://casadoconsolador.com.br
X-WR-CALDESC:Eventos para Casa do Consolador
REFRESH-INTERVAL;VALUE=DURATION:PT1H
X-Robots-Tag:noindex
X-PUBLISHED-TTL:PT1H
BEGIN:VTIMEZONE
TZID:America/Sao_Paulo
BEGIN:STANDARD
TZOFFSETFROM:-0300
TZOFFSETTO:-0300
TZNAME:-03
DTSTART:20240101T000000
END:STANDARD
END:VTIMEZONE
BEGIN:VEVENT
DTSTART;TZID=America/Sao_Paulo:20250522T173000
DTEND;TZID=America/Sao_Paulo:20250522T200000
DTSTAMP:20260424T061830
CREATED:20250425T010618Z
LAST-MODIFIED:20250425T010618Z
UID:3240-1747935000-1747944000@casadoconsolador.com.br
SUMMARY:UMBANDA
DESCRIPTION:Quintas-feiras das 17h30 às 20h. Para tomar passe e consulta com os guias – Por ordem de chegada\, sem agendamento.
URL:https://casadoconsolador.com.br/evento/umbanda-4/
END:VEVENT
BEGIN:VEVENT
DTSTART;TZID=America/Sao_Paulo:20250524T133000
DTEND;TZID=America/Sao_Paulo:20250524T163000
DTSTAMP:20260424T061830
CREATED:20250425T021316Z
LAST-MODIFIED:20250425T021316Z
UID:3288-1748093400-1748104200@casadoconsolador.com.br
SUMMARY:DESOBSESSÃO
DESCRIPTION:APENAS para as pessoas que receberam um encaminhamento pelos Guias da Casa.\nSábado\, sem agendamento.\nOs assistidos devem chegar até as 13h30 e o portão será fechado às 13h50\, para darmos início aos trabalhos.
URL:https://casadoconsolador.com.br/evento/desobsessao-3/
END:VEVENT
BEGIN:VEVENT
DTSTART;TZID=America/Sao_Paulo:20250526T150000
DTEND;TZID=America/Sao_Paulo:20250526T200000
DTSTAMP:20260424T061830
CREATED:20250425T011016Z
LAST-MODIFIED:20250425T232302Z
UID:3244-1748271600-1748289600@casadoconsolador.com.br
SUMMARY:CONSULTA COM MESTRES ORIENTAIS E REIKI- TARDE E NOITE
DESCRIPTION:Consulta com os Mestres Orientais: Para uma pessoa por agendamento (Shell y Ann não ministra as consultas) – Pré agendamento é obrigatório. \nReiki: Atendimento por ordem de chegada\, sem agendamento. \nPERÍODO DA TARDE INICIA 15H ATÉ 17H30 \nPERÍODO NOTURNO INICIA 17H30 ATÉ 20H
URL:https://casadoconsolador.com.br/evento/consulta-com-mestres-orientais-e-reiki-5/
END:VEVENT
BEGIN:VEVENT
DTSTART;TZID=America/Sao_Paulo:20250527T150000
DTEND;TZID=America/Sao_Paulo:20250527T200000
DTSTAMP:20260424T061830
CREATED:20250425T011128Z
LAST-MODIFIED:20250425T232228Z
UID:3246-1748358000-1748376000@casadoconsolador.com.br
SUMMARY:CORRENTE DO DR. ESPANHOL E CROMOTERAPIA - TARDE E NOITE
DESCRIPTION:Corrente do Dr. Espanhol: Chegar às 17h30 para o preparo antes do evangelho – Pré agendamento é obrigatório. \nCromoterapia: APENAS para as pessoas que receberam um encaminhamento pelos Guias da Casa.\nPara residentes da cidade de São Paulo – Sem agendamento. \nPERÍODO DA TARDE INICIA 15H ATÉ 17H30 \nPERÍODO NOTURNO INICIA 17H30 ATÉ 20H
URL:https://casadoconsolador.com.br/evento/corrente-do-dr-espanhol-e-cromoterapia-5/
END:VEVENT
BEGIN:VEVENT
DTSTART;TZID=America/Sao_Paulo:20250528T173000
DTEND;TZID=America/Sao_Paulo:20250528T200000
DTSTAMP:20260424T061830
CREATED:20250425T011229Z
LAST-MODIFIED:20250425T011229Z
UID:3248-1748453400-1748462400@casadoconsolador.com.br
SUMMARY:XAMANISMO
DESCRIPTION:Quartas-feiras das 17h30 até 20h\, com palestra às 19h. Atendimento individual por ordem de chegada\, sem agendamento.\nRoda de cura: Acontece na 4ª quarta-feira de cada mês. Para a Roda de cura\, trazer colchonete ou algo confortável para sentar.
URL:https://casadoconsolador.com.br/evento/xamanismo-5/
END:VEVENT
BEGIN:VEVENT
DTSTART;TZID=America/Sao_Paulo:20250529T173000
DTEND;TZID=America/Sao_Paulo:20250529T200000
DTSTAMP:20260424T061830
CREATED:20250425T011310Z
LAST-MODIFIED:20250425T011310Z
UID:3250-1748539800-1748548800@casadoconsolador.com.br
SUMMARY:UMBANDA
DESCRIPTION:Quintas-feiras das 17h30 às 20h. Para tomar passe e consulta com os guias – Por ordem de chegada\, sem agendamento.
URL:https://casadoconsolador.com.br/evento/umbanda-5/
END:VEVENT
BEGIN:VEVENT
DTSTART;TZID=America/Sao_Paulo:20250531T090000
DTEND;TZID=America/Sao_Paulo:20250531T170000
DTSTAMP:20260424T061830
CREATED:20250424T222929Z
LAST-MODIFIED:20250424T223019Z
UID:3203-1748682000-1748710800@casadoconsolador.com.br
SUMMARY:JORNADA XAMÂNICA PELOS 4 ELEMENTOS - INGRESSOS A VENDA
DESCRIPTION:No dia 31/05/25\, das 9h às 17h\, a Casa do Consolador abre as portas para uma experiência transformadora: um dia inteiro de vivências xamânicas que vão te fazer embarcar em uma jornada de autoconhecimento através dos elementos da natureza. Venha participar conosco\, compre os ingressos pelo link: https://www.sympla.com.br/evento/jornada-xamanica-pelos-4-elementos/2915456
URL:https://casadoconsolador.com.br/evento/jornada-xamanica-pelos-4-elementos-ingressos-a-venda/
CATEGORIES:Eventos
END:VEVENT
BEGIN:VEVENT
DTSTART;TZID=America/Sao_Paulo:20250602T150000
DTEND;TZID=America/Sao_Paulo:20250602T200000
DTSTAMP:20260424T061830
CREATED:20250425T013645Z
LAST-MODIFIED:20250425T232143Z
UID:3252-1748876400-1748894400@casadoconsolador.com.br
SUMMARY:CONSULTA COM MESTRES ORIENTAIS E REIKI- TARDE E NOITE
DESCRIPTION:Consulta com os Mestres Orientais: Para uma pessoa por agendamento (Shell y Ann não ministra as consultas) – Pré agendamento é obrigatório. \nReiki: Atendimento por ordem de chegada\, sem agendamento. \nPERÍODO DA TARDE INICIA 15H ATÉ 17H30 \nPERÍODO NOTURNO INICIA 17H30 ATÉ 20H
URL:https://casadoconsolador.com.br/evento/consulta-com-mestres-orientais-e-reiki-6/
END:VEVENT
BEGIN:VEVENT
DTSTART;TZID=America/Sao_Paulo:20250603T150000
DTEND;TZID=America/Sao_Paulo:20250603T200000
DTSTAMP:20260424T061830
CREATED:20250425T013910Z
LAST-MODIFIED:20250425T232112Z
UID:3254-1748962800-1748980800@casadoconsolador.com.br
SUMMARY:CORRENTE DO DR. ESPANHOL E CROMOTERAPIA - TARDE E NOITE
DESCRIPTION:Corrente do Dr. Espanhol: Chegar às 17h30 para o preparo antes do evangelho – Pré agendamento é obrigatório. \nCromoterapia: APENAS para as pessoas que receberam um encaminhamento pelos Guias da Casa.\nPara residentes da cidade de São Paulo – Sem agendamento. \nPERÍODO DA TARDE INICIA 15H ATÉ 17H30 \nPERÍODO NOTURNO INICIA 17H30 ATÉ 20H
URL:https://casadoconsolador.com.br/evento/corrente-do-dr-espanhol-e-cromoterapia-6/
END:VEVENT
BEGIN:VEVENT
DTSTART;TZID=America/Sao_Paulo:20250604T173000
DTEND;TZID=America/Sao_Paulo:20250604T200000
DTSTAMP:20260424T061830
CREATED:20250425T014005Z
LAST-MODIFIED:20250425T014005Z
UID:3256-1749058200-1749067200@casadoconsolador.com.br
SUMMARY:XAMANISMO
DESCRIPTION:Quartas-feiras das 17h30 até 20h\, com palestra às 19h. Atendimento individual por ordem de chegada\, sem agendamento.\nRoda de cura: Acontece na 4ª quarta-feira de cada mês. Para a Roda de cura\, trazer colchonete ou algo confortável para sentar. \n 
URL:https://casadoconsolador.com.br/evento/xamanismo-6/
END:VEVENT
BEGIN:VEVENT
DTSTART;TZID=America/Sao_Paulo:20250605T173000
DTEND;TZID=America/Sao_Paulo:20250605T200000
DTSTAMP:20260424T061830
CREATED:20250425T014131Z
LAST-MODIFIED:20250425T014131Z
UID:3258-1749144600-1749153600@casadoconsolador.com.br
SUMMARY:UMBANDA
DESCRIPTION:Quintas-feiras das 17h30 às 20h. Para tomar passe e consulta com os guias – Por ordem de chegada\, sem agendamento.
URL:https://casadoconsolador.com.br/evento/umbanda-6/
END:VEVENT
BEGIN:VEVENT
DTSTART;TZID=America/Sao_Paulo:20250607T130000
DTEND;TZID=America/Sao_Paulo:20250607T170000
DTSTAMP:20260424T061830
CREATED:20250425T220355Z
LAST-MODIFIED:20250425T220355Z
UID:3305-1749301200-1749315600@casadoconsolador.com.br
SUMMARY:CURSO APRENDIZES DA NOVA TERRA – PRESENCIAL
DESCRIPTION:CURSO SOMENTE PARA ALUNOS JÁ INSCRITOS – APRENDIZES DA NOVA TERRA \nO portão abre 13h e fecha as 14h para começo das aulas.
URL:https://casadoconsolador.com.br/evento/curso-aprendizes-da-nova-terra-presencial-3/
END:VEVENT
BEGIN:VEVENT
DTSTART;TZID=America/Sao_Paulo:20250609T150000
DTEND;TZID=America/Sao_Paulo:20250609T200000
DTSTAMP:20260424T061830
CREATED:20250425T014436Z
LAST-MODIFIED:20250425T232030Z
UID:3260-1749481200-1749499200@casadoconsolador.com.br
SUMMARY:CONSULTA COM MESTRES ORIENTAIS E REIKI- TARDE E NOITE
DESCRIPTION:Consulta com os Mestres Orientais: Para uma pessoa por agendamento (Shell y Ann não ministra as consultas) – Pré agendamento é obrigatório. \nReiki: Atendimento por ordem de chegada\, sem agendamento. \nPERÍODO DA TARDE INICIA 15H ATÉ 17H30 \nPERÍODO NOTURNO INICIA 17H30 ATÉ 20H
URL:https://casadoconsolador.com.br/evento/consulta-com-mestres-orientais-e-reiki-7/
END:VEVENT
BEGIN:VEVENT
DTSTART;TZID=America/Sao_Paulo:20250610T150000
DTEND;TZID=America/Sao_Paulo:20250610T200000
DTSTAMP:20260424T061830
CREATED:20250425T014525Z
LAST-MODIFIED:20250425T231944Z
UID:3262-1749567600-1749585600@casadoconsolador.com.br
SUMMARY:CORRENTE DO DR. ESPANHOL E CROMOTERAPIA - TARDE E NOITE
DESCRIPTION:Corrente do Dr. Espanhol: Chegar às 17h30 para o preparo antes do evangelho – Pré agendamento é obrigatório. \nCromoterapia: APENAS para as pessoas que receberam um encaminhamento pelos Guias da Casa.\nPara residentes da cidade de São Paulo – Sem agendamento. \nPERÍODO DA TARDE INICIA 15H ATÉ 17H30 \nPERÍODO NOTURNO INICIA 17H30 ATÉ 20H
URL:https://casadoconsolador.com.br/evento/corrente-do-dr-espanhol-e-cromoterapia-7/
END:VEVENT
BEGIN:VEVENT
DTSTART;TZID=America/Sao_Paulo:20250611T173000
DTEND;TZID=America/Sao_Paulo:20250611T200000
DTSTAMP:20260424T061830
CREATED:20250425T014635Z
LAST-MODIFIED:20250425T015401Z
UID:3264-1749663000-1749672000@casadoconsolador.com.br
SUMMARY:XAMANISMO
DESCRIPTION:Quartas-feiras das 17h30 até 20h\, com palestra às 19h. Atendimento individual por ordem de chegada\, sem agendamento.\nRoda de cura: Acontece na 4ª quarta-feira de cada mês. Para a Roda de cura\, trazer colchonete ou algo confortável para sentar. \n 
URL:https://casadoconsolador.com.br/evento/xamanismo-7/
END:VEVENT
BEGIN:VEVENT
DTSTART;TZID=America/Sao_Paulo:20250612T173000
DTEND;TZID=America/Sao_Paulo:20250612T200000
DTSTAMP:20260424T061830
CREATED:20250425T014750Z
LAST-MODIFIED:20250425T014750Z
UID:3266-1749749400-1749758400@casadoconsolador.com.br
SUMMARY:UMBANDA
DESCRIPTION:Quintas-feiras das 17h30 às 20h. Para tomar passe e consulta com os guias – Por ordem de chegada\, sem agendamento.
URL:https://casadoconsolador.com.br/evento/umbanda-7/
END:VEVENT
BEGIN:VEVENT
DTSTART;TZID=America/Sao_Paulo:20250614T133000
DTEND;TZID=America/Sao_Paulo:20250614T163000
DTSTAMP:20260424T061830
CREATED:20250425T021458Z
LAST-MODIFIED:20250425T021458Z
UID:3290-1749907800-1749918600@casadoconsolador.com.br
SUMMARY:DESOBSESSÃO
DESCRIPTION:APENAS para as pessoas que receberam um encaminhamento pelos Guias da Casa.\nSábado\, sem agendamento.\nOs assistidos devem chegar até as 13h30 e o portão será fechado às 13h50\, para darmos início aos trabalhos.
URL:https://casadoconsolador.com.br/evento/desobsessao-4/
END:VEVENT
BEGIN:VEVENT
DTSTART;TZID=America/Sao_Paulo:20250616T150000
DTEND;TZID=America/Sao_Paulo:20250616T200000
DTSTAMP:20260424T061830
CREATED:20250425T014959Z
LAST-MODIFIED:20250425T231913Z
UID:3268-1750086000-1750104000@casadoconsolador.com.br
SUMMARY:CONSULTA COM MESTRES ORIENTAIS E REIKI- TARDE E NOITE
DESCRIPTION:Consulta com os Mestres Orientais: Para uma pessoa por agendamento (Shell y Ann não ministra as consultas) – Pré agendamento é obrigatório. \nReiki: Atendimento por ordem de chegada\, sem agendamento. \nPERÍODO DA TARDE INICIA 15H ATÉ 17H30 \nPERÍODO NOTURNO INICIA 17H30 ATÉ 20H
URL:https://casadoconsolador.com.br/evento/consulta-com-mestres-orientais-e-reiki-8/
END:VEVENT
BEGIN:VEVENT
DTSTART;TZID=America/Sao_Paulo:20250617T150000
DTEND;TZID=America/Sao_Paulo:20250617T200000
DTSTAMP:20260424T061830
CREATED:20250425T015119Z
LAST-MODIFIED:20250425T231744Z
UID:3270-1750172400-1750190400@casadoconsolador.com.br
SUMMARY:CORRENTE DO DR. ESPANHOL E CROMOTERAPIA - TARDE E NOITE
DESCRIPTION:Corrente do Dr. Espanhol: Chegar às 17h30 para o preparo antes do evangelho – Pré agendamento é obrigatório. \nCromoterapia: APENAS para as pessoas que receberam um encaminhamento pelos Guias da Casa.\nPara residentes da cidade de São Paulo – Sem agendamento. \nPERÍODO DA TARDE INICIA 15H ATÉ 17H30 \nPERÍODO NOTURNO INICIA 17H30 ATÉ 20H
URL:https://casadoconsolador.com.br/evento/corrente-do-dr-espanhol-e-cromoterapia-8/
END:VEVENT
BEGIN:VEVENT
DTSTART;TZID=America/Sao_Paulo:20250618T173000
DTEND;TZID=America/Sao_Paulo:20250618T200000
DTSTAMP:20260424T061830
CREATED:20250425T015157Z
LAST-MODIFIED:20250425T015157Z
UID:3272-1750267800-1750276800@casadoconsolador.com.br
SUMMARY:XAMANISMO
DESCRIPTION:Quartas-feiras das 17h30 até 20h\, com palestra às 19h. Atendimento individual por ordem de chegada\, sem agendamento.\nRoda de cura: Acontece na 4ª quarta-feira de cada mês. Para a Roda de cura\, trazer colchonete ou algo confortável para sentar.
URL:https://casadoconsolador.com.br/evento/xamanismo-8/
END:VEVENT
BEGIN:VEVENT
DTSTART;TZID=America/Sao_Paulo:20250619T173000
DTEND;TZID=America/Sao_Paulo:20250619T200000
DTSTAMP:20260424T061830
CREATED:20250425T015247Z
LAST-MODIFIED:20250426T024355Z
UID:3274-1750354200-1750363200@casadoconsolador.com.br
SUMMARY:FERIADO- UMBANDA
DESCRIPTION:Quintas-feiras das 17h30 às 20h. Para tomar passe e consulta com os guias – Por ordem de chegada\, sem agendamento.
URL:https://casadoconsolador.com.br/evento/feriado-umbanda/
END:VEVENT
BEGIN:VEVENT
DTSTART;TZID=America/Sao_Paulo:20250621T130000
DTEND;TZID=America/Sao_Paulo:20250621T170000
DTSTAMP:20260424T061830
CREATED:20250425T220443Z
LAST-MODIFIED:20250425T220443Z
UID:3307-1750510800-1750525200@casadoconsolador.com.br
SUMMARY:CURSO APRENDIZES DA NOVA TERRA – PRESENCIAL
DESCRIPTION:CURSO SOMENTE PARA ALUNOS JÁ INSCRITOS – APRENDIZES DA NOVA TERRA \nO portão abre 13h e fecha as 14h para começo das aulas.
URL:https://casadoconsolador.com.br/evento/curso-aprendizes-da-nova-terra-presencial-4/
END:VEVENT
BEGIN:VEVENT
DTSTART;TZID=America/Sao_Paulo:20250623T150000
DTEND;TZID=America/Sao_Paulo:20250623T200000
DTSTAMP:20260424T061830
CREATED:20250425T015516Z
LAST-MODIFIED:20250425T231705Z
UID:3276-1750690800-1750708800@casadoconsolador.com.br
SUMMARY:CONSULTA COM MESTRES ORIENTAIS E REIKI- TARDE E NOITE
DESCRIPTION:Consulta com os Mestres Orientais: Para uma pessoa por agendamento (Shell y Ann não ministra as consultas) – Pré agendamento é obrigatório. \nReiki: Atendimento por ordem de chegada\, sem agendamento. \nPERÍODO DA TARDE INICIA 15H ATÉ 17H30 \nPERÍODO NOTURNO INICIA 17H30 ATÉ 20H
URL:https://casadoconsolador.com.br/evento/consulta-com-mestres-orientais-e-reiki-9/
END:VEVENT
BEGIN:VEVENT
DTSTART;TZID=America/Sao_Paulo:20250624T150000
DTEND;TZID=America/Sao_Paulo:20250624T200000
DTSTAMP:20260424T061830
CREATED:20250425T015613Z
LAST-MODIFIED:20250425T231608Z
UID:3278-1750777200-1750795200@casadoconsolador.com.br
SUMMARY:CORRENTE DO DR. ESPANHOL E CROMOTERAPIA - TARDE E NOITE
DESCRIPTION:Corrente do Dr. Espanhol: Chegar às 17h30 para o preparo antes do evangelho – Pré agendamento é obrigatório. \nCromoterapia: APENAS para as pessoas que receberam um encaminhamento pelos Guias da Casa.\nPara residentes da cidade de São Paulo – Sem agendamento. \nPERÍODO DA TARDE INICIA 15H ATÉ 17H30 \nPERÍODO NOTURNO INICIA 17H30 ATÉ 20H
URL:https://casadoconsolador.com.br/evento/corrente-do-dr-espanhol-e-cromoterapia-9/
END:VEVENT
BEGIN:VEVENT
DTSTART;TZID=America/Sao_Paulo:20250625T173000
DTEND;TZID=America/Sao_Paulo:20250625T200000
DTSTAMP:20260424T061830
CREATED:20250425T015822Z
LAST-MODIFIED:20250425T015822Z
UID:3280-1750872600-1750881600@casadoconsolador.com.br
SUMMARY:XAMANISMO
DESCRIPTION:Quartas-feiras das 17h30 até 20h\, com palestra às 19h. Atendimento individual por ordem de chegada\, sem agendamento.\nRoda de cura: Acontece na 4ª quarta-feira de cada mês. Para a Roda de cura\, trazer colchonete ou algo confortável para sentar.
URL:https://casadoconsolador.com.br/evento/xamanismo-9/
END:VEVENT
BEGIN:VEVENT
DTSTART;TZID=America/Sao_Paulo:20250626T173000
DTEND;TZID=America/Sao_Paulo:20250626T200000
DTSTAMP:20260424T061830
CREATED:20250425T015907Z
LAST-MODIFIED:20250425T015907Z
UID:3282-1750959000-1750968000@casadoconsolador.com.br
SUMMARY:UMBANDA
DESCRIPTION:Quintas-feiras das 17h30 às 20h. Para tomar passe e consulta com os guias – Por ordem de chegada\, sem agendamento.
URL:https://casadoconsolador.com.br/evento/umbanda-8/
END:VEVENT
BEGIN:VEVENT
DTSTART;TZID=America/Sao_Paulo:20250628T133000
DTEND;TZID=America/Sao_Paulo:20250628T163000
DTSTAMP:20260424T061830
CREATED:20250425T021613Z
LAST-MODIFIED:20250425T021613Z
UID:3292-1751117400-1751128200@casadoconsolador.com.br
SUMMARY:DESOBSESSÃO
DESCRIPTION:APENAS para as pessoas que receberam um encaminhamento pelos Guias da Casa.\nSábado\, sem agendamento.\nOs assistidos devem chegar até as 13h30 e o portão será fechado às 13h50\, para darmos início aos trabalhos.
URL:https://casadoconsolador.com.br/evento/desobsessao-5/
END:VEVENT
BEGIN:VEVENT
DTSTART;TZID=America/Sao_Paulo:20250630T150000
DTEND;TZID=America/Sao_Paulo:20250630T200000
DTSTAMP:20260424T061830
CREATED:20250425T015951Z
LAST-MODIFIED:20250425T231507Z
UID:3284-1751295600-1751313600@casadoconsolador.com.br
SUMMARY:CONSULTA COM MESTRES ORIENTAIS E REIKI- TARDE E NOITE
DESCRIPTION:Consulta com os Mestres Orientais: Para uma pessoa por agendamento (Shell y Ann não ministra as consultas) – Pré agendamento é obrigatório. \nReiki: Atendimento por ordem de chegada\, sem agendamento. \nPERÍODO DA TARDE INICIA 15H ATÉ 17H30 \nPERÍODO NOTURNO INICIA 17H30 ATÉ 20H
URL:https://casadoconsolador.com.br/evento/consulta-com-mestres-orientais-e-reiki-10/
END:VEVENT
BEGIN:VEVENT
DTSTART;TZID=America/Sao_Paulo:20250701T150000
DTEND;TZID=America/Sao_Paulo:20250701T200000
DTSTAMP:20260424T061830
CREATED:20250425T022337Z
LAST-MODIFIED:20250425T231425Z
UID:3294-1751382000-1751400000@casadoconsolador.com.br
SUMMARY:CORRENTE DO DR. ESPANHOL E CROMOTERAPIA - TARDE E NOITE
DESCRIPTION:Corrente do Dr. Espanhol: Chegar às 17h30 para o preparo antes do evangelho – Pré agendamento é obrigatório. \nCromoterapia: APENAS para as pessoas que receberam um encaminhamento pelos Guias da Casa.\nPara residentes da cidade de São Paulo – Sem agendamento. \nPERÍODO DA TARDE INICIA 15H ATÉ 17H30 \nPERÍODO NOTURNO INICIA 17H30 ATÉ 20H
URL:https://casadoconsolador.com.br/evento/corrente-do-dr-espanhol-e-cromoterapia-10/
END:VEVENT
BEGIN:VEVENT
DTSTART;TZID=America/Sao_Paulo:20250702T173000
DTEND;TZID=America/Sao_Paulo:20250702T200000
DTSTAMP:20260424T061830
CREATED:20250425T022423Z
LAST-MODIFIED:20250425T022423Z
UID:3296-1751477400-1751486400@casadoconsolador.com.br
SUMMARY:XAMANISMO
DESCRIPTION:Quartas-feiras das 17h30 até 20h\, com palestra às 19h. Atendimento individual por ordem de chegada\, sem agendamento.\nRoda de cura: Acontece na 4ª quarta-feira de cada mês. Para a Roda de cura\, trazer colchonete ou algo confortável para sentar.
URL:https://casadoconsolador.com.br/evento/xamanismo-10/
END:VEVENT
END:VCALENDAR