BEGIN:VCALENDAR
VERSION:2.0
PRODID:-//Casa do Consolador - ECPv6.15.17.1//NONSGML v1.0//EN
CALSCALE:GREGORIAN
METHOD:PUBLISH
X-ORIGINAL-URL:https://casadoconsolador.com.br
X-WR-CALDESC:Eventos para Casa do Consolador
REFRESH-INTERVAL;VALUE=DURATION:PT1H
X-Robots-Tag:noindex
X-PUBLISHED-TTL:PT1H
BEGIN:VTIMEZONE
TZID:America/Sao_Paulo
BEGIN:STANDARD
TZOFFSETFROM:-0300
TZOFFSETTO:-0300
TZNAME:-03
DTSTART:20240101T000000
END:STANDARD
END:VTIMEZONE
BEGIN:VEVENT
DTSTART;TZID=America/Sao_Paulo:20251011T120000
DTEND;TZID=America/Sao_Paulo:20251011T120000
DTSTAMP:20260423T212810
CREATED:20250426T021058Z
LAST-MODIFIED:20250714T215735Z
UID:3499-1760184000-1760184000@casadoconsolador.com.br
SUMMARY:DESOBSESSÃO
DESCRIPTION:APENAS para as pessoas que receberam um encaminhamento pelos Guias da Casa.\nSábado\, sem agendamento. \nO portão abre 12h para quem quiser apreciar nosso delicioso almoço na cantina e se acomodar com calma. \nOs assistidos devem chegar até as 13h30 e o portão será fechado às 13h50\, para darmos início aos trabalhos.
URL:https://casadoconsolador.com.br/evento/desobsessao-12/
END:VEVENT
BEGIN:VEVENT
DTSTART;TZID=America/Sao_Paulo:20251013T140000
DTEND;TZID=America/Sao_Paulo:20251013T140000
DTSTAMP:20260423T212810
CREATED:20250426T020439Z
LAST-MODIFIED:20251005T011021Z
UID:3481-1760364000-1760364000@casadoconsolador.com.br
SUMMARY:CONSULTA COM OS ETS (EQUIPE DA SHELL Y ANN- CTD) - SAÚDE FÍSICA E EMOCIONAL (Apenas quem mora na Grande São Paulo)- NOITE | REIKI - TARDE E NOITE
DESCRIPTION:ATIVIDADES DE 2a FEIRA – REIKI – período da TARDE: \n14h – REIKI DISTRIBUIÇÃO DE FICHAS\n15h – INÍCIO EVANGELHO\n15h30 – REIKI \nATIVIDADES DE 2a FEIRA – CONSULTA EQUIPE DA SHELL Y ANN(QUINZENAL) – CTD(QUINZENAL) – REIKI (SEMANAL)  – período da NOITE: \n17h – DISTRIBUIÇÃO DE FICHAS PARA OS ATENDIMENTOS. (Entrega das fichas para consulta até ás 18h15) \n18h30 – CONSULTA COM OS ETS (EQUIPE DA SHELL Y ANN-CTD ) ( QUINZENAL) -questões de saúde. \n19h00 -CTD (QUINZENAL) \n19h30 – INÍCIO DO EVANGELHO. \n20h –  FEIXE QUÂNTICO (QUINZENAL) \n20h – REIKI (SEMANAL) \n20h30 – FEIXE QUÂNTICO (QUINZENAL) \nConsulta: EQUIPE DA SHELL Y ANN – CTD (quinzenal) Atendimento por ordem de chegada\, sem agendamento até as 18:15. \nReiki: Atendimento por ordem de chegada\, sem agendamento.
URL:https://casadoconsolador.com.br/evento/consulta-com-mestres-orientais-e-reiki-tarde-e-noite-13/
END:VEVENT
BEGIN:VEVENT
DTSTART;TZID=America/Sao_Paulo:20251014T140000
DTEND;TZID=America/Sao_Paulo:20251014T140000
DTSTAMP:20260423T212810
CREATED:20250426T020708Z
LAST-MODIFIED:20251005T011314Z
UID:3489-1760450400-1760450400@casadoconsolador.com.br
SUMMARY:CORRENTE DO DR. ESPANHOL- NOITE |  CROMOTERAPIA - TARDE E NOITE
DESCRIPTION:ATIVIDADES DE 3a FEIRA – CROMOTERAPIA – período da tarde:\n14HS – DISTRIBUIÇÃO DE FICHAS\n15HS – INÍCIO EVANGELHO\n15:30 HS – PASSE\n15:30 HS – APLICAÇÃO DE CROMOTERAPIA (só para quem já tem o tratamento prescrito) \nATIVIDADES DE 3a FEIRA – DR. ESPANHOL e CROMOTERAPIA – período da NOITE: \n17:00 HS – DISTRIBUIÇÃO DE FICHAS CROMOTERAPIA E CONSULTA \n18:30 HS – ATENDIMENTO DR. ESPANHOL PCDs (Apenas para quem fez agendamento) \n19:30 HS – INÍCIO DO EVANGELHO \n20:00 HS – PASSE \n20:00 HS – ATENDIMENTO CROMOTERAPIA (somente para quem já tem o tratamento prescrito ou já recebeu a devolução da consulta PCD) \nPré agendamento é obrigatório para consultas. \nCromoterapia: APENAS para as pessoas que passaram em consulta PRESENCIAL com a corrente do Dr. Espanhol.\nCromoterapia para residentes da cidade de São Paulo  – Sem agendamento.
URL:https://casadoconsolador.com.br/evento/corrente-do-dr-espanhol-e-cromoterapia-tarde-e-noite-13/
END:VEVENT
BEGIN:VEVENT
DTSTART;TZID=America/Sao_Paulo:20251015T170000
DTEND;TZID=America/Sao_Paulo:20251015T170000
DTSTAMP:20260423T212810
CREATED:20250426T020252Z
LAST-MODIFIED:20250714T215005Z
UID:3473-1760547600-1760547600@casadoconsolador.com.br
SUMMARY:XAMANISMO
DESCRIPTION:ATIVIDADES DE 4a FEIRA – XAMANISMO – período da NOITE:\n17 HS – ABERTURA DA CASA \, DISTRIBUIÇÃO DE FICHAS PARA A NOITE \n19:30 HS – PALESTRA \n20 HS – ATENDIMENTOS \nAtendimento individual por ordem de chegada\, sem agendamento.\nRoda de cura: Acontece na 4ª quarta-feira de cada mês. Para a Roda de cura\, trazer colchonete ou algo confortável para sentar.
URL:https://casadoconsolador.com.br/evento/xamanismo-25/
END:VEVENT
BEGIN:VEVENT
DTSTART;TZID=America/Sao_Paulo:20251016T170000
DTEND;TZID=America/Sao_Paulo:20251016T170000
DTSTAMP:20260423T212810
CREATED:20250426T020015Z
LAST-MODIFIED:20250714T214415Z
UID:3463-1760634000-1760634000@casadoconsolador.com.br
SUMMARY:UMBANDA
DESCRIPTION:ATIVIDADES DE 5a FEIRA – UMBANDA – período da NOITE:\n17 HS – ABERTURA DA CASA E DISTRIBUIÇÃO DE FICHAS PARA A NOITE – a distribuição será por ordem de chegada. \n19:30 HS – RITUAL DE ABERTURA \nQuintas-feiras das 17h. Para tomar passe e consulta com os guias – Por ordem de chegada\, sem agendamento.
URL:https://casadoconsolador.com.br/evento/umbanda-24/
END:VEVENT
BEGIN:VEVENT
DTSTART;TZID=America/Sao_Paulo:20251018T130000
DTEND;TZID=America/Sao_Paulo:20251018T170000
DTSTAMP:20260423T212810
CREATED:20250426T021022Z
LAST-MODIFIED:20250426T021022Z
UID:3497-1760792400-1760806800@casadoconsolador.com.br
SUMMARY:CURSO APRENDIZES DA NOVA TERRA – PRESENCIAL
DESCRIPTION:CURSO SOMENTE PARA ALUNOS JÁ INSCRITOS – APRENDIZES DA NOVA TERRA \nO portão abre 13h e fecha as 14h para começo das aulas.
URL:https://casadoconsolador.com.br/evento/curso-aprendizes-da-nova-terra-presencial-12/
END:VEVENT
BEGIN:VEVENT
DTSTART;TZID=America/Sao_Paulo:20251018T160000
DTEND;TZID=America/Sao_Paulo:20251018T190000
DTSTAMP:20260423T212810
CREATED:20250714T174355Z
LAST-MODIFIED:20250925T234738Z
UID:3663-1760803200-1760814000@casadoconsolador.com.br
SUMMARY:🌟 *Convite Especial* 🌟 *Show de Talentos – Casa do Consolador*
DESCRIPTION:O EVENTO SERÁ ABERTO AO PÚBLICO\, PORÉM\, SUJEITO A INSCRIÇÕES DEVIDO A QUANTIDADE LIMITADA DE LUGARES. \nLINK DISPONÍVEL: https://www.sympla.com.br/evento/show-de-talentos—casa-do-consolador/3107188 \n✨ “A arte é o sopro do espírito\, e a música\, a linguagem da alma.” ✨ \nCom alegria\, convidamos todos para um encontro fraterno que visa fomentar a *arte\, a música e a cultura* como instrumentos de cura\, elevação e união. \n🗓 *Data:* 18 de outubro\n⏰ *Horário:* 16h00 – 20h00\n📍 *Local:* Casa do Consolador \nEste evento marca o início de um *movimento artístico‑cultural pela Nova Terra\, onde cada expressão criativa é um canal de luz e transformação. \nIMPORTANTE: \n\nO evento acontecerá das 16h00 às 19h00\, com abertura dos portões às 14h00\, para que todos possam chegar com calma e curtir cada detalhe.\nO valor do ingresso inclui acesso ao evento.\nCrianças ou menores de idade só poderão participar acompanhadas dos pais.
URL:https://casadoconsolador.com.br/evento/%f0%9f%8c%9f-convite-especial-%f0%9f%8c%9f-show-de-talentos-casa-do-consolador/
LOCATION:CASA DO CONSOLADOR\, AV. ENGENHEIRO GEORGE CORBISIER\,1481\, SÃO PAULO\, SÃO PAULO\, 04345001\, Brazil
CATEGORIES:Eventos
END:VEVENT
BEGIN:VEVENT
DTSTART;TZID=America/Sao_Paulo:20251020T140000
DTEND;TZID=America/Sao_Paulo:20251020T140000
DTSTAMP:20260423T212810
CREATED:20250426T020457Z
LAST-MODIFIED:20251019T183024Z
UID:3483-1760968800-1760968800@casadoconsolador.com.br
SUMMARY:CONSULTA COM MESTRES ORIENTAIS – NOITE / REIKI – NOITE E TARDE
DESCRIPTION:ATIVIDADES DE 2a FEIRA – REIKI(Apenas quem já passou em consulta) – período da TARDE: \n14:00 – REIKI DISTRIBUIÇÃO DE FICHAS\n15:00 – INÍCIO EVANGELHO\n15:30  – REIKI \nATIVIDADES DE 2a FEIRA  CONSULTA COM OS MESTRES ORIENTAIS – período da NOITE: \n17:00 – DISTRIBUIÇÃO DE FICHAS PARA OS ATENDIMENTOS. FICHAS PARA CONSULTA ATÉ ÁS 19:30HS \n19:30 – INÍCIO DO EVANGELHO. \n20:00 – (QUINZENAL) CONSULTA COM MESTRES ORIENTAIS – questões emocionais \n20:00 – FEIXE QUÂNTICO (QUINZENAL)\n20:00 – REIKI (SEMANAL) \nConsulta com os Mestres Orientais: Não é necessário  pré agendamento. \nReiki: Atendimento por ordem de chegada\, sem agendamento.
URL:https://casadoconsolador.com.br/evento/consulta-com-mestres-orientais-e-reiki-tarde-e-noite-14/
END:VEVENT
BEGIN:VEVENT
DTSTART;TZID=America/Sao_Paulo:20251021T140000
DTEND;TZID=America/Sao_Paulo:20251021T140000
DTSTAMP:20260423T212810
CREATED:20250426T020722Z
LAST-MODIFIED:20251019T184000Z
UID:3491-1761055200-1761055200@casadoconsolador.com.br
SUMMARY:CORRENTE DO DR. ESPANHOL- NOITE | CROMOTERAPIA – TARDE E NOITE
DESCRIPTION:ATIVIDADES DE 3a FEIRA – CROMOTERAPIA – período da tarde:\n14:00 – DISTRIBUIÇÃO DE FICHAS\n15:00 – INÍCIO EVANGELHO\n15:30 – PASSE\n15:30  – APLICAÇÃO DE CROMOTERAPIA (só para quem já tem o tratamento prescrito) \nATIVIDADES DE 3a FEIRA – DR. ESPANHOL e CROMOTERAPIA – período da NOITE: \n17:00  – DISTRIBUIÇÃO DE FICHAS CROMOTERAPIA E CONSULTA \n18:30 – ATENDIMENTO DR. ESPANHOL PCDs (Apenas para quem fez agendamento) \n19:30  – INÍCIO DO EVANGELHO \n20:00  – PASSE \n20:00 – ATENDIMENTO CROMOTERAPIA (somente para quem já tem o tratamento prescrito ou já recebeu a devolução da consulta PCD) \nPré agendamento é obrigatório para consultas. \nCromoterapia: APENAS para as pessoas que passaram em consulta PRESENCIAL com a corrente do Dr. Espanhol.\nCromoterapia para residentes da cidade de São Paulo  – Sem agendamento.
URL:https://casadoconsolador.com.br/evento/corrente-do-dr-espanhol-e-cromoterapia-tarde-e-noite-14/
END:VEVENT
BEGIN:VEVENT
DTSTART;TZID=America/Sao_Paulo:20251022T170000
DTEND;TZID=America/Sao_Paulo:20251022T170000
DTSTAMP:20260423T212810
CREATED:20250426T020307Z
LAST-MODIFIED:20250714T205242Z
UID:3475-1761152400-1761152400@casadoconsolador.com.br
SUMMARY:XAMANISMO
DESCRIPTION:ATIVIDADES DE 4a FEIRA – XAMANISMO – período da NOITE:\n17 HS – ABERTURA DA CASA \, DISTRIBUIÇÃO DE FICHAS PARA A NOITE \n19:30 HS – PALESTRA \n20 HS – ATENDIMENTOS \nAtendimento individual por ordem de chegada\, sem agendamento.\nRoda de cura: Acontece na 4ª quarta-feira de cada mês. Para a Roda de cura\, trazer colchonete ou algo confortável para sentar.
URL:https://casadoconsolador.com.br/evento/xamanismo-26/
END:VEVENT
BEGIN:VEVENT
DTSTART;TZID=America/Sao_Paulo:20251023T170000
DTEND;TZID=America/Sao_Paulo:20251023T170000
DTSTAMP:20260423T212810
CREATED:20250426T020055Z
LAST-MODIFIED:20250714T205116Z
UID:3465-1761238800-1761238800@casadoconsolador.com.br
SUMMARY:UMBANDA
DESCRIPTION:ATIVIDADES DE 5a FEIRA – UMBANDA – período da NOITE:\n17 HS – ABERTURA DA CASA E DISTRIBUIÇÃO DE FICHAS PARA A NOITE – a distribuição será por ordem de chegada. \n19:30 HS – RITUAL DE ABERTURA \nQuintas-feiras das 17h. Para tomar passe e consulta com os guias – Por ordem de chegada\, sem agendamento.
URL:https://casadoconsolador.com.br/evento/umbanda-25/
END:VEVENT
BEGIN:VEVENT
DTSTART;TZID=America/Sao_Paulo:20251025T120000
DTEND;TZID=America/Sao_Paulo:20251025T120000
DTSTAMP:20260423T212810
CREATED:20250426T021125Z
LAST-MODIFIED:20250714T204545Z
UID:3501-1761393600-1761393600@casadoconsolador.com.br
SUMMARY:DESOBSESSÃO
DESCRIPTION:APENAS para as pessoas que receberam um encaminhamento pelos Guias da Casa.\nSábado\, sem agendamento. \nO portão abre 12h para quem quiser apreciar nosso delicioso almoço na cantina e se acomodar com calma. \nOs assistidos devem chegar até as 13h30 e o portão será fechado às 13h50\, para darmos início aos trabalhos. \n 
URL:https://casadoconsolador.com.br/evento/desobsessao-13/
END:VEVENT
BEGIN:VEVENT
DTSTART;TZID=America/Sao_Paulo:20251027T140000
DTEND;TZID=America/Sao_Paulo:20251027T140000
DTSTAMP:20260423T212810
CREATED:20250426T020512Z
LAST-MODIFIED:20251019T183532Z
UID:3485-1761573600-1761573600@casadoconsolador.com.br
SUMMARY:CONSULTA COM OS ETS (EQUIPE DA SHELL Y ANN- CTD) – SAÚDE FÍSICA (Apenas quem mora na Grande São Paulo)- NOITE | REIKI – TARDE E NOITE
DESCRIPTION:ATIVIDADES DE 2a FEIRA – REIKI – período da TARDE: \n14:00 – REIKI DISTRIBUIÇÃO DE FICHAS\n15:00 – INÍCIO EVANGELHO\n15:30 – REIKI \nATIVIDADES DE 2a FEIRA – CONSULTA EQUIPE DA SHELL Y ANN(QUINZENAL) – CTD(QUINZENAL) – REIKI (SEMANAL)  – período da NOITE: \n17:00– DISTRIBUIÇÃO DE FICHAS PARA OS ATENDIMENTOS. (Entrega das fichas para consulta até ás 18h15) \n18:30 – CONSULTA COM OS ETS (EQUIPE DA SHELL Y ANN-CTD ) ( QUINZENAL) -questões de saúde. \n19:00 -CTD (QUINZENAL) \n19:30 – INÍCIO DO EVANGELHO. \n20:00 –  FEIXE QUÂNTICO (QUINZENAL) \n20:00 – REIKI (SEMANAL) \n20:30 – FEIXE QUÂNTICO (QUINZENAL) \nConsulta: EQUIPE DA SHELL Y ANN – CTD (quinzenal) Atendimento por ordem de chegada\, sem agendamento até as 18:15. \nReiki: Atendimento por ordem de chegada\, sem agendamento.
URL:https://casadoconsolador.com.br/evento/consulta-com-mestres-orientais-e-reiki-tarde-e-noite-15/
END:VEVENT
BEGIN:VEVENT
DTSTART;TZID=America/Sao_Paulo:20251028T140000
DTEND;TZID=America/Sao_Paulo:20251028T140000
DTSTAMP:20260423T212810
CREATED:20250426T020736Z
LAST-MODIFIED:20251029T173400Z
UID:3493-1761660000-1761660000@casadoconsolador.com.br
SUMMARY:CORRENTE DO DR. ESPANHOL- NOITE / CROMOTERAPIA – TARDE E NOITE
DESCRIPTION:ATIVIDADES DE 3a FEIRA – CROMOTERAPIA – período da tarde:\n14:00 – DISTRIBUIÇÃO DE FICHAS\n15:00 – INÍCIO EVANGELHO\n15:30 – PASSE\n15:30  – APLICAÇÃO DE CROMOTERAPIA (só para quem já tem o tratamento prescrito) \nATIVIDADES DE 3a FEIRA – DR. ESPANHOL e CROMOTERAPIA – período da NOITE: \n17:00  –ABERTURA DA CASA E  DISTRIBUIÇÃO DE FICHAS \n17:00 ÁS 18:30 – ATENDIMENTO DR. ESPANHOL PCDs (NÃO É NECESSÁRIO AGENDAMENTO) \n19:30  – INÍCIO DO EVANGELHO \n20:00  – PASSE \n20:00 – ATENDIMENTO CROMOTERAPIA (somente para quem já tem o tratamento prescrito ou já recebeu a devolução da consulta PCD) \n20:00 – CIRURGIAS COM EQUIPE DO DR. ESPANHOL – ENTREGA DE FICHAS ATÉ 19:30. (somento para quem jpa passou em consulta e tem a cirurgia presencial) \nCromoterapia: APENAS para as pessoas que passaram em consulta PRESENCIAL com a corrente do Dr. Espanhol.\nCromoterapia para residentes da cidade de São Paulo  – Sem agendamento.
URL:https://casadoconsolador.com.br/evento/corrente-do-dr-espanhol-e-cromoterapia-tarde-e-noite-15/
END:VEVENT
BEGIN:VEVENT
DTSTART;TZID=America/Sao_Paulo:20251029T170000
DTEND;TZID=America/Sao_Paulo:20251029T170000
DTSTAMP:20260423T212810
CREATED:20250426T020322Z
LAST-MODIFIED:20250714T204109Z
UID:3477-1761757200-1761757200@casadoconsolador.com.br
SUMMARY:XAMANISMO
DESCRIPTION:ATIVIDADES DE 4a FEIRA – XAMANISMO – período da NOITE:\n17 HS – ABERTURA DA CASA \, DISTRIBUIÇÃO DE FICHAS PARA A NOITE \n19:30 HS – PALESTRA \n20 HS – ATENDIMENTOS \nAtendimento individual por ordem de chegada\, sem agendamento.\nRoda de cura: Acontece na 4ª quarta-feira de cada mês. Para a Roda de cura\, trazer colchonete ou algo confortável para sentar.
URL:https://casadoconsolador.com.br/evento/xamanismo-27/
END:VEVENT
BEGIN:VEVENT
DTSTART;TZID=America/Sao_Paulo:20251030T170000
DTEND;TZID=America/Sao_Paulo:20251030T170000
DTSTAMP:20260423T212810
CREATED:20250426T020112Z
LAST-MODIFIED:20250714T204006Z
UID:3467-1761843600-1761843600@casadoconsolador.com.br
SUMMARY:UMBANDA
DESCRIPTION:ATIVIDADES DE 5a FEIRA – UMBANDA – período da NOITE:\n17 HS – ABERTURA DA CASA E DISTRIBUIÇÃO DE FICHAS PARA A NOITE – a distribuição será por ordem de chegada. \n19:30 HS – RITUAL DE ABERTURA \nQuintas-feiras das 17h. Para tomar passe e consulta com os guias – Por ordem de chegada\, sem agendamento. \n 
URL:https://casadoconsolador.com.br/evento/umbanda-26/
END:VEVENT
BEGIN:VEVENT
DTSTART;TZID=America/Sao_Paulo:20251101T130000
DTEND;TZID=America/Sao_Paulo:20251101T170000
DTSTAMP:20260423T212810
CREATED:20250426T021502Z
LAST-MODIFIED:20250426T021502Z
UID:3507-1762002000-1762016400@casadoconsolador.com.br
SUMMARY:CURSO APRENDIZES DA NOVA TERRA – PRESENCIAL
DESCRIPTION:CURSO SOMENTE PARA ALUNOS JÁ INSCRITOS – APRENDIZES DA NOVA TERRA \nO portão abre 13h e fecha as 14h para começo das aulas.
URL:https://casadoconsolador.com.br/evento/curso-aprendizes-da-nova-terra-presencial-13/
END:VEVENT
BEGIN:VEVENT
DTSTART;TZID=America/Sao_Paulo:20251103T140000
DTEND;TZID=America/Sao_Paulo:20251103T140000
DTSTAMP:20260423T212810
CREATED:20250426T021801Z
LAST-MODIFIED:20251103T193122Z
UID:3512-1762178400-1762178400@casadoconsolador.com.br
SUMMARY:CONSULTA COM MESTRES ORIENTAIS – NOITE / REIKI – NOITE E TARDE
DESCRIPTION:ATIVIDADES DE 2a FEIRA – REIKI(Apenas quem já passou em consulta) – período da TARDE: \n14:00 – REIKI DISTRIBUIÇÃO DE FICHAS\n15:00 – INÍCIO EVANGELHO\n15:30  – REIKI \nATIVIDADES DE 2a FEIRA  CONSULTA COM OS MESTRES ORIENTAIS – período da NOITE: \n17:00 – DISTRIBUIÇÃO DE FICHAS PARA OS ATENDIMENTOS. FICHAS PARA CONSULTA ATÉ ÁS 19:30HS \n19:30 – INÍCIO DO EVANGELHO. \n20:00 – (QUINZENAL- ENTREGA DE FICHAS ATÉ AS 19:30) CONSULTA COM MESTRES ORIENTAIS – questões emocionais \n20:00 – FEIXE QUÂNTICO (QUINZENAL)\n20:00 – REIKI (SEMANAL) \nConsulta com os Mestres Orientais: Não é necessário  pré agendamento. \n 
URL:https://casadoconsolador.com.br/evento/consulta-com-mestres-orientais-e-reiki-tarde-e-noite-16/
END:VEVENT
BEGIN:VEVENT
DTSTART;TZID=America/Sao_Paulo:20251104T140000
DTEND;TZID=America/Sao_Paulo:20251104T140000
DTSTAMP:20260423T212810
CREATED:20250426T022038Z
LAST-MODIFIED:20251031T154535Z
UID:3520-1762264800-1762264800@casadoconsolador.com.br
SUMMARY:CORRENTE DO DR. ESPANHOL- NOITE / CROMOTERAPIA – TARDE E NOITE
DESCRIPTION:ATIVIDADES DE 3a FEIRA – CROMOTERAPIA – período da tarde:\n14:00 – DISTRIBUIÇÃO DE FICHAS\n15:00 – INÍCIO EVANGELHO\n15:30 – PASSE\n15:30  – APLICAÇÃO DE CROMOTERAPIA (somente para quem já tem o tratamento prescrito) \nATIVIDADES DE 3a FEIRA – DR. ESPANHOL e CROMOTERAPIA – período da NOITE: \n17:00  –ABERTURA DA CASA E  DISTRIBUIÇÃO DE FICHAS \n17:00 ÀS 18:00 – ATENDIMENTO DR. ESPANHOL PCDs (NÃO É NECESSÁRIO AGENDAMENTO) \n19:30  – INÍCIO DO EVANGELHO \n20:00  – PASSE \n20:00 – ATENDIMENTO CROMOTERAPIA (somente para quem já tem o tratamento prescrito) \n20:00 – CIRURGIAS COM EQUIPE DO DR. ESPANHOL – ENTREGA DE FICHAS ATÉ 19:30 (somente para quem já passou em consulta e tem a cirurgia presencial) \n 
URL:https://casadoconsolador.com.br/evento/corrente-do-dr-espanhol-e-cromoterapia-tarde-e-noite-16/
END:VEVENT
BEGIN:VEVENT
DTSTART;TZID=America/Sao_Paulo:20251105T170000
DTEND;TZID=America/Sao_Paulo:20251105T170000
DTSTAMP:20260423T212810
CREATED:20250426T022332Z
LAST-MODIFIED:20250714T202801Z
UID:3528-1762362000-1762362000@casadoconsolador.com.br
SUMMARY:XAMANISMO
DESCRIPTION:ATIVIDADES DE 4a FEIRA – XAMANISMO – período da NOITE:\n17 HS – ABERTURA DA CASA \, DISTRIBUIÇÃO DE FICHAS PARA A NOITE \n19:30 HS – PALESTRA \n20 HS – ATENDIMENTOS \nAtendimento individual por ordem de chegada\, sem agendamento.\nRoda de cura: Acontece na 4ª quarta-feira de cada mês. Para a Roda de cura\, trazer colchonete ou algo confortável para sentar.
URL:https://casadoconsolador.com.br/evento/xamanismo-28/
END:VEVENT
BEGIN:VEVENT
DTSTART;TZID=America/Sao_Paulo:20251106T170000
DTEND;TZID=America/Sao_Paulo:20251106T170000
DTSTAMP:20260423T212810
CREATED:20250426T022514Z
LAST-MODIFIED:20250714T202607Z
UID:3536-1762448400-1762448400@casadoconsolador.com.br
SUMMARY:UMBANDA
DESCRIPTION:ATIVIDADES DE 5a FEIRA – UMBANDA – período da NOITE:\n17 HS – ABERTURA DA CASA E DISTRIBUIÇÃO DE FICHAS PARA A NOITE – a distribuição será por ordem de chegada. \n19:30 HS – RITUAL DE ABERTURA \nQuintas-feiras das 17h. Para tomar passe e consulta com os guias – Por ordem de chegada\, sem agendamento.
URL:https://casadoconsolador.com.br/evento/umbanda-27/
END:VEVENT
BEGIN:VEVENT
DTSTART;TZID=America/Sao_Paulo:20251108T120000
DTEND;TZID=America/Sao_Paulo:20251108T120000
DTSTAMP:20260423T212810
CREATED:20250426T021352Z
LAST-MODIFIED:20250714T202418Z
UID:3503-1762603200-1762603200@casadoconsolador.com.br
SUMMARY:DESOBSESSÃO
DESCRIPTION:APENAS para as pessoas que receberam um encaminhamento pelos Guias da Casa.\nSábado\, sem agendamento. \nO portão abre 12h para quem quiser apreciar nosso delicioso almoço na cantina e se acomodar com calma. \nOs assistidos devem chegar até as 13h30 e o portão será fechado às 13h50\, para darmos início aos trabalhos.
URL:https://casadoconsolador.com.br/evento/desobsessao-14/
END:VEVENT
BEGIN:VEVENT
DTSTART;TZID=America/Sao_Paulo:20251110T140000
DTEND;TZID=America/Sao_Paulo:20251110T140000
DTSTAMP:20260423T212810
CREATED:20250426T021830Z
LAST-MODIFIED:20251019T184753Z
UID:3514-1762783200-1762783200@casadoconsolador.com.br
SUMMARY:CONSULTA COM OS ETS (EQUIPE DA SHELL Y ANN- CTD) – SAÚDE FÍSICA (Apenas quem mora na Grande São Paulo)- NOITE | REIKI – TARDE E NOITE
DESCRIPTION:ATIVIDADES DE 2a FEIRA – REIKI – período da TARDE: \n14:00 – REIKI DISTRIBUIÇÃO DE FICHAS\n15:00 – INÍCIO EVANGELHO\n15:30 – REIKI \nATIVIDADES DE 2a FEIRA – CONSULTA EQUIPE DA SHELL Y ANN(QUINZENAL) – CTD(QUINZENAL) – REIKI (SEMANAL)  – período da NOITE: \n17:00– DISTRIBUIÇÃO DE FICHAS PARA OS ATENDIMENTOS. (Entrega das fichas até ás 18h15) \n18:30 – CONSULTA COM OS ETS (EQUIPE DA SHELL Y ANN-CTD ) ( QUINZENAL) -questões de saúde. \n19:00 -CTD (QUINZENAL) \n19:30 – INÍCIO DO EVANGELHO. \n20:00 –  FEIXE QUÂNTICO (QUINZENAL) \n20:00 – REIKI (SEMANAL) \nConsulta: EQUIPE DA SHELL Y ANN – CTD (quinzenal) Atendimento por ordem de chegada\, sem agendamento até as 18:15. \nReiki: Atendimento por ordem de chegada\, sem agendamento.
URL:https://casadoconsolador.com.br/evento/consulta-com-mestres-orientais-e-reiki-tarde-e-noite-17/
END:VEVENT
BEGIN:VEVENT
DTSTART;TZID=America/Sao_Paulo:20251111T140000
DTEND;TZID=America/Sao_Paulo:20251111T140000
DTSTAMP:20260423T212810
CREATED:20250426T022056Z
LAST-MODIFIED:20251111T132039Z
UID:3522-1762869600-1762869600@casadoconsolador.com.br
SUMMARY:CORRENTE DO DR. ESPANHOL (NOITE)  / CROMOTERAPIA – (TARDE E NOITE)
DESCRIPTION:ATIVIDADES DE 3a FEIRA – CROMOTERAPIA – período da tarde:\n14:00 – DISTRIBUIÇÃO DE FICHAS\n15:00 – INÍCIO EVANGELHO\n15:30 – PASSE\n15:30  – APLICAÇÃO DE CROMOTERAPIA (somente para quem já tem o tratamento prescrito) \nATIVIDADES DE 3a FEIRA – DR. ESPANHOL e CROMOTERAPIA – período da NOITE: \n17:00  –ABERTURA DA CASA E  DISTRIBUIÇÃO DE FICHAS \n17:00 ÀS 18:00 – ATENDIMENTO DR. ESPANHOL PCDs (NÃO É NECESSÁRIO AGENDAMENTO) \n19:30  – INÍCIO DO EVANGELHO \n20:00  – PASSE \n20:00 – ATENDIMENTO CROMOTERAPIA (somente para quem já tem o tratamento prescrito) \n20:00 – CIRURGIAS COM EQUIPE DO DR. ESPANHOL – ENTREGA DE FICHAS ATÉ 19:30 (somente para quem já passou em consulta e tem a cirurgia presencial)
URL:https://casadoconsolador.com.br/evento/corrente-do-dr-espanhol-e-cromoterapia-tarde-e-noite-17/
END:VEVENT
BEGIN:VEVENT
DTSTART;TZID=America/Sao_Paulo:20251112T170000
DTEND;TZID=America/Sao_Paulo:20251112T170000
DTSTAMP:20260423T212810
CREATED:20250426T022350Z
LAST-MODIFIED:20250714T201943Z
UID:3530-1762966800-1762966800@casadoconsolador.com.br
SUMMARY:XAMANISMO
DESCRIPTION:ATIVIDADES DE 4a FEIRA – XAMANISMO – período da NOITE:\n17 HS – ABERTURA DA CASA \, DISTRIBUIÇÃO DE FICHAS PARA A NOITE \n19:30 HS – PALESTRA \n20 HS – ATENDIMENTOS \nAtendimento individual por ordem de chegada\, sem agendamento.\nRoda de cura: Acontece na 4ª quarta-feira de cada mês. Para a Roda de cura\, trazer colchonete ou algo confortável para sentar.
URL:https://casadoconsolador.com.br/evento/xamanismo-29/
END:VEVENT
BEGIN:VEVENT
DTSTART;TZID=America/Sao_Paulo:20251113T170000
DTEND;TZID=America/Sao_Paulo:20251113T170000
DTSTAMP:20260423T212810
CREATED:20250426T022545Z
LAST-MODIFIED:20250714T201603Z
UID:3538-1763053200-1763053200@casadoconsolador.com.br
SUMMARY:UMBANDA
DESCRIPTION:ATIVIDADES DE 5a FEIRA – UMBANDA – período da NOITE:\n17 HS – ABERTURA DA CASA E DISTRIBUIÇÃO DE FICHAS PARA A NOITE – a distribuição será por ordem de chegada. \n19:30 HS – RITUAL DE ABERTURA \nQuintas-feiras das 17h. Para tomar passe e consulta com os guias – Por ordem de chegada\, sem agendamento.
URL:https://casadoconsolador.com.br/evento/umbanda-28/
END:VEVENT
BEGIN:VEVENT
DTSTART;TZID=America/Sao_Paulo:20251115T130000
DTEND;TZID=America/Sao_Paulo:20251115T170000
DTSTAMP:20260423T212810
CREATED:20250426T021518Z
LAST-MODIFIED:20250426T024348Z
UID:3509-1763211600-1763226000@casadoconsolador.com.br
SUMMARY:FERIADO- CURSO APRENDIZES DA NOVA TERRA – PRESENCIAL
DESCRIPTION:CURSO SOMENTE PARA ALUNOS JÁ INSCRITOS – APRENDIZES DA NOVA TERRA \nO portão abre 13h e fecha as 14h para começo das aulas.
URL:https://casadoconsolador.com.br/evento/curso-aprendizes-da-nova-terra-presencial-14/
END:VEVENT
BEGIN:VEVENT
DTSTART;TZID=America/Sao_Paulo:20251117T140000
DTEND;TZID=America/Sao_Paulo:20251117T140000
DTSTAMP:20260423T212810
CREATED:20250426T021851Z
LAST-MODIFIED:20251117T201935Z
UID:3516-1763388000-1763388000@casadoconsolador.com.br
SUMMARY:CONSULTA COM MESTRES ORIENTAIS – (NOITE)  / REIKI – (TARDE E NOITE) (Apenas quem mora na Grande São Paulo)
DESCRIPTION:ATIVIDADES DE 2a FEIRA – REIKI(Apenas quem já passou em consulta) – período da TARDE: \n14:00 – REIKI DISTRIBUIÇÃO DE FICHAS\n15:00 – INÍCIO EVANGELHO\n15:30  – REIKI \nATIVIDADES DE 2a FEIRA  CONSULTA COM OS MESTRES ORIENTAIS – período da NOITE: \n17:00 – ABERTURA DA CASA E DISTRIBUIÇÃO DE FICHAS \n17:00 ÁS 19:30 – ENTREGA DE FICHAS -CONSULTA COM OS MESTRES ORIENTAIS – QUESTÕES SAUDE EMOCIONAL. (NÃO PRECISA DE AGENDAMENTO) \n19:30 – INÍCIO DO EVANGELHO. \n20:00 – FEIXE QUÂNTICO (QUINZENAL)\n20:00 – REIKI (SEMANAL). \nReiki: Atendimento por ordem de chegada\, sem agendamento.
URL:https://casadoconsolador.com.br/evento/consulta-com-mestres-orientais-e-reiki-tarde-e-noite-18/
END:VEVENT
BEGIN:VEVENT
DTSTART;TZID=America/Sao_Paulo:20251118T140000
DTEND;TZID=America/Sao_Paulo:20251118T140000
DTSTAMP:20260423T212810
CREATED:20250426T022113Z
LAST-MODIFIED:20251111T132134Z
UID:3524-1763474400-1763474400@casadoconsolador.com.br
SUMMARY:CORRENTE DO DR. ESPANHOL (NOITE)  / CROMOTERAPIA – (TARDE E NOITE)
DESCRIPTION:ATIVIDADES DE 3a FEIRA – CROMOTERAPIA – período da tarde:\n14:00 – DISTRIBUIÇÃO DE FICHAS\n15:00 – INÍCIO EVANGELHO\n15:30 – PASSE\n15:30  – APLICAÇÃO DE CROMOTERAPIA (somente para quem já tem o tratamento prescrito) \nATIVIDADES DE 3a FEIRA – DR. ESPANHOL e CROMOTERAPIA – período da NOITE: \n17:00  –ABERTURA DA CASA E  DISTRIBUIÇÃO DE FICHAS \n17:00 ÀS 18:00 – ATENDIMENTO DR. ESPANHOL PCDs (NÃO É NECESSÁRIO AGENDAMENTO) \n19:30  – INÍCIO DO EVANGELHO \n20:00  – PASSE \n20:00 – ATENDIMENTO CROMOTERAPIA (somente para quem já tem o tratamento prescrito) \n20:00 – CIRURGIAS COM EQUIPE DO DR. ESPANHOL – ENTREGA DE FICHAS ATÉ 19:30 (somente para quem já passou em consulta e tem a cirurgia presencial)
URL:https://casadoconsolador.com.br/evento/corrente-do-dr-espanhol-e-cromoterapia-tarde-e-noite-18/
END:VEVENT
BEGIN:VEVENT
DTSTART;TZID=America/Sao_Paulo:20251119T170000
DTEND;TZID=America/Sao_Paulo:20251119T170000
DTSTAMP:20260423T212810
CREATED:20250426T022404Z
LAST-MODIFIED:20250714T201050Z
UID:3532-1763571600-1763571600@casadoconsolador.com.br
SUMMARY:XAMANISMO
DESCRIPTION:ATIVIDADES DE 4a FEIRA – XAMANISMO – período da NOITE:\n17 HS – ABERTURA DA CASA \, DISTRIBUIÇÃO DE FICHAS PARA A NOITE \n19:30 HS – PALESTRA \n20 HS – ATENDIMENTOS \nAtendimento individual por ordem de chegada\, sem agendamento.\nRoda de cura: Acontece na 4ª quarta-feira de cada mês. Para a Roda de cura\, trazer colchonete ou algo confortável para sentar.
URL:https://casadoconsolador.com.br/evento/xamanismo-30/
END:VEVENT
END:VCALENDAR