BEGIN:VCALENDAR
VERSION:2.0
PRODID:-//Casa do Consolador - ECPv6.15.17.1//NONSGML v1.0//EN
CALSCALE:GREGORIAN
METHOD:PUBLISH
X-ORIGINAL-URL:https://casadoconsolador.com.br
X-WR-CALDESC:Eventos para Casa do Consolador
REFRESH-INTERVAL;VALUE=DURATION:PT1H
X-Robots-Tag:noindex
X-PUBLISHED-TTL:PT1H
BEGIN:VTIMEZONE
TZID:America/Sao_Paulo
BEGIN:STANDARD
TZOFFSETFROM:-0300
TZOFFSETTO:-0300
TZNAME:-03
DTSTART:20250101T000000
END:STANDARD
END:VTIMEZONE
BEGIN:VEVENT
DTSTART;TZID=America/Sao_Paulo:20260829T000000
DTEND;TZID=America/Sao_Paulo:20260829T000000
DTSTAMP:20260423T190053
CREATED:20260103T011332Z
LAST-MODIFIED:20260103T011332Z
UID:4128-1787961600-1787961600@casadoconsolador.com.br
SUMMARY:IMERSÃO EAD APRENDIZES DA NOVA TERRA
DESCRIPTION:Mais informações em breve.
URL:https://casadoconsolador.com.br/evento/imersao-ead-aprendizes-da-nova-terra-2/
END:VEVENT
BEGIN:VEVENT
DTSTART;VALUE=DATE:20260905
DTEND;VALUE=DATE:20260906
DTSTAMP:20260423T190053
CREATED:20260329T235125Z
LAST-MODIFIED:20260329T235125Z
UID:4382-1788566400-1788652799@casadoconsolador.com.br
SUMMARY:NÃO HAVERÁ AULA
DESCRIPTION:NÃO HAVERÁ AULA
URL:https://casadoconsolador.com.br/evento/nao-havera-aula-5/
END:VEVENT
BEGIN:VEVENT
DTSTART;VALUE=DATE:20260907
DTEND;VALUE=DATE:20260908
DTSTAMP:20260423T190053
CREATED:20260119T195728Z
LAST-MODIFIED:20260119T195728Z
UID:4267-1788739200-1788825599@casadoconsolador.com.br
SUMMARY:NÃO HAVERÁ ATENDIMENTOS
DESCRIPTION:NÃO HAVERÁ ATENDIMENTOS
URL:https://casadoconsolador.com.br/evento/nao-havera-atendimentos-3/
END:VEVENT
BEGIN:VEVENT
DTSTART;TZID=America/Sao_Paulo:20261024T000000
DTEND;TZID=America/Sao_Paulo:20261024T000000
DTSTAMP:20260423T190053
CREATED:20260103T011441Z
LAST-MODIFIED:20260103T011441Z
UID:4130-1792800000-1792800000@casadoconsolador.com.br
SUMMARY:NOITE ITALIANA COM TEATRO
DESCRIPTION:Mais informações em breve.
URL:https://casadoconsolador.com.br/evento/noite-italiana-com-teatro/
END:VEVENT
BEGIN:VEVENT
DTSTART;VALUE=DATE:20261119
DTEND;VALUE=DATE:20261120
DTSTAMP:20260423T190053
CREATED:20260119T200615Z
LAST-MODIFIED:20260119T200615Z
UID:4271-1795046400-1795132799@casadoconsolador.com.br
SUMMARY:NÃO HAVERÁ ATENDIMENTOS
DESCRIPTION:NÃO HAVERÁ ATENDIMENTOS
URL:https://casadoconsolador.com.br/evento/nao-havera-atendimentos-5/
END:VEVENT
BEGIN:VEVENT
DTSTART;TZID=America/Sao_Paulo:20261207T000000
DTEND;TZID=America/Sao_Paulo:20261207T000000
DTSTAMP:20260423T190053
CREATED:20260103T011550Z
LAST-MODIFIED:20260103T011550Z
UID:4132-1796601600-1796601600@casadoconsolador.com.br
SUMMARY:SEMANA MENTORES DA CASA DO CONSOLADOR
DESCRIPTION:Mais informações em breve.
URL:https://casadoconsolador.com.br/evento/semana-mentores-da-casa-do-consolador/
END:VEVENT
BEGIN:VEVENT
DTSTART;TZID=America/Sao_Paulo:20261208T000000
DTEND;TZID=America/Sao_Paulo:20261208T000000
DTSTAMP:20260423T190053
CREATED:20260103T011628Z
LAST-MODIFIED:20260103T011628Z
UID:4134-1796688000-1796688000@casadoconsolador.com.br
SUMMARY:SEMANA MENTORES DA CASA DO CONSOLADOR
DESCRIPTION:Mais informações em breve.
URL:https://casadoconsolador.com.br/evento/semana-mentores-da-casa-do-consolador-2/
END:VEVENT
BEGIN:VEVENT
DTSTART;TZID=America/Sao_Paulo:20261209T000000
DTEND;TZID=America/Sao_Paulo:20261209T000000
DTSTAMP:20260423T190053
CREATED:20260103T011737Z
LAST-MODIFIED:20260103T011737Z
UID:4136-1796774400-1796774400@casadoconsolador.com.br
SUMMARY:SEMANA MENTORES DA CASA DO CONSOLADOR
DESCRIPTION:Mais informações em breve.
URL:https://casadoconsolador.com.br/evento/semana-mentores-da-casa-do-consolador-3/
END:VEVENT
BEGIN:VEVENT
DTSTART;TZID=America/Sao_Paulo:20261210T000000
DTEND;TZID=America/Sao_Paulo:20261210T000000
DTSTAMP:20260423T190053
CREATED:20260103T011836Z
LAST-MODIFIED:20260103T011836Z
UID:4138-1796860800-1796860800@casadoconsolador.com.br
SUMMARY:SEMANA MENTORES DA CASA DO CONSOLADOR
DESCRIPTION:Mais informações em breve.
URL:https://casadoconsolador.com.br/evento/semana-mentores-da-casa-do-consolador-4/
END:VEVENT
END:VCALENDAR