BEGIN:VCALENDAR
VERSION:2.0
PRODID:-//Casa do Consolador - ECPv6.15.17.1//NONSGML v1.0//EN
CALSCALE:GREGORIAN
METHOD:PUBLISH
X-WR-CALNAME:Casa do Consolador
X-ORIGINAL-URL:https://casadoconsolador.com.br
X-WR-CALDESC:Eventos para Casa do Consolador
REFRESH-INTERVAL;VALUE=DURATION:PT1H
X-Robots-Tag:noindex
X-PUBLISHED-TTL:PT1H
BEGIN:VTIMEZONE
TZID:America/Sao_Paulo
BEGIN:STANDARD
TZOFFSETFROM:-0300
TZOFFSETTO:-0300
TZNAME:-03
DTSTART:20250101T000000
END:STANDARD
END:VTIMEZONE
BEGIN:VEVENT
DTSTART;TZID=America/Sao_Paulo:20261208T000000
DTEND;TZID=America/Sao_Paulo:20261208T000000
DTSTAMP:20260423T174006
CREATED:20260103T011628Z
LAST-MODIFIED:20260103T011628Z
UID:4134-1796688000-1796688000@casadoconsolador.com.br
SUMMARY:SEMANA MENTORES DA CASA DO CONSOLADOR
DESCRIPTION:Mais informações em breve.
URL:https://casadoconsolador.com.br/evento/semana-mentores-da-casa-do-consolador-2/
END:VEVENT
BEGIN:VEVENT
DTSTART;TZID=America/Sao_Paulo:20261209T000000
DTEND;TZID=America/Sao_Paulo:20261209T000000
DTSTAMP:20260423T174006
CREATED:20260103T011737Z
LAST-MODIFIED:20260103T011737Z
UID:4136-1796774400-1796774400@casadoconsolador.com.br
SUMMARY:SEMANA MENTORES DA CASA DO CONSOLADOR
DESCRIPTION:Mais informações em breve.
URL:https://casadoconsolador.com.br/evento/semana-mentores-da-casa-do-consolador-3/
END:VEVENT
BEGIN:VEVENT
DTSTART;TZID=America/Sao_Paulo:20261210T000000
DTEND;TZID=America/Sao_Paulo:20261210T000000
DTSTAMP:20260423T174006
CREATED:20260103T011836Z
LAST-MODIFIED:20260103T011836Z
UID:4138-1796860800-1796860800@casadoconsolador.com.br
SUMMARY:SEMANA MENTORES DA CASA DO CONSOLADOR
DESCRIPTION:Mais informações em breve.
URL:https://casadoconsolador.com.br/evento/semana-mentores-da-casa-do-consolador-4/
END:VEVENT
END:VCALENDAR