BEGIN:VCALENDAR
VERSION:2.0
PRODID:-//Casa do Consolador - ECPv6.15.17.1//NONSGML v1.0//EN
CALSCALE:GREGORIAN
METHOD:PUBLISH
X-ORIGINAL-URL:https://casadoconsolador.com.br
X-WR-CALDESC:Eventos para Casa do Consolador
REFRESH-INTERVAL;VALUE=DURATION:PT1H
X-Robots-Tag:noindex
X-PUBLISHED-TTL:PT1H
BEGIN:VTIMEZONE
TZID:America/Sao_Paulo
BEGIN:STANDARD
TZOFFSETFROM:-0300
TZOFFSETTO:-0300
TZNAME:-03
DTSTART:20240101T000000
END:STANDARD
END:VTIMEZONE
BEGIN:VEVENT
DTSTART;TZID=America/Sao_Paulo:20250901T140000
DTEND;TZID=America/Sao_Paulo:20250901T140000
DTSTAMP:20260423T201202
CREATED:20250426T005547Z
LAST-MODIFIED:20250715T193845Z
UID:3423-1756735200-1756735200@casadoconsolador.com.br
SUMMARY:CONSULTA COM MESTRES ORIENTAIS E REIKI- TARDE E NOITE
DESCRIPTION:ATIVIDADES DE 2a FEIRA – REIKI – período da TARDE: \n14HS – REIKI DISTRIBUIÇÃO DE FICHAS\n15HS – INÍCIO EVANGELHO\n15:30 HS – REIKI \nATIVIDADES DE 2a FEIRA – CTD e MESTRES ORIENTAIS – período da NOITE: \n17HS – DISTRIBUIÇÃO DE FICHAS PARA OS ATENDIMENTOS. \n19HS – (QUINZENAL) CONSULTAS AGENDADAS CTD – questões de saúde \n19:30HS – INÍCIO DO EVANGELHO 20HS – CTD (QUINZENAL)\, FEIXE QUÂNTICO (QUINZENAL) e REIKI (SEMANAL) \n20HS – (QUINZENAL) CONSULTA AGENDADA COM MESTRES ORIENTAIS – questões emocionais \n20:30HS – FEIXE QUÂNTICO (QUINZENAL) \nConsulta com os Mestres Orientais: Para uma pessoa por agendamento (Shell y Ann não ministra as consultas) – Pré agendamento é obrigatório. \nReiki: Atendimento por ordem de chegada\, sem agendamento.
URL:https://casadoconsolador.com.br/evento/consulta-com-mestres-orientais-e-reiki-tarde-e-noite-7/
END:VEVENT
BEGIN:VEVENT
DTSTART;TZID=America/Sao_Paulo:20250902T140000
DTEND;TZID=America/Sao_Paulo:20250902T140000
DTSTAMP:20260423T201202
CREATED:20250426T005745Z
LAST-MODIFIED:20250715T193618Z
UID:3425-1756821600-1756821600@casadoconsolador.com.br
SUMMARY:CORRENTE DO DR. ESPANHOL E CROMOTERAPIA - TARDE E NOITE
DESCRIPTION:ATIVIDADES DE 3a FEIRA – CROMOTERAPIA – período da tarde:\n14HS – DISTRIBUIÇÃO DE FICHAS\n15HS – INÍCIO EVANGELHO\n15:30 HS – PASSE\n15:30 HS – APLICAÇÃO DE CROMOTERAPIA (só para quem já tem o tratamento prescrito) \nATIVIDADES DE 3a FEIRA – DR. ESPANHOL e CROMOTERAPIA – período da NOITE: \n17 HS – DISTRIBUIÇÃO DE FICHAS PARA A NOITE \n18:30 HS – ATENDIMENTO ESPANHOL PCDs \n19:30 HS – INÍCIO DO EVANGELHO \n19:30 HS – INÍCIO DAS CIRURGIAS PRESENCIAIS COM DR. ESPANHOL\n20 HS – PASSE \n20 HS – ATENDIMENTO CROMOTERAPIA (somente para quem já tem o tratamento prescrito ou já recebeu a devolução da consulta PCD) \nPré agendamento é obrigatório para consultas. \nCromoterapia: APENAS para as pessoas que receberam um encaminhamento pelos Guias da Casa.\nPara residentes da cidade de São Paulo – Sem agendamento.
URL:https://casadoconsolador.com.br/evento/corrente-do-dr-espanhol-e-cromoterapia-tarde-e-noite-7/
END:VEVENT
BEGIN:VEVENT
DTSTART;TZID=America/Sao_Paulo:20250903T170000
DTEND;TZID=America/Sao_Paulo:20250903T170000
DTSTAMP:20260423T201202
CREATED:20250426T010253Z
LAST-MODIFIED:20250715T193524Z
UID:3443-1756918800-1756918800@casadoconsolador.com.br
SUMMARY:XAMANISMO
DESCRIPTION:ATIVIDADES DE 4a FEIRA – XAMANISMO – período da NOITE:\n17 HS – ABERTURA DA CASA \, DISTRIBUIÇÃO DE FICHAS PARA A NOITE \n19:30 HS – PALESTRA \n20 HS – ATENDIMENTOS \nAtendimento individual por ordem de chegada\, sem agendamento.\nRoda de cura: Acontece na 4ª quarta-feira de cada mês. Para a Roda de cura\, trazer colchonete ou algo confortável para sentar.
URL:https://casadoconsolador.com.br/evento/xamanismo-19/
END:VEVENT
BEGIN:VEVENT
DTSTART;TZID=America/Sao_Paulo:20250904T170000
DTEND;TZID=America/Sao_Paulo:20250904T170000
DTSTAMP:20260423T201202
CREATED:20250426T010457Z
LAST-MODIFIED:20250715T193420Z
UID:3451-1757005200-1757005200@casadoconsolador.com.br
SUMMARY:UMBANDA
DESCRIPTION:ATIVIDADES DE 5a FEIRA – UMBANDA – período da NOITE:\n17 HS – ABERTURA DA CASA E DISTRIBUIÇÃO DE FICHAS PARA A NOITE – a distribuição será por ordem de chegada. \n19:30 HS – RITUAL DE ABERTURA \nQuintas-feiras das 17h. Para tomar passe e consulta com os guias – Por ordem de chegada\, sem agendamento. \n 
URL:https://casadoconsolador.com.br/evento/umbanda-18/
END:VEVENT
BEGIN:VEVENT
DTSTART;TZID=America/Sao_Paulo:20250906T130000
DTEND;TZID=America/Sao_Paulo:20250906T170000
DTSTAMP:20260423T201202
CREATED:20250426T004859Z
LAST-MODIFIED:20250426T004859Z
UID:3415-1757163600-1757178000@casadoconsolador.com.br
SUMMARY:CURSO APRENDIZES DA NOVA TERRA – PRESENCIAL
DESCRIPTION:CURSO SOMENTE PARA ALUNOS JÁ INSCRITOS – APRENDIZES DA NOVA TERRA \nO portão abre 13h e fecha as 14h para começo das aulas.
URL:https://casadoconsolador.com.br/evento/curso-aprendizes-da-nova-terra-presencial-9/
END:VEVENT
BEGIN:VEVENT
DTSTART;TZID=America/Sao_Paulo:20250908T140000
DTEND;TZID=America/Sao_Paulo:20250908T140000
DTSTAMP:20260423T201202
CREATED:20250426T010053Z
LAST-MODIFIED:20250715T193335Z
UID:3435-1757340000-1757340000@casadoconsolador.com.br
SUMMARY:CONSULTA COM MESTRES ORIENTAIS E REIKI- TARDE E NOITE
DESCRIPTION:ATIVIDADES DE 2a FEIRA – REIKI – período da TARDE: \n14HS – REIKI DISTRIBUIÇÃO DE FICHAS\n15HS – INÍCIO EVANGELHO\n15:30 HS – REIKI \nATIVIDADES DE 2a FEIRA – CTD e MESTRES ORIENTAIS – período da NOITE: \n17HS – DISTRIBUIÇÃO DE FICHAS PARA OS ATENDIMENTOS. \n19HS – (QUINZENAL) CONSULTAS AGENDADAS CTD – questões de saúde \n19:30HS – INÍCIO DO EVANGELHO 20HS – CTD (QUINZENAL)\, FEIXE QUÂNTICO (QUINZENAL) e REIKI (SEMANAL) \n20HS – (QUINZENAL) CONSULTA AGENDADA COM MESTRES ORIENTAIS – questões emocionais \n20:30HS – FEIXE QUÂNTICO (QUINZENAL) \nConsulta com os Mestres Orientais: Para uma pessoa por agendamento (Shell y Ann não ministra as consultas) – Pré agendamento é obrigatório. \nReiki: Atendimento por ordem de chegada\, sem agendamento.
URL:https://casadoconsolador.com.br/evento/consulta-com-mestres-orientais-e-reiki-tarde-e-noite-8/
END:VEVENT
BEGIN:VEVENT
DTSTART;TZID=America/Sao_Paulo:20250909T140000
DTEND;TZID=America/Sao_Paulo:20250909T140000
DTSTAMP:20260423T201202
CREATED:20250426T005909Z
LAST-MODIFIED:20250715T193234Z
UID:3427-1757426400-1757426400@casadoconsolador.com.br
SUMMARY:CORRENTE DO DR. ESPANHOL E CROMOTERAPIA - TARDE E NOITE
DESCRIPTION:ATIVIDADES DE 3a FEIRA – CROMOTERAPIA – período da tarde:\n14HS – DISTRIBUIÇÃO DE FICHAS\n15HS – INÍCIO EVANGELHO\n15:30 HS – PASSE\n15:30 HS – APLICAÇÃO DE CROMOTERAPIA (só para quem já tem o tratamento prescrito) \nATIVIDADES DE 3a FEIRA – DR. ESPANHOL e CROMOTERAPIA – período da NOITE: \n17 HS – DISTRIBUIÇÃO DE FICHAS PARA A NOITE \n18:30 HS – ATENDIMENTO ESPANHOL PCDs \n19:30 HS – INÍCIO DO EVANGELHO \n19:30 HS – INÍCIO DAS CIRURGIAS PRESENCIAIS COM DR. ESPANHOL\n20 HS – PASSE \n20 HS – ATENDIMENTO CROMOTERAPIA (somente para quem já tem o tratamento prescrito ou já recebeu a devolução da consulta PCD) \nPré agendamento é obrigatório para consultas. \nCromoterapia: APENAS para as pessoas que receberam um encaminhamento pelos Guias da Casa.\nPara residentes da cidade de São Paulo – Sem agendamento.
URL:https://casadoconsolador.com.br/evento/corrente-do-dr-espanhol-e-cromoterapia-tarde-e-noite-8/
END:VEVENT
BEGIN:VEVENT
DTSTART;TZID=America/Sao_Paulo:20250910T170000
DTEND;TZID=America/Sao_Paulo:20250910T170000
DTSTAMP:20260423T201202
CREATED:20250426T010317Z
LAST-MODIFIED:20250715T144822Z
UID:3445-1757523600-1757523600@casadoconsolador.com.br
SUMMARY:XAMANISMO
DESCRIPTION:ATIVIDADES DE 4a FEIRA – XAMANISMO – período da NOITE:\n17 HS – ABERTURA DA CASA \, DISTRIBUIÇÃO DE FICHAS PARA A NOITE \n19:30 HS – PALESTRA \n20 HS – ATENDIMENTOS \nAtendimento individual por ordem de chegada\, sem agendamento.\nRoda de cura: Acontece na 4ª quarta-feira de cada mês. Para a Roda de cura\, trazer colchonete ou algo confortável para sentar.
URL:https://casadoconsolador.com.br/evento/xamanismo-20/
END:VEVENT
BEGIN:VEVENT
DTSTART;TZID=America/Sao_Paulo:20250911T170000
DTEND;TZID=America/Sao_Paulo:20250911T170000
DTSTAMP:20260423T201202
CREATED:20250426T010536Z
LAST-MODIFIED:20250715T144628Z
UID:3453-1757610000-1757610000@casadoconsolador.com.br
SUMMARY:UMBANDA
DESCRIPTION:ATIVIDADES DE 5a FEIRA – UMBANDA – período da NOITE:\n17 HS – ABERTURA DA CASA E DISTRIBUIÇÃO DE FICHAS PARA A NOITE – a distribuição será por ordem de chegada. \n19:30 HS – RITUAL DE ABERTURA \nQuintas-feiras das 17h. Para tomar passe e consulta com os guias – Por ordem de chegada\, sem agendamento.
URL:https://casadoconsolador.com.br/evento/umbanda-19/
END:VEVENT
BEGIN:VEVENT
DTSTART;TZID=America/Sao_Paulo:20250913T120000
DTEND;TZID=America/Sao_Paulo:20250913T120000
DTSTAMP:20260423T201202
CREATED:20250426T005052Z
LAST-MODIFIED:20250715T144543Z
UID:3419-1757764800-1757764800@casadoconsolador.com.br
SUMMARY:DESOBSESSÃO
DESCRIPTION:APENAS para as pessoas que receberam um encaminhamento pelos Guias da Casa.\nSábado\, sem agendamento. \nO portão abre 12h para quem quiser apreciar nosso delicioso almoço na cantina e se acomodar com calma. \nOs assistidos devem chegar até as 13h30 e o portão será fechado às 13h50\, para darmos início aos trabalhos.
URL:https://casadoconsolador.com.br/evento/desobsessao-10/
END:VEVENT
BEGIN:VEVENT
DTSTART;TZID=America/Sao_Paulo:20250915T140000
DTEND;TZID=America/Sao_Paulo:20250915T140000
DTSTAMP:20260423T201202
CREATED:20250426T010109Z
LAST-MODIFIED:20250715T144439Z
UID:3437-1757944800-1757944800@casadoconsolador.com.br
SUMMARY:CONSULTA COM MESTRES ORIENTAIS E REIKI- TARDE E NOITE
DESCRIPTION:ATIVIDADES DE 2a FEIRA – REIKI – período da TARDE: \n14HS – REIKI DISTRIBUIÇÃO DE FICHAS\n15HS – INÍCIO EVANGELHO\n15:30 HS – REIKI \nATIVIDADES DE 2a FEIRA – CTD e MESTRES ORIENTAIS – período da NOITE: \n17HS – DISTRIBUIÇÃO DE FICHAS PARA OS ATENDIMENTOS. \n19HS – (QUINZENAL) CONSULTAS AGENDADAS CTD – questões de saúde \n19:30HS – INÍCIO DO EVANGELHO 20HS – CTD (QUINZENAL)\, FEIXE QUÂNTICO (QUINZENAL) e REIKI (SEMANAL) \n20HS – (QUINZENAL) CONSULTA AGENDADA COM MESTRES ORIENTAIS – questões emocionais \n20:30HS – FEIXE QUÂNTICO (QUINZENAL) \nConsulta com os Mestres Orientais: Para uma pessoa por agendamento (Shell y Ann não ministra as consultas) – Pré agendamento é obrigatório. \nReiki: Atendimento por ordem de chegada\, sem agendamento.
URL:https://casadoconsolador.com.br/evento/consulta-com-mestres-orientais-e-reiki-tarde-e-noite-9/
END:VEVENT
BEGIN:VEVENT
DTSTART;TZID=America/Sao_Paulo:20250916T140000
DTEND;TZID=America/Sao_Paulo:20250916T140000
DTSTAMP:20260423T201202
CREATED:20250426T005931Z
LAST-MODIFIED:20250715T144341Z
UID:3429-1758031200-1758031200@casadoconsolador.com.br
SUMMARY:CORRENTE DO DR. ESPANHOL E CROMOTERAPIA - TARDE E NOITE
DESCRIPTION:ATIVIDADES DE 3a FEIRA – CROMOTERAPIA – período da tarde:\n14HS – DISTRIBUIÇÃO DE FICHAS\n15HS – INÍCIO EVANGELHO\n15:30 HS – PASSE\n15:30 HS – APLICAÇÃO DE CROMOTERAPIA (só para quem já tem o tratamento prescrito) \nATIVIDADES DE 3a FEIRA – DR. ESPANHOL e CROMOTERAPIA – período da NOITE: \n17 HS – DISTRIBUIÇÃO DE FICHAS PARA A NOITE \n18:30 HS – ATENDIMENTO ESPANHOL PCDs \n19:30 HS – INÍCIO DO EVANGELHO \n19:30 HS – INÍCIO DAS CIRURGIAS PRESENCIAIS COM DR. ESPANHOL\n20 HS – PASSE \n20 HS – ATENDIMENTO CROMOTERAPIA (somente para quem já tem o tratamento prescrito ou já recebeu a devolução da consulta PCD) \nPré agendamento é obrigatório para consultas. \nCromoterapia: APENAS para as pessoas que receberam um encaminhamento pelos Guias da Casa.\nPara residentes da cidade de São Paulo – Sem agendamento.
URL:https://casadoconsolador.com.br/evento/corrente-do-dr-espanhol-e-cromoterapia-tarde-e-noite-9/
END:VEVENT
BEGIN:VEVENT
DTSTART;TZID=America/Sao_Paulo:20250917T170000
DTEND;TZID=America/Sao_Paulo:20250917T170000
DTSTAMP:20260423T201202
CREATED:20250426T010339Z
LAST-MODIFIED:20250715T144247Z
UID:3447-1758128400-1758128400@casadoconsolador.com.br
SUMMARY:XAMANISMO
DESCRIPTION:ATIVIDADES DE 4a FEIRA – XAMANISMO – período da NOITE:\n17 HS – ABERTURA DA CASA \, DISTRIBUIÇÃO DE FICHAS PARA A NOITE \n19:30 HS – PALESTRA \n20 HS – ATENDIMENTOS \nAtendimento individual por ordem de chegada\, sem agendamento.\nRoda de cura: Acontece na 4ª quarta-feira de cada mês. Para a Roda de cura\, trazer colchonete ou algo confortável para sentar.
URL:https://casadoconsolador.com.br/evento/xamanismo-21/
END:VEVENT
BEGIN:VEVENT
DTSTART;TZID=America/Sao_Paulo:20250918T170000
DTEND;TZID=America/Sao_Paulo:20250918T170000
DTSTAMP:20260423T201202
CREATED:20250426T010636Z
LAST-MODIFIED:20250715T144146Z
UID:3455-1758214800-1758214800@casadoconsolador.com.br
SUMMARY:UMBANDA
DESCRIPTION:ATIVIDADES DE 5a FEIRA – UMBANDA – período da NOITE:\n17 HS – ABERTURA DA CASA E DISTRIBUIÇÃO DE FICHAS PARA A NOITE – a distribuição será por ordem de chegada. \n19:30 HS – RITUAL DE ABERTURA \nQuintas-feiras das 17h. Para tomar passe e consulta com os guias – Por ordem de chegada\, sem agendamento.
URL:https://casadoconsolador.com.br/evento/umbanda-20/
END:VEVENT
BEGIN:VEVENT
DTSTART;TZID=America/Sao_Paulo:20250920T130000
DTEND;TZID=America/Sao_Paulo:20250920T170000
DTSTAMP:20260423T201202
CREATED:20250426T004946Z
LAST-MODIFIED:20250426T004946Z
UID:3417-1758373200-1758387600@casadoconsolador.com.br
SUMMARY:CURSO APRENDIZES DA NOVA TERRA – PRESENCIAL
DESCRIPTION:CURSO SOMENTE PARA ALUNOS JÁ INSCRITOS – APRENDIZES DA NOVA TERRA \nO portão abre 13h e fecha as 14h para começo das aulas.
URL:https://casadoconsolador.com.br/evento/curso-aprendizes-da-nova-terra-presencial-10/
END:VEVENT
BEGIN:VEVENT
DTSTART;TZID=America/Sao_Paulo:20250922T140000
DTEND;TZID=America/Sao_Paulo:20250922T140000
DTSTAMP:20260423T201202
CREATED:20250426T010128Z
LAST-MODIFIED:20250715T144028Z
UID:3439-1758549600-1758549600@casadoconsolador.com.br
SUMMARY:CONSULTA COM MESTRES ORIENTAIS E REIKI- TARDE E NOITE
DESCRIPTION:ATIVIDADES DE 2a FEIRA – REIKI – período da TARDE: \n14HS – REIKI DISTRIBUIÇÃO DE FICHAS\n15HS – INÍCIO EVANGELHO\n15:30 HS – REIKI \nATIVIDADES DE 2a FEIRA – CTD e MESTRES ORIENTAIS – período da NOITE: \n17HS – DISTRIBUIÇÃO DE FICHAS PARA OS ATENDIMENTOS. \n19HS – (QUINZENAL) CONSULTAS AGENDADAS CTD – questões de saúde \n19:30HS – INÍCIO DO EVANGELHO 20HS – CTD (QUINZENAL)\, FEIXE QUÂNTICO (QUINZENAL) e REIKI (SEMANAL) \n20HS – (QUINZENAL) CONSULTA AGENDADA COM MESTRES ORIENTAIS – questões emocionais \n20:30HS – FEIXE QUÂNTICO (QUINZENAL) \nConsulta com os Mestres Orientais: Para uma pessoa por agendamento (Shell y Ann não ministra as consultas) – Pré agendamento é obrigatório. \nReiki: Atendimento por ordem de chegada\, sem agendamento.
URL:https://casadoconsolador.com.br/evento/consulta-com-mestres-orientais-e-reiki-tarde-e-noite-10/
END:VEVENT
BEGIN:VEVENT
DTSTART;TZID=America/Sao_Paulo:20250923T140000
DTEND;TZID=America/Sao_Paulo:20250923T140000
DTSTAMP:20260423T201202
CREATED:20250426T005948Z
LAST-MODIFIED:20250715T143847Z
UID:3431-1758636000-1758636000@casadoconsolador.com.br
SUMMARY:CORRENTE DO DR. ESPANHOL E CROMOTERAPIA - TARDE E NOITE
DESCRIPTION:ATIVIDADES DE 3a FEIRA – CROMOTERAPIA – período da tarde:\n14HS – DISTRIBUIÇÃO DE FICHAS\n15HS – INÍCIO EVANGELHO\n15:30 HS – PASSE\n15:30 HS – APLICAÇÃO DE CROMOTERAPIA (só para quem já tem o tratamento prescrito) \nATIVIDADES DE 3a FEIRA – DR. ESPANHOL e CROMOTERAPIA – período da NOITE: \n17 HS – DISTRIBUIÇÃO DE FICHAS PARA A NOITE \n18:30 HS – ATENDIMENTO ESPANHOL PCDs \n19:30 HS – INÍCIO DO EVANGELHO \n19:30 HS – INÍCIO DAS CIRURGIAS PRESENCIAIS COM DR. ESPANHOL\n20 HS – PASSE \n20 HS – ATENDIMENTO CROMOTERAPIA (somente para quem já tem o tratamento prescrito ou já recebeu a devolução da consulta PCD) \nPré agendamento é obrigatório para consultas. \nCromoterapia: APENAS para as pessoas que receberam um encaminhamento pelos Guias da Casa.\nPara residentes da cidade de São Paulo – Sem agendamento.
URL:https://casadoconsolador.com.br/evento/corrente-do-dr-espanhol-e-cromoterapia-tarde-e-noite-10/
END:VEVENT
BEGIN:VEVENT
DTSTART;TZID=America/Sao_Paulo:20250924T170000
DTEND;TZID=America/Sao_Paulo:20250924T170000
DTSTAMP:20260423T201202
CREATED:20250426T010400Z
LAST-MODIFIED:20250715T143708Z
UID:3449-1758733200-1758733200@casadoconsolador.com.br
SUMMARY:XAMANISMO
DESCRIPTION:ATIVIDADES DE 4a FEIRA – XAMANISMO – período da NOITE:\n17 HS – ABERTURA DA CASA \, DISTRIBUIÇÃO DE FICHAS PARA A NOITE \n19:30 HS – PALESTRA \n20 HS – ATENDIMENTOS \nAtendimento individual por ordem de chegada\, sem agendamento.\nRoda de cura: Acontece na 4ª quarta-feira de cada mês. Para a Roda de cura\, trazer colchonete ou algo confortável para sentar.
URL:https://casadoconsolador.com.br/evento/xamanismo-22/
END:VEVENT
BEGIN:VEVENT
DTSTART;TZID=America/Sao_Paulo:20250925T170000
DTEND;TZID=America/Sao_Paulo:20250925T170000
DTSTAMP:20260423T201202
CREATED:20250426T010928Z
LAST-MODIFIED:20250715T143215Z
UID:3457-1758819600-1758819600@casadoconsolador.com.br
SUMMARY:UMBANDA
DESCRIPTION:ATIVIDADES DE 5a FEIRA – UMBANDA – período da NOITE:\n17 HS – ABERTURA DA CASA E DISTRIBUIÇÃO DE FICHAS PARA A NOITE – a distribuição será por ordem de chegada. \n19:30 HS – RITUAL DE ABERTURA \nQuintas-feiras das 17h. Para tomar passe e consulta com os guias – Por ordem de chegada\, sem agendamento.
URL:https://casadoconsolador.com.br/evento/umbanda-21/
END:VEVENT
BEGIN:VEVENT
DTSTART;TZID=America/Sao_Paulo:20250927T120000
DTEND;TZID=America/Sao_Paulo:20250927T120000
DTSTAMP:20260423T201202
CREATED:20250426T005131Z
LAST-MODIFIED:20250715T143109Z
UID:3421-1758974400-1758974400@casadoconsolador.com.br
SUMMARY:DESOBSESSÃO
DESCRIPTION:APENAS para as pessoas que receberam um encaminhamento pelos Guias da Casa.\nSábado\, sem agendamento. \nO portão abre 12h para quem quiser apreciar nosso delicioso almoço na cantina e se acomodar com calma. \nOs assistidos devem chegar até as 13h30 e o portão será fechado às 13h50\, para darmos início aos trabalhos.
URL:https://casadoconsolador.com.br/evento/desobsessao-11/
END:VEVENT
BEGIN:VEVENT
DTSTART;TZID=America/Sao_Paulo:20250929T140000
DTEND;TZID=America/Sao_Paulo:20250929T140000
DTSTAMP:20260423T201202
CREATED:20250426T010150Z
LAST-MODIFIED:20250930T003212Z
UID:3441-1759154400-1759154400@casadoconsolador.com.br
SUMMARY:Consulta para cirurgia com os ETs - CTD (equipe da Shell) E REIKI- TARDE E NOITE
DESCRIPTION:ATIVIDADES DE 2a FEIRA – REIKI – período da TARDE: \n14HS – REIKI DISTRIBUIÇÃO DE FICHAS\n15HS – INÍCIO EVANGELHO\n15:30 HS – REIKI \nATIVIDADES DE 2a FEIRA – CTD com ETs – período da NOITE: \n17HS – DISTRIBUIÇÃO DE FICHAS PARA OS ATENDIMENTOS. \n19HS – (QUINZENAL) CONSULTAS AGENDADAS CTD – questões de saúde \n19:30HS – INÍCIO DO EVANGELHO 20HS – CTD (QUINZENAL)\, FEIXE QUÂNTICO (QUINZENAL) e REIKI (SEMANAL) \n20:30HS – FEIXE QUÂNTICO (QUINZENAL) \nReiki: Atendimento por ordem de chegada\, sem agendamento.
URL:https://casadoconsolador.com.br/evento/consulta-com-mestres-orientais-e-reiki-tarde-e-noite-11/
END:VEVENT
BEGIN:VEVENT
DTSTART;TZID=America/Sao_Paulo:20250930T140000
DTEND;TZID=America/Sao_Paulo:20250930T140000
DTSTAMP:20260423T201202
CREATED:20250426T010008Z
LAST-MODIFIED:20250715T142909Z
UID:3433-1759240800-1759240800@casadoconsolador.com.br
SUMMARY:CORRENTE DO DR. ESPANHOL E CROMOTERAPIA - TARDE E NOITE
DESCRIPTION:ATIVIDADES DE 3a FEIRA – CROMOTERAPIA – período da tarde:\n14HS – DISTRIBUIÇÃO DE FICHAS\n15HS – INÍCIO EVANGELHO\n15:30 HS – PASSE\n15:30 HS – APLICAÇÃO DE CROMOTERAPIA (só para quem já tem o tratamento prescrito) \nATIVIDADES DE 3a FEIRA – DR. ESPANHOL e CROMOTERAPIA – período da NOITE: \n17 HS – DISTRIBUIÇÃO DE FICHAS PARA A NOITE \n18:30 HS – ATENDIMENTO ESPANHOL PCDs \n19:30 HS – INÍCIO DO EVANGELHO \n19:30 HS – INÍCIO DAS CIRURGIAS PRESENCIAIS COM DR. ESPANHOL\n20 HS – PASSE \n20 HS – ATENDIMENTO CROMOTERAPIA (somente para quem já tem o tratamento prescrito ou já recebeu a devolução da consulta PCD) \nPré agendamento é obrigatório para consultas. \nCromoterapia: APENAS para as pessoas que receberam um encaminhamento pelos Guias da Casa.\nPara residentes da cidade de São Paulo – Sem agendamento.
URL:https://casadoconsolador.com.br/evento/corrente-do-dr-espanhol-e-cromoterapia-tarde-e-noite-11/
END:VEVENT
END:VCALENDAR