BEGIN:VCALENDAR
VERSION:2.0
PRODID:-//Casa do Consolador - ECPv6.15.17.1//NONSGML v1.0//EN
CALSCALE:GREGORIAN
METHOD:PUBLISH
X-WR-CALNAME:Casa do Consolador
X-ORIGINAL-URL:https://casadoconsolador.com.br
X-WR-CALDESC:Eventos para Casa do Consolador
REFRESH-INTERVAL;VALUE=DURATION:PT1H
X-Robots-Tag:noindex
X-PUBLISHED-TTL:PT1H
BEGIN:VTIMEZONE
TZID:America/Sao_Paulo
BEGIN:STANDARD
TZOFFSETFROM:-0300
TZOFFSETTO:-0300
TZNAME:-03
DTSTART:20250101T000000
END:STANDARD
END:VTIMEZONE
BEGIN:VEVENT
DTSTART;TZID=America/Sao_Paulo:20260119T170000
DTEND;TZID=America/Sao_Paulo:20260119T200000
DTSTAMP:20260423T144016
CREATED:20260102T232511Z
LAST-MODIFIED:20260119T192726Z
UID:4077-1768842000-1768852800@casadoconsolador.com.br
SUMMARY:CONSULTA COM EQUIPE SHELL Y ANN – (NOITE)  / REIKI – (NOITE) (Apenas quem mora na Grande São Paulo)
DESCRIPTION:AS ATIVIDADES DO PERÍODO DA TARDE\, RETORNARÃO EM 02/02/2026 \n  \n  \nATIVIDADES DE 2a FEIRA  CONSULTA EQUIPE SHELL Y ANN – período da NOITE: \n17:00 – ABERTURA DA CASA E DISTRIBUIÇÃO DE FICHAS \n19:30 – INÍCIO DO EVANGELHO. \n20:00 – FEIXE QUÂNTICO (QUINZENAL)\n20:00 – REIKI (SEMANAL) \n  \n. DAS 17:00 ÀS 18:30hr – Distribuição de Fichas – Consulta com Equipe Shell y Ann:  –  Questões Física e Emocional \n. Cirurgia com os Ets – Equipe Shell y Ann (CTD): Estar na Casa até às 19:00hr (SOMENTE PARA QUEM JÁ PASSOU EM CONSULTA)
URL:https://casadoconsolador.com.br/evento/consulta-com-mestres-orientais-noite-reiki-tarde-e-noite-apenas-quem-mora-na-grande-sao-paulo/
END:VEVENT
BEGIN:VEVENT
DTSTART;TZID=America/Sao_Paulo:20260120T170000
DTEND;TZID=America/Sao_Paulo:20260120T200000
DTSTAMP:20260423T144016
CREATED:20260102T232820Z
LAST-MODIFIED:20260116T141130Z
UID:4079-1768928400-1768939200@casadoconsolador.com.br
SUMMARY:CORRENTE DO DR. ESPANHOL E CROMOTERAPIA - NOITE
DESCRIPTION:AS ATIVIDADES DO PERÍODO DA TARDE\, RETORNARÃO EM 02/02/2026 \n  \n  \nCorrente do Dr. Espanhol: Chegar às 17h00 para o preparo antes do evangelho – Pré agendamento é obrigatório. \n\nDAS 17:00 ÀS 18:00hrs – Distribuição de Fichas – Consulta com o Dr. Espanhol\nCIRURGIA DR ESPANHOL – Estar na Casa até às 19:30hrs (SOMENTE PARA QUEM JÁ PASSOU EM CONSULTA)\n\nCromoterapia: APENAS para as pessoas que receberam um encaminhamento pelos Guias da Casa.\nPara residentes da cidade de São Paulo. Período noturno para Cromoterapia\, sem agendamento.
URL:https://casadoconsolador.com.br/evento/corrente-do-dr-espanhol-e-cromoterapia-tarde-e-noite-22/
END:VEVENT
BEGIN:VEVENT
DTSTART;TZID=America/Sao_Paulo:20260121T170000
DTEND;TZID=America/Sao_Paulo:20260121T200000
DTSTAMP:20260423T144016
CREATED:20260102T232908Z
LAST-MODIFIED:20260102T232908Z
UID:4081-1769014800-1769025600@casadoconsolador.com.br
SUMMARY:XAMANISMO
DESCRIPTION:Quartas-feiras das 17h00 até 20h\, com palestra às 19h. Atendimento individual por ordem de chegada\, sem agendamento.\nRoda de cura: Acontece na 4ª quarta-feira de cada mês. Para a Roda de cura\, trazer colchonete ou algo confortável para sentar.
URL:https://casadoconsolador.com.br/evento/xamanismo-34/
END:VEVENT
BEGIN:VEVENT
DTSTART;TZID=America/Sao_Paulo:20260122T170000
DTEND;TZID=America/Sao_Paulo:20260122T200000
DTSTAMP:20260423T144016
CREATED:20260102T233113Z
LAST-MODIFIED:20260102T233113Z
UID:4083-1769101200-1769112000@casadoconsolador.com.br
SUMMARY:UMBANDA
DESCRIPTION:ATIVIDADES DE 5a FEIRA – UMBANDA – período da NOITE:\n17 HS – ABERTURA DA CASA E DISTRIBUIÇÃO DE FICHAS PARA A NOITE – a distribuição será por ordem de chegada até às 20 HS \n19:30 HS – RITUAL DE ABERTURA \nQuintas-feiras das 17h. Para tomar passe e consulta com os guias – Por ordem de chegada\, sem agendamento.
URL:https://casadoconsolador.com.br/evento/umbanda-32/
END:VEVENT
BEGIN:VEVENT
DTSTART;TZID=America/Sao_Paulo:20260124T120000
DTEND;TZID=America/Sao_Paulo:20260124T163000
DTSTAMP:20260423T144016
CREATED:20260102T233226Z
LAST-MODIFIED:20260115T134332Z
UID:4085-1769256000-1769272200@casadoconsolador.com.br
SUMMARY:DESOBSESSÃO
DESCRIPTION:APENAS para as pessoas que receberam um encaminhamento pelos Guias da Casa.\nSábado\, sem agendamento. \nO portão abre 12h para quem quiser apreciar nosso delicioso almoço na cantina e se acomodar com calma. \nOs assistidos devem chegar até as 13h30 e o portão será fechado às 13h50\, para darmos início aos trabalhos.
URL:https://casadoconsolador.com.br/evento/curso-aprendizes-da-nova-terra-presencial-15/
END:VEVENT
BEGIN:VEVENT
DTSTART;TZID=America/Sao_Paulo:20260126T170000
DTEND;TZID=America/Sao_Paulo:20260126T200000
DTSTAMP:20260423T144016
CREATED:20260102T233654Z
LAST-MODIFIED:20260116T141116Z
UID:4087-1769446800-1769457600@casadoconsolador.com.br
SUMMARY:CONSULTA COM MESTRES ORIENTAIS – (NOITE)  / REIKI – (NOITE) (Apenas quem mora na Grande São Paulo)
DESCRIPTION:AS ATIVIDADES DO PERÍODO DA TARDE\, RETORNARÃO EM 02/02/2026 \n  \n  \nATIVIDADES DE 2a FEIRA  CONSULTA COM OS MESTRES ORIENTAIS – período da NOITE: \n17:00 – ABERTURA DA CASA E DISTRIBUIÇÃO DE FICHAS \n17:00 ÁS 19:30 – ENTREGA DE FICHAS -CONSULTA COM OS MESTRES ORIENTAIS – QUESTÕES SAUDE EMOCIONAL. (NÃO PRECISA DE AGENDAMENTO)CONSULTA COM MESTRES ORIENTAIS – (NOITE) / REIKI – (TARDE E NOITE) (Apenas quem mora na Grande São Paulo) \n19:30 – INÍCIO DO EVANGELHO. \n20:00 – FEIXE QUÂNTICO (QUINZENAL)\n20:00 – REIKI (SEMANAL)
URL:https://casadoconsolador.com.br/evento/consulta-com-mestres-orientais-noite-reiki-tarde-e-noite-apenas-quem-mora-na-grande-sao-paulo-2/
END:VEVENT
BEGIN:VEVENT
DTSTART;TZID=America/Sao_Paulo:20260127T170000
DTEND;TZID=America/Sao_Paulo:20260127T200000
DTSTAMP:20260423T144016
CREATED:20260102T233741Z
LAST-MODIFIED:20260116T141041Z
UID:4089-1769533200-1769544000@casadoconsolador.com.br
SUMMARY:CORRENTE DO DR. ESPANHOL E CROMOTERAPIA -  NOITE
DESCRIPTION:AS ATIVIDADES DO PERÍODO DA TARDE\, RETORNARÃO EM 02/02/2026 \n  \nCorrente do Dr. Espanhol: Chegar às 17h00 para o preparo antes do evangelho – Pré agendamento é obrigatório. \n\nDAS 17:00 ÀS 18:00hrs – Distribuição de Fichas – Consulta com o Dr. Espanhol\nCIRURGIA DR ESPANHOL – Estar na Casa até às 19:30hrs (SOMENTE PARA QUEM JÁ PASSOU EM CONSULTA)\n\nCromoterapia: APENAS para as pessoas que receberam um encaminhamento pelos Guias da Casa.\nPara residentes da cidade de São Paulo. Período noturno (17H) para Cromoterapia\, sem agendamento. \n 
URL:https://casadoconsolador.com.br/evento/corrente-do-dr-espanhol-e-cromoterapia-tarde-e-noite-23/
END:VEVENT
BEGIN:VEVENT
DTSTART;TZID=America/Sao_Paulo:20260128T170000
DTEND;TZID=America/Sao_Paulo:20260128T200000
DTSTAMP:20260423T144016
CREATED:20260102T233935Z
LAST-MODIFIED:20260102T233935Z
UID:4092-1769619600-1769630400@casadoconsolador.com.br
SUMMARY:XAMANISMO
DESCRIPTION:Quartas-feiras das 17h00 até 20h\, com palestra às 19h. Atendimento individual por ordem de chegada\, sem agendamento.\nRoda de cura: Acontece na 4ª quarta-feira de cada mês. Para a Roda de cura\, trazer colchonete ou algo confortável para sentar.
URL:https://casadoconsolador.com.br/evento/xamanismo-35/
END:VEVENT
BEGIN:VEVENT
DTSTART;TZID=America/Sao_Paulo:20260129T170000
DTEND;TZID=America/Sao_Paulo:20260129T200000
DTSTAMP:20260423T144016
CREATED:20260102T234046Z
LAST-MODIFIED:20260102T234046Z
UID:4094-1769706000-1769716800@casadoconsolador.com.br
SUMMARY:UMBANDA
DESCRIPTION:ATIVIDADES DE 5a FEIRA – UMBANDA – período da NOITE:\n17 HS – ABERTURA DA CASA E DISTRIBUIÇÃO DE FICHAS PARA A NOITE – a distribuição será por ordem de chegada até às 20 HS \n19:30 HS – RITUAL DE ABERTURA \nQuintas-feiras das 17h. Para tomar passe e consulta com os guias – Por ordem de chegada\, sem agendamento.
URL:https://casadoconsolador.com.br/evento/umbanda-33/
END:VEVENT
BEGIN:VEVENT
DTSTART;TZID=America/Sao_Paulo:20260131T000000
DTEND;TZID=America/Sao_Paulo:20260131T000000
DTSTAMP:20260423T144016
CREATED:20260103T010739Z
LAST-MODIFIED:20260103T010739Z
UID:4120-1769817600-1769817600@casadoconsolador.com.br
SUMMARY:IMERSÃO EAD APRENDIZES DA NOVA TERRA
DESCRIPTION:Mais informações em breve.
URL:https://casadoconsolador.com.br/evento/imersao-ead-aprendizes-da-nova-terra/
END:VEVENT
END:VCALENDAR