BEGIN:VCALENDAR
VERSION:2.0
PRODID:-//Casa do Consolador - ECPv6.15.17.1//NONSGML v1.0//EN
CALSCALE:GREGORIAN
METHOD:PUBLISH
X-WR-CALNAME:Casa do Consolador
X-ORIGINAL-URL:https://casadoconsolador.com.br
X-WR-CALDESC:Eventos para Casa do Consolador
REFRESH-INTERVAL;VALUE=DURATION:PT1H
X-Robots-Tag:noindex
X-PUBLISHED-TTL:PT1H
BEGIN:VTIMEZONE
TZID:America/Sao_Paulo
BEGIN:STANDARD
TZOFFSETFROM:-0300
TZOFFSETTO:-0300
TZNAME:-03
DTSTART:20250101T000000
END:STANDARD
END:VTIMEZONE
BEGIN:VEVENT
DTSTART;TZID=America/Sao_Paulo:20260423T170000
DTEND;TZID=America/Sao_Paulo:20260423T200000
DTSTAMP:20260423T115705
CREATED:20260330T023700Z
LAST-MODIFIED:20260330T023700Z
UID:4404-1776963600-1776974400@casadoconsolador.com.br
SUMMARY:UMBANDA
DESCRIPTION:ATIVIDADES DE 5a FEIRA – UMBANDA – período da NOITE:\n17 HS – ABERTURA DA CASA E DISTRIBUIÇÃO DE FICHAS PARA A NOITE – a distribuição será por ordem de chegada até às 20 HS \n19:30 HS – RITUAL DE ABERTURA \nQuintas-feiras das 17h. Para tomar passe e consulta com os guias – Por ordem de chegada\, sem agendamento.
URL:https://casadoconsolador.com.br/evento/umbanda-44/
END:VEVENT
BEGIN:VEVENT
DTSTART;TZID=America/Sao_Paulo:20260425T120000
DTEND;TZID=America/Sao_Paulo:20260425T163000
DTSTAMP:20260423T115705
CREATED:20260330T024416Z
LAST-MODIFIED:20260330T024416Z
UID:4406-1777118400-1777134600@casadoconsolador.com.br
SUMMARY:DESOBSESSÃO
DESCRIPTION:APENAS para as pessoas que receberam um encaminhamento pelos Guias da Casa.\nSábado\, sem agendamento. \nO portão abre 12h para quem quiser apreciar nosso delicioso almoço na cantina e se acomodar com calma. \nOs assistidos devem chegar até as 13h30 e o portão será fechado às 13h50\, para darmos início aos trabalhos. \n2º  E 4º SÁBADO
URL:https://casadoconsolador.com.br/evento/desobsessao-19/
END:VEVENT
BEGIN:VEVENT
DTSTART;TZID=America/Sao_Paulo:20260427T140000
DTEND;TZID=America/Sao_Paulo:20260427T200000
DTSTAMP:20260423T115705
CREATED:20260330T024914Z
LAST-MODIFIED:20260330T024914Z
UID:4408-1777298400-1777320000@casadoconsolador.com.br
SUMMARY:CONSULTA COM EQUIPE SHELL Y ANN – (NOITE)  / REIKI – (TARDE E NOITE) (Apenas quem mora na Grande São Paulo)
DESCRIPTION:ATIVIDADES DE 2a FEIRA – REIKI (Apenas quem já passou em consulta) – período da TARDE: \n14:00 – ABERTURA DA CASA E DISTRIBUIÇÃO DE FICHAS (PARA QUEM JÁ PASSOU NA CONSULTA)\n14:30 – INÍCIO EVANGELHO\n15:00  – INÍCIO DO TRATAMENTO – REIKI \nATIVIDADES DE 2a FEIRA  CONSULTA COM EQUIPE SHELL Y ANN – período da NOITE: \n17:00 – ABERTURA DA CASA E DISTRIBUIÇÃO DE FICHAS \n17:00 ÀS 18:30hr – Distribuição de Fichas – Consulta com Equipe Shell y Ann:  –  Questões Física e Emocional \n19:30 – INÍCIO DO EVANGELHO. \n20:00 – FEIXE QUÂNTICO (QUINZENAL)\n20:00 – REIKI (SEMANAL) \n. Cirurgia com os Ets – Equipe Shell y Ann (CTD): Estar na Casa até às 19:00hr (SOMENTE PARA QUEM JÁ PASSOU EM CONSULTA) \n 
URL:https://casadoconsolador.com.br/evento/consulta-com-equipe-shell-y-ann-noite-reiki-tarde-e-noite-apenas-quem-mora-na-grande-sao-paulo-2/
END:VEVENT
BEGIN:VEVENT
DTSTART;TZID=America/Sao_Paulo:20260428T140000
DTEND;TZID=America/Sao_Paulo:20260428T200000
DTSTAMP:20260423T115705
CREATED:20260330T024957Z
LAST-MODIFIED:20260330T024957Z
UID:4410-1777384800-1777406400@casadoconsolador.com.br
SUMMARY:CORRENTE DO DR. ESPANHOL E CROMOTERAPIA - TARDE E NOITE
DESCRIPTION:Corrente do Dr. Espanhol: Chegar às 14H para o preparo antes do evangelho \nATIVIDADES DE 3a FEIRA – CROMOTERAPIA (Apenas quem já passou em consulta) – período da TARDE: \n14:00 – ABERTURA DA CASA E DISTRIBUIÇÃO DE FICHAS (PARA QUEM JÁ PASSOU NA CONSULTA)\n14:30 – INÍCIO EVANGELHO\n15:00  – INÍCIO DO TRATAMENTO – CROMOTERAPIA \nATIVIDADES DE 3a FEIRA  – período da NOITE: \n17:00 ÀS 18:00hrs – Distribuição de Fichas – Consulta com o Dr. Espanhol \n\nCIRURGIA DR ESPANHOL – Estar na Casa até às 19:30hrs (SOMENTE PARA QUEM JÁ PASSOU EM CONSULTA)\n\nCromoterapia: APENAS para as pessoas que receberam um encaminhamento pelos Guias da Casa.\nPara residentes da cidade de São Paulo. Período da tarde  (14H)  e período noturno (17H)  para Cromoterapia\, sem agendamento.
URL:https://casadoconsolador.com.br/evento/corrente-do-dr-espanhol-e-cromoterapia-tarde-e-noite-35/
END:VEVENT
BEGIN:VEVENT
DTSTART;TZID=America/Sao_Paulo:20260429T170000
DTEND;TZID=America/Sao_Paulo:20260429T200000
DTSTAMP:20260423T115705
CREATED:20260330T025038Z
LAST-MODIFIED:20260330T025038Z
UID:4412-1777482000-1777492800@casadoconsolador.com.br
SUMMARY:XAMANISMO
DESCRIPTION:Quartas-feiras das 17h00 até 20h\, com palestra às 19h. Atendimento individual por ordem de chegada\, sem agendamento.\nRoda de cura: Acontece na 4ª quarta-feira de cada mês. Para a Roda de cura\, trazer colchonete ou algo confortável para sentar. \n 
URL:https://casadoconsolador.com.br/evento/xamanismo-48/
END:VEVENT
BEGIN:VEVENT
DTSTART;TZID=America/Sao_Paulo:20260430T170000
DTEND;TZID=America/Sao_Paulo:20260430T200000
DTSTAMP:20260423T115705
CREATED:20260330T025124Z
LAST-MODIFIED:20260330T025124Z
UID:4414-1777568400-1777579200@casadoconsolador.com.br
SUMMARY:UMBANDA
DESCRIPTION:ATIVIDADES DE 5a FEIRA – UMBANDA – período da NOITE:\n17 HS – ABERTURA DA CASA E DISTRIBUIÇÃO DE FICHAS PARA A NOITE – a distribuição será por ordem de chegada até às 20 HS \n19:30 HS – RITUAL DE ABERTURA \nQuintas-feiras das 17h. Para tomar passe e consulta com os guias – Por ordem de chegada\, sem agendamento.
URL:https://casadoconsolador.com.br/evento/umbanda-45/
END:VEVENT
END:VCALENDAR